BEGIN:VCALENDAR
VERSION:2.0
PRODID:-//Archaeological Institute of America - ECPv6.15.20//NONSGML v1.0//EN
CALSCALE:GREGORIAN
METHOD:PUBLISH
X-ORIGINAL-URL:https://www.archaeological.org
X-WR-CALDESC:Events for Archaeological Institute of America
REFRESH-INTERVAL;VALUE=DURATION:PT1H
X-Robots-Tag:noindex
X-PUBLISHED-TTL:PT1H
BEGIN:VTIMEZONE
TZID:America/Chicago
BEGIN:DAYLIGHT
TZOFFSETFROM:-0600
TZOFFSETTO:-0500
TZNAME:CDT
DTSTART:20210314T080000
END:DAYLIGHT
BEGIN:STANDARD
TZOFFSETFROM:-0500
TZOFFSETTO:-0600
TZNAME:CST
DTSTART:20211107T070000
END:STANDARD
BEGIN:DAYLIGHT
TZOFFSETFROM:-0600
TZOFFSETTO:-0500
TZNAME:CDT
DTSTART:20220313T080000
END:DAYLIGHT
BEGIN:STANDARD
TZOFFSETFROM:-0500
TZOFFSETTO:-0600
TZNAME:CST
DTSTART:20221106T070000
END:STANDARD
BEGIN:DAYLIGHT
TZOFFSETFROM:-0600
TZOFFSETTO:-0500
TZNAME:CDT
DTSTART:20230312T080000
END:DAYLIGHT
BEGIN:STANDARD
TZOFFSETFROM:-0500
TZOFFSETTO:-0600
TZNAME:CST
DTSTART:20231105T070000
END:STANDARD
BEGIN:DAYLIGHT
TZOFFSETFROM:-0600
TZOFFSETTO:-0500
TZNAME:CDT
DTSTART:20240310T080000
END:DAYLIGHT
BEGIN:STANDARD
TZOFFSETFROM:-0500
TZOFFSETTO:-0600
TZNAME:CST
DTSTART:20241103T070000
END:STANDARD
BEGIN:DAYLIGHT
TZOFFSETFROM:-0600
TZOFFSETTO:-0500
TZNAME:CDT
DTSTART:20250309T080000
END:DAYLIGHT
BEGIN:STANDARD
TZOFFSETFROM:-0500
TZOFFSETTO:-0600
TZNAME:CST
DTSTART:20251102T070000
END:STANDARD
END:VTIMEZONE
BEGIN:VTIMEZONE
TZID:America/New_York
BEGIN:DAYLIGHT
TZOFFSETFROM:-0500
TZOFFSETTO:-0400
TZNAME:EDT
DTSTART:20210314T070000
END:DAYLIGHT
BEGIN:STANDARD
TZOFFSETFROM:-0400
TZOFFSETTO:-0500
TZNAME:EST
DTSTART:20211107T060000
END:STANDARD
BEGIN:DAYLIGHT
TZOFFSETFROM:-0500
TZOFFSETTO:-0400
TZNAME:EDT
DTSTART:20220313T070000
END:DAYLIGHT
BEGIN:STANDARD
TZOFFSETFROM:-0400
TZOFFSETTO:-0500
TZNAME:EST
DTSTART:20221106T060000
END:STANDARD
BEGIN:DAYLIGHT
TZOFFSETFROM:-0500
TZOFFSETTO:-0400
TZNAME:EDT
DTSTART:20230312T070000
END:DAYLIGHT
BEGIN:STANDARD
TZOFFSETFROM:-0400
TZOFFSETTO:-0500
TZNAME:EST
DTSTART:20231105T060000
END:STANDARD
END:VTIMEZONE
BEGIN:VEVENT
DTSTART;TZID=America/Chicago:20241022T190000
DTEND;TZID=America/Chicago:20241022T200000
DTSTAMP:20260422T184139
CREATED:20241010T174611Z
LAST-MODIFIED:20241010T174611Z
UID:10007327-1729623600-1729627200@www.archaeological.org
SUMMARY:Kush and the Roman World: Warrior Queens along the Nile
DESCRIPTION:Martha Sharp Joukowsky Lectureships
URL:https://www.archaeological.org/event/kush-and-the-roman-world-warrior-queens-along-the-nile/
LOCATION:Burpee Museum of Natural History\, 737 North Main St.\, Rockford\, IL\, 61103\, United States
CATEGORIES:AIA Lecture Program
ORGANIZER;CN="Sherrilyn Martin":MAILTO:sherrilyn.martin@keithschool.net
GEO:42.2772724;-89.0881873
X-APPLE-STRUCTURED-LOCATION;VALUE=URI;X-ADDRESS=Burpee Museum of Natural History 737 North Main St. Rockford IL 61103 United States;X-APPLE-RADIUS=500;X-TITLE=737 North Main St.:geo:-89.0881873,42.2772724
END:VEVENT
BEGIN:VEVENT
DTSTART;TZID=America/Chicago:20240423T193000
DTEND;TZID=America/Chicago:20240423T193000
DTSTAMP:20260422T184139
CREATED:20230818T194319Z
LAST-MODIFIED:20240408T151309Z
UID:10006324-1713900600-1713900600@www.archaeological.org
SUMMARY:Assessing the Historicity of the Trojan War: Excavations at Troy 1988-2012
DESCRIPTION:Santen lecture
URL:https://www.archaeological.org/event/rockford-society-national-lecture-program-lecture/
LOCATION:Burpee Museum of Natural History\, 737 North Main St.\, Rockford\, IL\, 61103\, United States
CATEGORIES:AIA Lecture Program,Lecture
ORGANIZER;CN="AIA":MAILTO:lectures@archaeological.org
GEO:42.2772724;-89.0881873
X-APPLE-STRUCTURED-LOCATION;VALUE=URI;X-ADDRESS=Burpee Museum of Natural History 737 North Main St. Rockford IL 61103 United States;X-APPLE-RADIUS=500;X-TITLE=737 North Main St.:geo:-89.0881873,42.2772724
END:VEVENT
BEGIN:VEVENT
DTSTART;TZID=America/New_York:20220426T193000
DTEND;TZID=America/New_York:20220426T210000
DTSTAMP:20260422T184139
CREATED:20220209T160041Z
LAST-MODIFIED:20220913T032600Z
UID:10006298-1651001400-1651006800@www.archaeological.org
SUMMARY:Rockford Society Lecture
DESCRIPTION:The Archaeology of a Viking Age Chieftain’s Power Center in Mosfell Valley\, Iceland Forsyth Lecture
URL:https://www.archaeological.org/event/rockford-society-lecture-2/
LOCATION:Burpee Museum of Natural History\, 737 North Main St.\, Rockford\, IL\, 61103\, United States
CATEGORIES:Lecture
ORGANIZER;CN="Sherrilyn Martin":MAILTO:sherrilyn.martin@keithschool.net
GEO:42.2772724;-89.0881873
X-APPLE-STRUCTURED-LOCATION;VALUE=URI;X-ADDRESS=Burpee Museum of Natural History 737 North Main St. Rockford IL 61103 United States;X-APPLE-RADIUS=500;X-TITLE=737 North Main St.:geo:-89.0881873,42.2772724
END:VEVENT
BEGIN:VEVENT
DTSTART;TZID=America/Chicago:20220426T193000
DTEND;TZID=America/Chicago:20220426T193000
DTSTAMP:20260422T184139
CREATED:20210818T164024Z
LAST-MODIFIED:20210825T163453Z
UID:10005711-1651001400-1651001400@www.archaeological.org
SUMMARY:The Archaeology of a Viking Age Chieftain’s Power Center in Mosfell Valley\, Iceland
DESCRIPTION:Forsyth Lecture
URL:https://www.archaeological.org/event/the-archaeology-of-a-viking-age-chieftains-power-center-in-mosfell-valley-iceland/
LOCATION:Burpee Museum of Natural History\, 737 North Main St.\, Rockford\, IL\, 61103\, United States
CATEGORIES:AIA Lecture Program,Lecture
ORGANIZER;CN="Sherrilyn Martin":MAILTO:Sherrilyn.Martin@keithschool.net
GEO:42.2772724;-89.0881873
X-APPLE-STRUCTURED-LOCATION;VALUE=URI;X-ADDRESS=Burpee Museum of Natural History 737 North Main St. Rockford IL 61103 United States;X-APPLE-RADIUS=500;X-TITLE=737 North Main St.:geo:-89.0881873,42.2772724
END:VEVENT
BEGIN:VEVENT
DTSTART;TZID=America/New_York:20220322T193000
DTEND;TZID=America/New_York:20220322T210000
DTSTAMP:20260422T184139
CREATED:20220209T155930Z
LAST-MODIFIED:20220209T155930Z
UID:10006297-1647977400-1647982800@www.archaeological.org
SUMMARY:Rockford Society Lecture
DESCRIPTION:Heroes on the Move: Greek Heroes in the Hellenistic World
URL:https://www.archaeological.org/event/rockford-society-lecture/
LOCATION:Burpee Museum of Natural History\, 737 North Main St.\, Rockford\, IL\, 61103\, United States
CATEGORIES:Lecture
ORGANIZER;CN="Sherrilyn Martin":MAILTO:sherrilyn.martin@keithschool.net
GEO:42.2772724;-89.0881873
X-APPLE-STRUCTURED-LOCATION;VALUE=URI;X-ADDRESS=Burpee Museum of Natural History 737 North Main St. Rockford IL 61103 United States;X-APPLE-RADIUS=500;X-TITLE=737 North Main St.:geo:-89.0881873,42.2772724
END:VEVENT
BEGIN:VEVENT
DTSTART;TZID=America/Chicago:20220322T193000
DTEND;TZID=America/Chicago:20220322T193000
DTSTAMP:20260422T184139
CREATED:20210818T164021Z
LAST-MODIFIED:20210823T181818Z
UID:10005709-1647977400-1647977400@www.archaeological.org
SUMMARY:Heroes on the Move: Greek Heroes in the Hellenistic World
DESCRIPTION:
URL:https://www.archaeological.org/event/heroes-on-the-move-greek-heroes-in-the-hellenistic-world/
LOCATION:Burpee Museum of Natural History\, 737 North Main St.\, Rockford\, IL\, 61103\, United States
CATEGORIES:AIA Lecture Program,Lecture
ORGANIZER;CN="Sherrilyn Martin":MAILTO:Sherrilyn.Martin@keithschool.net
GEO:42.2772724;-89.0881873
X-APPLE-STRUCTURED-LOCATION;VALUE=URI;X-ADDRESS=Burpee Museum of Natural History 737 North Main St. Rockford IL 61103 United States;X-APPLE-RADIUS=500;X-TITLE=737 North Main St.:geo:-89.0881873,42.2772724
END:VEVENT
END:VCALENDAR