BEGIN:VCALENDAR
VERSION:2.0
PRODID:-//Archaeological Institute of America - ECPv6.15.20//NONSGML v1.0//EN
CALSCALE:GREGORIAN
METHOD:PUBLISH
X-WR-CALNAME:Archaeological Institute of America
X-ORIGINAL-URL:https://www.archaeological.org
X-WR-CALDESC:Events for Archaeological Institute of America
REFRESH-INTERVAL;VALUE=DURATION:PT1H
X-Robots-Tag:noindex
X-PUBLISHED-TTL:PT1H
BEGIN:VTIMEZONE
TZID:America/New_York
BEGIN:DAYLIGHT
TZOFFSETFROM:-0500
TZOFFSETTO:-0400
TZNAME:EDT
DTSTART:20200308T070000
END:DAYLIGHT
BEGIN:STANDARD
TZOFFSETFROM:-0400
TZOFFSETTO:-0500
TZNAME:EST
DTSTART:20201101T060000
END:STANDARD
BEGIN:DAYLIGHT
TZOFFSETFROM:-0500
TZOFFSETTO:-0400
TZNAME:EDT
DTSTART:20210314T070000
END:DAYLIGHT
BEGIN:STANDARD
TZOFFSETFROM:-0400
TZOFFSETTO:-0500
TZNAME:EST
DTSTART:20211107T060000
END:STANDARD
BEGIN:DAYLIGHT
TZOFFSETFROM:-0500
TZOFFSETTO:-0400
TZNAME:EDT
DTSTART:20220313T070000
END:DAYLIGHT
BEGIN:STANDARD
TZOFFSETFROM:-0400
TZOFFSETTO:-0500
TZNAME:EST
DTSTART:20221106T060000
END:STANDARD
END:VTIMEZONE
BEGIN:VEVENT
DTSTART;TZID=America/New_York:20211009T103000
DTEND;TZID=America/New_York:20211009T113000
DTSTAMP:20260424T120730
CREATED:20210908T171434Z
LAST-MODIFIED:20210908T171434Z
UID:10005805-1633775400-1633779000@www.archaeological.org
SUMMARY:Wing Island Archaeology Walk
DESCRIPTION:Join Archaeologist\, Dan Zoto\, for a guided walk of Wing Island\, the location of the Wing Island Archaeology Project. Learn the history of the island and its varied uses throughout the millennia. \nREGISTRATION REQUIRED / SPACE LIMITED\n$8 per person\nDoes not include Museum Admission.\nParticipants meet at the front entrance.
URL:https://www.archaeological.org/event/wing-island-archaeology-walk/
LOCATION:Cape Cod Museum of Natural History\, 869 Main Street\, Brewster\, MA\, 02631\, United States
CATEGORIES:International Archaeology Day
ATTACH;FMTTYPE=image/jpeg:https://www.archaeological.org/wp-content/uploads/2021/09/arch_walk_PRIMARY.jpg
ORGANIZER;CN="Kate Roderick":MAILTO:kroderick@ccmnh.org
GEO:41.753914;-70.116141
X-APPLE-STRUCTURED-LOCATION;VALUE=URI;X-ADDRESS=Cape Cod Museum of Natural History 869 Main Street Brewster MA 02631 United States;X-APPLE-RADIUS=500;X-TITLE=869 Main Street:geo:-70.116141,41.753914
END:VEVENT
END:VCALENDAR