BEGIN:VCALENDAR
VERSION:2.0
PRODID:-//Archaeological Institute of America - ECPv6.15.20//NONSGML v1.0//EN
CALSCALE:GREGORIAN
METHOD:PUBLISH
X-WR-CALNAME:Archaeological Institute of America
X-ORIGINAL-URL:https://www.archaeological.org
X-WR-CALDESC:Events for Archaeological Institute of America
REFRESH-INTERVAL;VALUE=DURATION:PT1H
X-Robots-Tag:noindex
X-PUBLISHED-TTL:PT1H
BEGIN:VTIMEZONE
TZID:America/Chicago
BEGIN:DAYLIGHT
TZOFFSETFROM:-0600
TZOFFSETTO:-0500
TZNAME:CDT
DTSTART:20210314T080000
END:DAYLIGHT
BEGIN:STANDARD
TZOFFSETFROM:-0500
TZOFFSETTO:-0600
TZNAME:CST
DTSTART:20211107T070000
END:STANDARD
BEGIN:DAYLIGHT
TZOFFSETFROM:-0600
TZOFFSETTO:-0500
TZNAME:CDT
DTSTART:20220313T080000
END:DAYLIGHT
BEGIN:STANDARD
TZOFFSETFROM:-0500
TZOFFSETTO:-0600
TZNAME:CST
DTSTART:20221106T070000
END:STANDARD
BEGIN:DAYLIGHT
TZOFFSETFROM:-0600
TZOFFSETTO:-0500
TZNAME:CDT
DTSTART:20230312T080000
END:DAYLIGHT
BEGIN:STANDARD
TZOFFSETFROM:-0500
TZOFFSETTO:-0600
TZNAME:CST
DTSTART:20231105T070000
END:STANDARD
END:VTIMEZONE
BEGIN:VEVENT
DTSTART;TZID=America/Chicago:20220412T193000
DTEND;TZID=America/Chicago:20220412T193000
DTSTAMP:20260424T053743
CREATED:20210818T164141Z
LAST-MODIFIED:20220308T170518Z
UID:10005812-1649791800-1649791800@www.archaeological.org
SUMMARY:A Feminist History of Ancient Medicine
DESCRIPTION:Kershaw Lecture
URL:https://www.archaeological.org/event/a-feminist-history-of-ancient-medicine/
LOCATION:Chapman Auditorium (in Chapman Center)\, Trinity University\, E Rosewood Ave\, San Antonio\, 78212
CATEGORIES:AIA Lecture Program,Lecture
ORGANIZER;CN="Nicolle Hirschfeld":MAILTO:nhirschf@trinity.edu
GEO:29.4650886;-98.4893424
X-APPLE-STRUCTURED-LOCATION;VALUE=URI;X-ADDRESS=Chapman Auditorium (in Chapman Center) Trinity University E Rosewood Ave San Antonio 78212;X-APPLE-RADIUS=500;X-TITLE=E Rosewood Ave:geo:-98.4893424,29.4650886
END:VEVENT
END:VCALENDAR