BEGIN:VCALENDAR
VERSION:2.0
PRODID:-//Archaeological Institute of America - ECPv6.15.20//NONSGML v1.0//EN
CALSCALE:GREGORIAN
METHOD:PUBLISH
X-WR-CALNAME:Archaeological Institute of America
X-ORIGINAL-URL:https://www.archaeological.org
X-WR-CALDESC:Events for Archaeological Institute of America
REFRESH-INTERVAL;VALUE=DURATION:PT1H
X-Robots-Tag:noindex
X-PUBLISHED-TTL:PT1H
BEGIN:VTIMEZONE
TZID:America/New_York
BEGIN:DAYLIGHT
TZOFFSETFROM:-0500
TZOFFSETTO:-0400
TZNAME:EDT
DTSTART:20210314T070000
END:DAYLIGHT
BEGIN:STANDARD
TZOFFSETFROM:-0400
TZOFFSETTO:-0500
TZNAME:EST
DTSTART:20211107T060000
END:STANDARD
BEGIN:DAYLIGHT
TZOFFSETFROM:-0500
TZOFFSETTO:-0400
TZNAME:EDT
DTSTART:20220313T070000
END:DAYLIGHT
BEGIN:STANDARD
TZOFFSETFROM:-0400
TZOFFSETTO:-0500
TZNAME:EST
DTSTART:20221106T060000
END:STANDARD
BEGIN:DAYLIGHT
TZOFFSETFROM:-0500
TZOFFSETTO:-0400
TZNAME:EDT
DTSTART:20230312T070000
END:DAYLIGHT
BEGIN:STANDARD
TZOFFSETFROM:-0400
TZOFFSETTO:-0500
TZNAME:EST
DTSTART:20231105T060000
END:STANDARD
END:VTIMEZONE
BEGIN:VEVENT
DTSTART;TZID=America/New_York:20220413T190000
DTEND;TZID=America/New_York:20220413T190000
DTSTAMP:20260424T071714
CREATED:20210818T164026Z
LAST-MODIFIED:20210823T155502Z
UID:10005712-1649876400-1649876400@www.archaeological.org
SUMMARY:The Application of LiDAR Scanning for the Documentation of Ancient Cities and Regions
DESCRIPTION:
URL:https://www.archaeological.org/event/the-application-of-lidar-scanning-for-the-documentation-of-ancient-cities-and-regions/
LOCATION:Cleveland Museum of Natural History\, 11150 East Blvd.\, Cleveland\, OH\, 44106\, United States
CATEGORIES:AIA Lecture Program,Lecture
ORGANIZER;CN="Paul Iversen":MAILTO:paul.iversen@cwru.edu
GEO:41.509041;-81.6120703
X-APPLE-STRUCTURED-LOCATION;VALUE=URI;X-ADDRESS=Cleveland Museum of Natural History 11150 East Blvd. Cleveland OH 44106 United States;X-APPLE-RADIUS=500;X-TITLE=11150 East Blvd.:geo:-81.6120703,41.509041
END:VEVENT
END:VCALENDAR