BEGIN:VCALENDAR
VERSION:2.0
PRODID:-//Archaeological Institute of America - ECPv6.15.20//NONSGML v1.0//EN
CALSCALE:GREGORIAN
METHOD:PUBLISH
X-WR-CALNAME:Archaeological Institute of America
X-ORIGINAL-URL:https://www.archaeological.org
X-WR-CALDESC:Events for Archaeological Institute of America
REFRESH-INTERVAL;VALUE=DURATION:PT1H
X-Robots-Tag:noindex
X-PUBLISHED-TTL:PT1H
BEGIN:VTIMEZONE
TZID:America/New_York
BEGIN:DAYLIGHT
TZOFFSETFROM:-0500
TZOFFSETTO:-0400
TZNAME:EDT
DTSTART:20230312T070000
END:DAYLIGHT
BEGIN:STANDARD
TZOFFSETFROM:-0400
TZOFFSETTO:-0500
TZNAME:EST
DTSTART:20231105T060000
END:STANDARD
BEGIN:DAYLIGHT
TZOFFSETFROM:-0500
TZOFFSETTO:-0400
TZNAME:EDT
DTSTART:20240310T070000
END:DAYLIGHT
BEGIN:STANDARD
TZOFFSETFROM:-0400
TZOFFSETTO:-0500
TZNAME:EST
DTSTART:20241103T060000
END:STANDARD
BEGIN:DAYLIGHT
TZOFFSETFROM:-0500
TZOFFSETTO:-0400
TZNAME:EDT
DTSTART:20250309T070000
END:DAYLIGHT
BEGIN:STANDARD
TZOFFSETFROM:-0400
TZOFFSETTO:-0500
TZNAME:EST
DTSTART:20251102T060000
END:STANDARD
END:VTIMEZONE
BEGIN:VEVENT
DTSTART;TZID=America/New_York:20241114T193000
DTEND;TZID=America/New_York:20241114T210000
DTSTAMP:20260423T083017
CREATED:20241106T171726Z
LAST-MODIFIED:20241106T171726Z
UID:10007395-1731612600-1731618000@www.archaeological.org
SUMMARY:Afghanistan's Heritage: Target in War and Engine of Peace\, Dr. Laura Tedesco
DESCRIPTION:This presentation will reflect on efforts to preserve and protect Afghanistan’s cultural heritage. Utilzing the tools of diplomacy through the US Department of State and the practical steps involved in restoration of neglected and destroyed heritage\, Dr. Laura Tedesco will discuss a little-known aspect of United States’ engagement in Afghanistan from 2001-2021\, with insights on what is occurring now to Afghanistan’s cultural patrimony with the Taliban’s renewed authority. \nSee our society’s website https://aiasouthcarolina.wordpress.com/ for details of parking and accessibility.
URL:https://www.archaeological.org/event/afghanistans-heritage-target-in-war-and-engine-of-peace-dr-laura-tedesco/
LOCATION:College of Charleston\, Robert Scott Small Building\, Room 235\, College Way\, Charleston\, SC\, 29401\, United States
CATEGORIES:Lecture
ATTACH;FMTTYPE=image/png:https://www.archaeological.org/wp-content/uploads/2024/11/tedesco-2024.png
ORGANIZER;CN="Allison Sterrett-Krause":MAILTO:sterrettkrauseae@cofc.edu
GEO:32.7840026;-79.9379559
X-APPLE-STRUCTURED-LOCATION;VALUE=URI;X-ADDRESS=College of Charleston Robert Scott Small Building Room 235 College Way Charleston SC 29401 United States;X-APPLE-RADIUS=500;X-TITLE=College Way:geo:-79.9379559,32.7840026
END:VEVENT
END:VCALENDAR