BEGIN:VCALENDAR
VERSION:2.0
PRODID:-//Archaeological Institute of America - ECPv6.15.20//NONSGML v1.0//EN
CALSCALE:GREGORIAN
METHOD:PUBLISH
X-WR-CALNAME:Archaeological Institute of America
X-ORIGINAL-URL:https://www.archaeological.org
X-WR-CALDESC:Events for Archaeological Institute of America
REFRESH-INTERVAL;VALUE=DURATION:PT1H
X-Robots-Tag:noindex
X-PUBLISHED-TTL:PT1H
BEGIN:VTIMEZONE
TZID:America/New_York
BEGIN:DAYLIGHT
TZOFFSETFROM:-0500
TZOFFSETTO:-0400
TZNAME:EDT
DTSTART:20240310T070000
END:DAYLIGHT
BEGIN:STANDARD
TZOFFSETFROM:-0400
TZOFFSETTO:-0500
TZNAME:EST
DTSTART:20241103T060000
END:STANDARD
BEGIN:DAYLIGHT
TZOFFSETFROM:-0500
TZOFFSETTO:-0400
TZNAME:EDT
DTSTART:20250309T070000
END:DAYLIGHT
BEGIN:STANDARD
TZOFFSETFROM:-0400
TZOFFSETTO:-0500
TZNAME:EST
DTSTART:20251102T060000
END:STANDARD
BEGIN:DAYLIGHT
TZOFFSETFROM:-0500
TZOFFSETTO:-0400
TZNAME:EDT
DTSTART:20260308T070000
END:DAYLIGHT
BEGIN:STANDARD
TZOFFSETFROM:-0400
TZOFFSETTO:-0500
TZNAME:EST
DTSTART:20261101T060000
END:STANDARD
END:VTIMEZONE
BEGIN:VEVENT
DTSTART;TZID=America/New_York:20250327T180000
DTEND;TZID=America/New_York:20250327T190000
DTSTAMP:20260421T091517
CREATED:20250312T153336Z
LAST-MODIFIED:20250312T160414Z
UID:10007612-1743098400-1743102000@www.archaeological.org
SUMMARY:Argilos After Philip II: Fortifying Lands\, Cultivating Wealth
DESCRIPTION:Following its conquest by Philip II of Macedon in 357 BCE\, the city of Argilos was abandoned\, and its land redistributed to a Macedonian general. Responsible for overseeing his territory within the expanding Macedonian realm\, he also capitalized on the region’s olive oil production\, as evidenced by the remains found on the Acropolis of Argilos. This talk will explore the dual role of Argilos in the post-conquest period\, highlighting its strategic significance and economic exploitation under Macedonian rule. By Laure-Sarah Ethier (Université de Montréal )
URL:https://www.archaeological.org/event/argilos-after-philip-ii-fortifying-lands-cultivating-wealth/
LOCATION:Concordia University\, SGW\, LB-322\, Montreal\, Canada
CATEGORIES:Lecture
ORGANIZER;CN="Matt Buell":MAILTO:matthew.buell@concordia.ca
GEO:33.65455;-117.812315
X-APPLE-STRUCTURED-LOCATION;VALUE=URI;X-ADDRESS=Concordia University SGW LB-322 Montreal Canada;X-APPLE-RADIUS=500;X-TITLE=SGW\, LB-322:geo:-117.812315,33.65455
END:VEVENT
END:VCALENDAR