BEGIN:VCALENDAR
VERSION:2.0
PRODID:-//Archaeological Institute of America - ECPv6.15.20//NONSGML v1.0//EN
CALSCALE:GREGORIAN
METHOD:PUBLISH
X-WR-CALNAME:Archaeological Institute of America
X-ORIGINAL-URL:https://www.archaeological.org
X-WR-CALDESC:Events for Archaeological Institute of America
REFRESH-INTERVAL;VALUE=DURATION:PT1H
X-Robots-Tag:noindex
X-PUBLISHED-TTL:PT1H
BEGIN:VTIMEZONE
TZID:America/New_York
BEGIN:DAYLIGHT
TZOFFSETFROM:-0500
TZOFFSETTO:-0400
TZNAME:EDT
DTSTART:20220313T070000
END:DAYLIGHT
BEGIN:STANDARD
TZOFFSETFROM:-0400
TZOFFSETTO:-0500
TZNAME:EST
DTSTART:20221106T060000
END:STANDARD
BEGIN:DAYLIGHT
TZOFFSETFROM:-0500
TZOFFSETTO:-0400
TZNAME:EDT
DTSTART:20230312T070000
END:DAYLIGHT
BEGIN:STANDARD
TZOFFSETFROM:-0400
TZOFFSETTO:-0500
TZNAME:EST
DTSTART:20231105T060000
END:STANDARD
BEGIN:DAYLIGHT
TZOFFSETFROM:-0500
TZOFFSETTO:-0400
TZNAME:EDT
DTSTART:20240310T070000
END:DAYLIGHT
BEGIN:STANDARD
TZOFFSETFROM:-0400
TZOFFSETTO:-0500
TZNAME:EST
DTSTART:20241103T060000
END:STANDARD
BEGIN:DAYLIGHT
TZOFFSETFROM:-0500
TZOFFSETTO:-0400
TZNAME:EDT
DTSTART:20250309T070000
END:DAYLIGHT
BEGIN:STANDARD
TZOFFSETFROM:-0400
TZOFFSETTO:-0500
TZNAME:EST
DTSTART:20251102T060000
END:STANDARD
BEGIN:DAYLIGHT
TZOFFSETFROM:-0500
TZOFFSETTO:-0400
TZNAME:EDT
DTSTART:20260308T070000
END:DAYLIGHT
BEGIN:STANDARD
TZOFFSETFROM:-0400
TZOFFSETTO:-0500
TZNAME:EST
DTSTART:20261101T060000
END:STANDARD
BEGIN:DAYLIGHT
TZOFFSETFROM:-0500
TZOFFSETTO:-0400
TZNAME:EDT
DTSTART:20270314T070000
END:DAYLIGHT
BEGIN:STANDARD
TZOFFSETFROM:-0400
TZOFFSETTO:-0500
TZNAME:EST
DTSTART:20271107T060000
END:STANDARD
END:VTIMEZONE
BEGIN:VEVENT
DTSTART;TZID=America/New_York:20260414T170000
DTEND;TZID=America/New_York:20260414T183000
DTSTAMP:20260421T061149
CREATED:20250922T150121Z
LAST-MODIFIED:20260403T192231Z
UID:10008658-1776186000-1776191400@www.archaeological.org
SUMMARY:Provincial Coin Portraits of Roman Imperial Women and the Portrait Dissemination System
DESCRIPTION:William E. Metcalf Lectures in Numismatics
URL:https://www.archaeological.org/event/tba-finger-lakes-ithaca/
LOCATION:Cornell University\, G22 Goldwin Smith Hall\, Ithaca\, NY\, United States
CATEGORIES:AIA Lecture Program,Lecture
ORGANIZER;CN="Kathryn Gleason":MAILTO:klg16@cornell.edu
GEO:42.443961;-76.501881
END:VEVENT
BEGIN:VEVENT
DTSTART;TZID=America/New_York:20250414T170000
DTEND;TZID=America/New_York:20250414T180000
DTSTAMP:20260421T061149
CREATED:20250213T194853Z
LAST-MODIFIED:20250319T142400Z
UID:10007566-1744650000-1744653600@www.archaeological.org
SUMMARY:What Do We Owe To Already-Looted Objects?
DESCRIPTION:Martha Sharp Joukowsky Lectureships
URL:https://www.archaeological.org/event/what-do-we-owe-to-already-looted-objects/
LOCATION:Cornell University\, G22 Goldwin Smith Hall\, Ithaca\, NY\, United States
CATEGORIES:AIA Lecture Program,Lecture
ORGANIZER;CN="Kathryn Gleason":MAILTO:klg16@cornell.edu
GEO:42.443961;-76.501881
END:VEVENT
BEGIN:VEVENT
DTSTART;TZID=America/New_York:20230426T170000
DTEND;TZID=America/New_York:20230426T170000
DTSTAMP:20260421T061149
CREATED:20220818T211358Z
LAST-MODIFIED:20230307T194527Z
UID:10005991-1682528400-1682528400@www.archaeological.org
SUMMARY:Ruling Culture: Art Police\, Tomb Robbers\, and the Rise of Cultural Power in Italy
DESCRIPTION:Eisenpreis Lecture
URL:https://www.archaeological.org/event/ruling-culture-art-police-tomb-robbers-and-the-rise-of-cultural-power-in-italy/
LOCATION:Cornell University\, G22 Goldwin Smith Hall\, Ithaca\, NY\, United States
CATEGORIES:AIA Lecture Program,Lecture
ORGANIZER;CN="AIA":MAILTO:lectures@archaeological.org
GEO:42.443961;-76.501881
END:VEVENT
END:VCALENDAR