BEGIN:VCALENDAR
VERSION:2.0
PRODID:-//Archaeological Institute of America - ECPv6.15.20//NONSGML v1.0//EN
CALSCALE:GREGORIAN
METHOD:PUBLISH
X-ORIGINAL-URL:https://www.archaeological.org
X-WR-CALDESC:Events for Archaeological Institute of America
REFRESH-INTERVAL;VALUE=DURATION:PT1H
X-Robots-Tag:noindex
X-PUBLISHED-TTL:PT1H
BEGIN:VTIMEZONE
TZID:America/Denver
BEGIN:DAYLIGHT
TZOFFSETFROM:-0700
TZOFFSETTO:-0600
TZNAME:MDT
DTSTART:20200308T090000
END:DAYLIGHT
BEGIN:STANDARD
TZOFFSETFROM:-0600
TZOFFSETTO:-0700
TZNAME:MST
DTSTART:20201101T080000
END:STANDARD
BEGIN:DAYLIGHT
TZOFFSETFROM:-0700
TZOFFSETTO:-0600
TZNAME:MDT
DTSTART:20210314T090000
END:DAYLIGHT
BEGIN:STANDARD
TZOFFSETFROM:-0600
TZOFFSETTO:-0700
TZNAME:MST
DTSTART:20211107T080000
END:STANDARD
BEGIN:DAYLIGHT
TZOFFSETFROM:-0700
TZOFFSETTO:-0600
TZNAME:MDT
DTSTART:20220313T090000
END:DAYLIGHT
BEGIN:STANDARD
TZOFFSETFROM:-0600
TZOFFSETTO:-0700
TZNAME:MST
DTSTART:20221106T080000
END:STANDARD
BEGIN:DAYLIGHT
TZOFFSETFROM:-0700
TZOFFSETTO:-0600
TZNAME:MDT
DTSTART:20230312T090000
END:DAYLIGHT
BEGIN:STANDARD
TZOFFSETFROM:-0600
TZOFFSETTO:-0700
TZNAME:MST
DTSTART:20231105T080000
END:STANDARD
BEGIN:DAYLIGHT
TZOFFSETFROM:-0700
TZOFFSETTO:-0600
TZNAME:MDT
DTSTART:20240310T090000
END:DAYLIGHT
BEGIN:STANDARD
TZOFFSETFROM:-0600
TZOFFSETTO:-0700
TZNAME:MST
DTSTART:20241103T080000
END:STANDARD
BEGIN:DAYLIGHT
TZOFFSETFROM:-0700
TZOFFSETTO:-0600
TZNAME:MDT
DTSTART:20250309T090000
END:DAYLIGHT
BEGIN:STANDARD
TZOFFSETFROM:-0600
TZOFFSETTO:-0700
TZNAME:MST
DTSTART:20251102T080000
END:STANDARD
END:VTIMEZONE
BEGIN:VEVENT
DTSTART;TZID=America/Denver:20240320T190000
DTEND;TZID=America/Denver:20240320T203000
DTSTAMP:20260423T152239
CREATED:20240301T155758Z
LAST-MODIFIED:20240301T155758Z
UID:10007083-1710961200-1710966600@www.archaeological.org
SUMMARY:The Becoming of Mesoamerican Pigments: The Olmec presented by Dr. Gerardo Gutierrez (CU Boulder)
DESCRIPTION:This lecture presents a new study of pigments and coloring materials that offers a unique window into the development of indigenous science\, ideology\, and learning processes to innovate knowledge. The color palettes of Juxtlahuaca\, Cauadzidziqui and Oxtotitlan caves\, all located in the state Guerrero\, Mexico\, will be compared and evaluated and I will propose how and why the Olmecs began a technological revolution in the manufacture of colors in early Mesoamerica.
URL:https://www.archaeological.org/event/the-becoming-of-mesoamerican-pigments-the-olmec-presented-by-dr-gerardo-gutierrez-cu-boulder/
LOCATION:CU Museum of Natural History\, Broadway\, Boulder\, CO\, 80309\, United States
CATEGORIES:AIA Lecture Program
GEO:40.004496;-105.2698031
X-APPLE-STRUCTURED-LOCATION;VALUE=URI;X-ADDRESS=CU Museum of Natural History Broadway Boulder CO 80309 United States;X-APPLE-RADIUS=500;X-TITLE=Broadway:geo:-105.2698031,40.004496
END:VEVENT
BEGIN:VEVENT
DTSTART;TZID=America/Denver:20230419T190000
DTEND;TZID=America/Denver:20230419T203000
DTSTAMP:20260423T152239
CREATED:20230203T211918Z
LAST-MODIFIED:20230203T211918Z
UID:10006211-1681930800-1681936200@www.archaeological.org
SUMMARY:The Arizona Sicily Project: Survey and Excavations in the province of Trapani presented by Dr. Emma Blake
DESCRIPTION:A decade of fieldwork in westernmost Sicily has revealed a previously unnoticed pattern: high quantities of North African artifacts in virtually all periods\, from the Paleolithic to the present day. From prehistoric stone tools\, to Carthaginian amphoras and Roman finewares\, to the soda bottles of contemporary migrants\, a picture emerges of a deep and enduring localized connection between Sicily and Tunisia. This talk presents the material traces of Tunisian influence in western Sicily from two field surveys and a new excavation\, and explores the significance and nature of those complex interactions across the Sicilian Channel. \nBio: Emma Blake (Ph.D. University of Cambridge)\, is Associate Professor of Anthropology at the University of Arizona. She is Editor-in-Chief (with Robert Schon) of the American Journal of Archaeology. Blake is a Mediterranean archaeologist\, focusing on identity construction in Italy in the second and first millennia BCE. She is the author of Social Networks and Regional Identity in Bronze Age Italy (Cambridge University Press 2014)\, as well as numerous articles. She has conducted fieldwork in western Sicily for many years and directs an archaeological field survey tracing the extent of Tunisian influence in western Sicily in all periods. She is co-directing new excavations at the ancient city of Segesta\, Sicily.
URL:https://www.archaeological.org/event/the-arizona-sicily-project-survey-and-excavations-in-the-province-of-trapani-presented-by-dr-emma-blake/
LOCATION:CU Museum of Natural History\, Broadway\, Boulder\, CO\, 80309\, United States
CATEGORIES:Lecture
ATTACH;FMTTYPE=image/jpeg:https://www.archaeological.org/wp-content/uploads/2023/02/Emma-Blake-bio-photo.jpg
GEO:40.004496;-105.2698031
X-APPLE-STRUCTURED-LOCATION;VALUE=URI;X-ADDRESS=CU Museum of Natural History Broadway Boulder CO 80309 United States;X-APPLE-RADIUS=500;X-TITLE=Broadway:geo:-105.2698031,40.004496
END:VEVENT
BEGIN:VEVENT
DTSTART;TZID=America/Denver:20230315T190000
DTEND;TZID=America/Denver:20230315T203000
DTSTAMP:20260423T152239
CREATED:20230203T211821Z
LAST-MODIFIED:20230203T211821Z
UID:10006209-1678906800-1678912200@www.archaeological.org
SUMMARY:"They are still teaching us": Community Bioarchaeology and the Sisters of Loretto Project presented by Dr. Lauren Hosek
DESCRIPTION:In the summer of 2022\, construction necessitated the relocation of a small 19th /20th century cemetery of nuns from southwest Denver. Before their reinterment\, a team of local researchers and students worked with the Loretto Community to undertake a bioarchaeological analysis of the remains of the Sisters of Loretto. This ongoing project highlights community collaboration\, education\, and historical memory in the spirit of these women and their service to the Denver community. \nBio: Lauren Hosek (PhD Syracuse University 2020) is an assistant professor of Anthropology at the University of Colorado Boulder and a social bioarchaeologist with interests in skeletal approaches to embodied experiences of identity and social change. Broadly\, her interests also include skeletal plasticity and the life course\, paleopathology\, materiality\, religion and the body\, and mortuary archaeology. Her research integrates skeletal analysis with the study of material culture and historical narratives to address the interactions between human bodies and their broader social\, cultural\, and physical environments. She is currently examining diet and mobility in early medieval Central Europe through the lens of stable isotopes\, skeletal dental analysis\, and archaeological data. She uses similar techniques to study different communities in 19th-century America.
URL:https://www.archaeological.org/event/they-are-still-teaching-us-community-bioarchaeology-and-the-sisters-of-loretto-project-presented-by-dr-lauren-hosek/
LOCATION:CU Museum of Natural History\, Broadway\, Boulder\, CO\, 80309\, United States
CATEGORIES:Lecture
ATTACH;FMTTYPE=image/png:https://www.archaeological.org/wp-content/uploads/2023/02/IMG_9724.00_00_09_29.Still011.png
GEO:40.004496;-105.2698031
X-APPLE-STRUCTURED-LOCATION;VALUE=URI;X-ADDRESS=CU Museum of Natural History Broadway Boulder CO 80309 United States;X-APPLE-RADIUS=500;X-TITLE=Broadway:geo:-105.2698031,40.004496
END:VEVENT
BEGIN:VEVENT
DTSTART;TZID=America/Denver:20221130T190000
DTEND;TZID=America/Denver:20221130T203000
DTSTAMP:20260423T152239
CREATED:20221007T144106Z
LAST-MODIFIED:20221007T144106Z
UID:10006742-1669834800-1669840200@www.archaeological.org
SUMMARY:New Technologies and Architectural Insights at the First Doric Temple in Sicily
DESCRIPTION:In this talk\, Dr. Phil Sapirstein presents his findings from a recent digital and architectural restudy of the temple of Apollo at Syracuse. Built in ca. 590 BCE\, it was the first major Greek temple to be built entirely from stone\, and thus it is fundamental to our understanding of the origins of Doric architecture. In addition to its architectural significance\, the building has a monumental inscription (IG XIV 1) carved into its eastern steps\, which should be intimately connected to the dedication of the temple\, and yet whose reading has been controversial since its discovery in 1864 up to the present day. During fieldwork at the site in 2018\, Dr. Sapirstein created a 3D model enhanced using new computational methods which makes clear that the accepted readings of the inscription are inaccurate in several key areas. The changes support a new interpretation of this enigmatic inscription as a celebration of an ancient technological breakthrough\, one that made it possible to erect the gigantic columns in the temple’s peristyle.
URL:https://www.archaeological.org/event/new-technologies-and-architectural-insights-at-the-first-doric-temple-in-sicily/
LOCATION:CU Museum of Natural History\, Broadway\, Boulder\, CO\, 80309\, United States
CATEGORIES:Lecture
ATTACH;FMTTYPE=image/jpeg:https://www.archaeological.org/wp-content/uploads/2022/10/Syracuse-temple.jpg
GEO:40.004496;-105.2698031
X-APPLE-STRUCTURED-LOCATION;VALUE=URI;X-ADDRESS=CU Museum of Natural History Broadway Boulder CO 80309 United States;X-APPLE-RADIUS=500;X-TITLE=Broadway:geo:-105.2698031,40.004496
END:VEVENT
BEGIN:VEVENT
DTSTART;TZID=America/Denver:20221102T190000
DTEND;TZID=America/Denver:20221102T203000
DTSTAMP:20260423T152239
CREATED:20221007T143936Z
LAST-MODIFIED:20221007T143936Z
UID:10006131-1667415600-1667421000@www.archaeological.org
SUMMARY:Expanding the Spatial and Temporal Limits of the Pinson Mounds Landscape in Western Tennessee
DESCRIPTION:In this lecture\, Professor Ed Henry will discuss the monumental earthen architecture present at Pinson Mounds State Archaeological Park (PMSAP) in West Tennessee\, which features prominently in the archaeology of the American Midsouth. However\, the Johnston and Elijah Bray mound sites\, situated west and east of PMSAP respectively\, are considered the anchors in defining the broader Pinson Landscape. Recent research in this area has dramatically reshaped how archaeologists might consider the temporal and spatial extent of this enigmatic Middle Woodland landscape and its ties to Hopewell societies in the eastern U.S. In my lecture I will discuss the field verification of new monumental features at Johnston\, new and unusual subsurface features identified at PMSAP\, and the first archaeological investigations of the Elijah Bray site. Our new discoveries reveal how our knowledge of this unique area expands our understandings of\, and approach to studying\, deeply used places in the archaeological record.
URL:https://www.archaeological.org/event/expanding-the-spatial-and-temporal-limits-of-the-pinson-mounds-landscape-in-western-tennessee/
LOCATION:CU Museum of Natural History\, Broadway\, Boulder\, CO\, 80309\, United States
CATEGORIES:Lecture
ATTACH;FMTTYPE=image/jpeg:https://www.archaeological.org/wp-content/uploads/2022/10/Pinson-Mound.jpg
GEO:40.004496;-105.2698031
X-APPLE-STRUCTURED-LOCATION;VALUE=URI;X-ADDRESS=CU Museum of Natural History Broadway Boulder CO 80309 United States;X-APPLE-RADIUS=500;X-TITLE=Broadway:geo:-105.2698031,40.004496
END:VEVENT
BEGIN:VEVENT
DTSTART;TZID=America/Denver:20221012T190000
DTEND;TZID=America/Denver:20221012T203000
DTSTAMP:20260423T152239
CREATED:20221007T143730Z
LAST-MODIFIED:20221007T143730Z
UID:10006129-1665601200-1665606600@www.archaeological.org
SUMMARY:King Midas of the Golden Touch in Context: Death\, Belief\, Behavior\, and Society in Ancient Phrygia
DESCRIPTION:Professor Elspeth Dusinberre will present her current work on the spectacular burial tumuli at Gordion (Turkey)\, the capital of ancient Phrygia and seat of the legendary (but historical) King Midas of the Golden Touch. This talk will consider material ranging from ca. 850-525 BCE. It will begin with Gordion’s oldest burial tumuli and look at the largest\, the so-called Midas Monument\, but it will focus ultimately on the last century or so of tumulus construction. The later tombs\, which include both inhumations and cremations\, display radical changes that reflect Gordion’s complex and shifting society. This talk will use mortuary remains to investigate such issues as power structures and display\, gender\, burial customs\, belief in an afterlife\, shifting populations\, and developments in society overall in ancient Phrygia.
URL:https://www.archaeological.org/event/king-midas-of-the-golden-touch-in-context-death-belief-behavior-and-society-in-ancient-phrygia/
LOCATION:CU Museum of Natural History\, Broadway\, Boulder\, CO\, 80309\, United States
CATEGORIES:International Archaeology Day
ATTACH;FMTTYPE=image/jpeg:https://www.archaeological.org/wp-content/uploads/2022/10/TumA_bracelet.jpg
GEO:40.004496;-105.2698031
X-APPLE-STRUCTURED-LOCATION;VALUE=URI;X-ADDRESS=CU Museum of Natural History Broadway Boulder CO 80309 United States;X-APPLE-RADIUS=500;X-TITLE=Broadway:geo:-105.2698031,40.004496
END:VEVENT
BEGIN:VEVENT
DTSTART;TZID=America/Denver:20211201T190000
DTEND;TZID=America/Denver:20211201T203000
DTSTAMP:20260423T152239
CREATED:20210913T153121Z
LAST-MODIFIED:20210913T153121Z
UID:10006064-1638385200-1638390600@www.archaeological.org
SUMMARY:Ancient Roads of the Chaco World: Monumentality\, Religion\, and Power
DESCRIPTION:In this talk\, Rob Weiner will discuss his recent fieldwork throughout the Chaco World\, which combines LiDAR\, drone aerial photography\, and on-the-ground documentation to investigate the history\, use\, and meaning of monumental roads in Chacoan society. He will focus on new insights regarding the destinations of roads and ritual practices carried out on them\, with particular attention to their role in perpetuating inequality. Insights from collaboration with the Navajo Nation and comparative examples of ritual pathways from throughout the ancient world offer new understandings of the role of linear earthwork features in the ancient Southwest.
URL:https://www.archaeological.org/event/ancient-roads-of-the-chaco-world-monumentality-religion-and-power/
LOCATION:CU Museum of Natural History\, Broadway\, Boulder\, CO\, 80309\, United States
CATEGORIES:Lecture
ATTACH;FMTTYPE=image/jpeg:https://www.archaeological.org/wp-content/uploads/2021/09/Rob-Weiner-at-Pueblo-Bonito-photo-courtesy-of-the-Solstice-Project.jpg
GEO:40.004496;-105.2698031
X-APPLE-STRUCTURED-LOCATION;VALUE=URI;X-ADDRESS=CU Museum of Natural History Broadway Boulder CO 80309 United States;X-APPLE-RADIUS=500;X-TITLE=Broadway:geo:-105.2698031,40.004496
END:VEVENT
END:VCALENDAR