BEGIN:VCALENDAR
VERSION:2.0
PRODID:-//Archaeological Institute of America - ECPv6.15.20//NONSGML v1.0//EN
CALSCALE:GREGORIAN
METHOD:PUBLISH
X-ORIGINAL-URL:https://www.archaeological.org
X-WR-CALDESC:Events for Archaeological Institute of America
REFRESH-INTERVAL;VALUE=DURATION:PT1H
X-Robots-Tag:noindex
X-PUBLISHED-TTL:PT1H
BEGIN:VTIMEZONE
TZID:America/New_York
BEGIN:DAYLIGHT
TZOFFSETFROM:-0500
TZOFFSETTO:-0400
TZNAME:EDT
DTSTART:20220313T070000
END:DAYLIGHT
BEGIN:STANDARD
TZOFFSETFROM:-0400
TZOFFSETTO:-0500
TZNAME:EST
DTSTART:20221106T060000
END:STANDARD
BEGIN:DAYLIGHT
TZOFFSETFROM:-0500
TZOFFSETTO:-0400
TZNAME:EDT
DTSTART:20230312T070000
END:DAYLIGHT
BEGIN:STANDARD
TZOFFSETFROM:-0400
TZOFFSETTO:-0500
TZNAME:EST
DTSTART:20231105T060000
END:STANDARD
BEGIN:DAYLIGHT
TZOFFSETFROM:-0500
TZOFFSETTO:-0400
TZNAME:EDT
DTSTART:20240310T070000
END:DAYLIGHT
BEGIN:STANDARD
TZOFFSETFROM:-0400
TZOFFSETTO:-0500
TZNAME:EST
DTSTART:20241103T060000
END:STANDARD
END:VTIMEZONE
BEGIN:VEVENT
DTSTART;TZID=America/New_York:20230321T180000
DTEND;TZID=America/New_York:20230321T180000
DTSTAMP:20260421T065149
CREATED:20220818T211443Z
LAST-MODIFIED:20230228T143249Z
UID:10006007-1679421600-1679421600@www.archaeological.org
SUMMARY:RESCHEDULED: Genghis Khan and the Mongol Empire
DESCRIPTION:Joukowsky Lecture
URL:https://www.archaeological.org/event/genghis-kahn-and-the-mongol-empire/
LOCATION:Kennedy Building\, room 112 (Assumption University Campus)\, 500 Salisbury St\, Worcester\, MA\, 01609
CATEGORIES:AIA Lecture Program,Lecture
ORGANIZER;CN="AIA":MAILTO:lectures@archaeological.org
GEO:42.2922497;-71.8291852
X-APPLE-STRUCTURED-LOCATION;VALUE=URI;X-ADDRESS=Kennedy Building room 112 (Assumption University Campus) 500 Salisbury St Worcester MA 01609;X-APPLE-RADIUS=500;X-TITLE=500 Salisbury St:geo:-71.8291852,42.2922497
END:VEVENT
END:VCALENDAR