BEGIN:VCALENDAR
VERSION:2.0
PRODID:-//Archaeological Institute of America - ECPv6.15.20//NONSGML v1.0//EN
CALSCALE:GREGORIAN
METHOD:PUBLISH
X-ORIGINAL-URL:https://www.archaeological.org
X-WR-CALDESC:Events for Archaeological Institute of America
REFRESH-INTERVAL;VALUE=DURATION:PT1H
X-Robots-Tag:noindex
X-PUBLISHED-TTL:PT1H
BEGIN:VTIMEZONE
TZID:America/New_York
BEGIN:DAYLIGHT
TZOFFSETFROM:-0500
TZOFFSETTO:-0400
TZNAME:EDT
DTSTART:20220313T070000
END:DAYLIGHT
BEGIN:STANDARD
TZOFFSETFROM:-0400
TZOFFSETTO:-0500
TZNAME:EST
DTSTART:20221106T060000
END:STANDARD
BEGIN:DAYLIGHT
TZOFFSETFROM:-0500
TZOFFSETTO:-0400
TZNAME:EDT
DTSTART:20230312T070000
END:DAYLIGHT
BEGIN:STANDARD
TZOFFSETFROM:-0400
TZOFFSETTO:-0500
TZNAME:EST
DTSTART:20231105T060000
END:STANDARD
BEGIN:DAYLIGHT
TZOFFSETFROM:-0500
TZOFFSETTO:-0400
TZNAME:EDT
DTSTART:20240310T070000
END:DAYLIGHT
BEGIN:STANDARD
TZOFFSETFROM:-0400
TZOFFSETTO:-0500
TZNAME:EST
DTSTART:20241103T060000
END:STANDARD
END:VTIMEZONE
BEGIN:VEVENT
DTSTART;TZID=America/New_York:20231026T180000
DTEND;TZID=America/New_York:20231026T180000
DTSTAMP:20260421T052241
CREATED:20230818T175740Z
LAST-MODIFIED:20230919T191407Z
UID:10006899-1698343200-1698343200@www.archaeological.org
SUMMARY:Twelve Millennia of Agricultural Change in Anatolia
DESCRIPTION:Matson Lecture
URL:https://www.archaeological.org/event/tampa-bay-society-national-lecture-program-lecture/
LOCATION:CWY 107 (C.W. “Bill” Young Building) on the Tampa Campus of the University of South Florida\, Genshaft Drive\, Tampa\, FL\, 33617\, United States
CATEGORIES:AIA Lecture Program,International Archaeology Day,Lecture
ATTACH;FMTTYPE=image/jpeg:https://www.archaeological.org/wp-content/uploads/2019/03/Marston-lecture-flyer_FA23.jpg
ORGANIZER;CN="AIA":MAILTO:lectures@archaeological.org
GEO:28.06137;-82.408179
X-APPLE-STRUCTURED-LOCATION;VALUE=URI;X-ADDRESS=CWY 107 (C.W. “Bill” Young Building) on the Tampa Campus of the University of South Florida Genshaft Drive Tampa FL 33617 United States;X-APPLE-RADIUS=500;X-TITLE=Genshaft Drive:geo:-82.408179,28.06137
END:VEVENT
END:VCALENDAR