BEGIN:VCALENDAR
VERSION:2.0
PRODID:-//Archaeological Institute of America - ECPv6.15.20//NONSGML v1.0//EN
CALSCALE:GREGORIAN
METHOD:PUBLISH
X-ORIGINAL-URL:https://www.archaeological.org
X-WR-CALDESC:Events for Archaeological Institute of America
REFRESH-INTERVAL;VALUE=DURATION:PT1H
X-Robots-Tag:noindex
X-PUBLISHED-TTL:PT1H
BEGIN:VTIMEZONE
TZID:America/New_York
BEGIN:DAYLIGHT
TZOFFSETFROM:-0500
TZOFFSETTO:-0400
TZNAME:EDT
DTSTART:20210314T070000
END:DAYLIGHT
BEGIN:STANDARD
TZOFFSETFROM:-0400
TZOFFSETTO:-0500
TZNAME:EST
DTSTART:20211107T060000
END:STANDARD
BEGIN:DAYLIGHT
TZOFFSETFROM:-0500
TZOFFSETTO:-0400
TZNAME:EDT
DTSTART:20220313T070000
END:DAYLIGHT
BEGIN:STANDARD
TZOFFSETFROM:-0400
TZOFFSETTO:-0500
TZNAME:EST
DTSTART:20221106T060000
END:STANDARD
BEGIN:DAYLIGHT
TZOFFSETFROM:-0500
TZOFFSETTO:-0400
TZNAME:EDT
DTSTART:20230312T070000
END:DAYLIGHT
BEGIN:STANDARD
TZOFFSETFROM:-0400
TZOFFSETTO:-0500
TZNAME:EST
DTSTART:20231105T060000
END:STANDARD
END:VTIMEZONE
BEGIN:VEVENT
DTSTART;TZID=America/New_York:20221006T183000
DTEND;TZID=America/New_York:20221006T183000
DTSTAMP:20260422T011752
CREATED:20220818T211321Z
LAST-MODIFIED:20220822T200127Z
UID:10006398-1665081000-1665081000@www.archaeological.org
SUMMARY:Old Pots and New Drains:  Changing Approaches to Waste and Wastewater in a Pompeian Neighborhood
DESCRIPTION:
URL:https://www.archaeological.org/event/south-pa-lecture-tbd/
LOCATION:Dickinson College\, Denny Hall #317\, 272 W High St\, Carlisle\, PA\, 17013\, United States
CATEGORIES:AIA Lecture Program,Lecture
ORGANIZER;CN="AIA":MAILTO:lectures@archaeological.org
GEO:40.202208;-77.193613
X-APPLE-STRUCTURED-LOCATION;VALUE=URI;X-ADDRESS=Dickinson College Denny Hall #317 272 W High St Carlisle PA 17013 United States;X-APPLE-RADIUS=500;X-TITLE=272 W High St:geo:-77.193613,40.202208
END:VEVENT
BEGIN:VEVENT
DTSTART;TZID=America/New_York:20220426T183000
DTEND;TZID=America/New_York:20220426T183000
DTSTAMP:20260422T011752
CREATED:20210818T164147Z
LAST-MODIFIED:20220308T191555Z
UID:10005829-1650997800-1650997800@www.archaeological.org
SUMMARY:Bronze Age Monkeys and the Case for Cross-Disciplinary Collaboration
DESCRIPTION:
URL:https://www.archaeological.org/event/torches-fireflies-and-moonlight-the-brilliance-of-classic-maya-lightscapes-2/
LOCATION:Dickinson College\, Denny Hall #317\, 272 W High St\, Carlisle\, PA\, 17013\, United States
CATEGORIES:AIA Lecture Program,Lecture
ORGANIZER;CN="Maria Bruno":MAILTO:brunom@dickinson.edu
GEO:40.202208;-77.193613
X-APPLE-STRUCTURED-LOCATION;VALUE=URI;X-ADDRESS=Dickinson College Denny Hall #317 272 W High St Carlisle PA 17013 United States;X-APPLE-RADIUS=500;X-TITLE=272 W High St:geo:-77.193613,40.202208
END:VEVENT
END:VCALENDAR