BEGIN:VCALENDAR
VERSION:2.0
PRODID:-//Archaeological Institute of America - ECPv6.15.20//NONSGML v1.0//EN
CALSCALE:GREGORIAN
METHOD:PUBLISH
X-ORIGINAL-URL:https://www.archaeological.org
X-WR-CALDESC:Events for Archaeological Institute of America
REFRESH-INTERVAL;VALUE=DURATION:PT1H
X-Robots-Tag:noindex
X-PUBLISHED-TTL:PT1H
BEGIN:VTIMEZONE
TZID:America/New_York
BEGIN:DAYLIGHT
TZOFFSETFROM:-0500
TZOFFSETTO:-0400
TZNAME:EDT
DTSTART:20210314T070000
END:DAYLIGHT
BEGIN:STANDARD
TZOFFSETFROM:-0400
TZOFFSETTO:-0500
TZNAME:EST
DTSTART:20211107T060000
END:STANDARD
BEGIN:DAYLIGHT
TZOFFSETFROM:-0500
TZOFFSETTO:-0400
TZNAME:EDT
DTSTART:20220313T070000
END:DAYLIGHT
BEGIN:STANDARD
TZOFFSETFROM:-0400
TZOFFSETTO:-0500
TZNAME:EST
DTSTART:20221106T060000
END:STANDARD
BEGIN:DAYLIGHT
TZOFFSETFROM:-0500
TZOFFSETTO:-0400
TZNAME:EDT
DTSTART:20230312T070000
END:DAYLIGHT
BEGIN:STANDARD
TZOFFSETFROM:-0400
TZOFFSETTO:-0500
TZNAME:EST
DTSTART:20231105T060000
END:STANDARD
END:VTIMEZONE
BEGIN:VEVENT
DTSTART;TZID=America/New_York:20221117T180000
DTEND;TZID=America/New_York:20221117T190000
DTSTAMP:20260421T150732
CREATED:20221111T172325Z
LAST-MODIFIED:20221111T172325Z
UID:10006771-1668708000-1668711600@www.archaeological.org
SUMMARY:Producing Domesticity: a bioarchaeology of domestic labor in Irish immigrants\, 19th-century New York City
DESCRIPTION:A lecture by Dr. Alanna Warner-Smith\, National Museum of Natural History\, Smithsonian Institution. \nThe rise of industrial capitalism not only restructured labor and class\, but also reconfigured the intimate spaces of the home and everyday life. As the workplace moved out of the home\, the home was idealized as private and separate from the market. As part of this shift\, the role of women came to be defined as moral guardians who created domestic spaces that promoted middle-class ideals of respectability\, which included self-discipline\, etiquette\, cleanliness\, and order. Historical archaeologists have examined the “cult of domesticity” by largely highlighting how women exercised agency as consumers\, purchasing tablewares\, tea sets\, and decorative elements that reinforced these ideals and middle-class families’ social status. However\, less attention has been paid to the physical labor required to produce these domestic spaces. Far from being separate from the market\, the home was\, in fact\, a place of work. Middle- and upper-class families hired waged domestic servants to perform the physical housework\, which took a toll on those who did it—many of whom were immigrant women.\nIn this talk\, Dr. Warner-Smith draws upon the archival and physical remains of Irish immigrants who died in various public institutions and hospitals in New York City at the turn of the century. She highlights the ways this labor shaped the bones of these women\, looking at the breakdown of joint surfaces\, changes to muscle attachment sites\, and long bone morphology. Recovering evidence of this labor is important because even as they completed the work necessary for middle-class families to achieve the ideals of domesticity\, these women were alienated from notions of respectability and femininity. Moreover\, occupational hazards in domestic labor continue to be less visible today\, as private homes are not often considered to be workplaces. This talk sheds light on past immigrant experiences while connecting them to contemporary issues in labor rights.
URL:https://www.archaeological.org/event/producing-domesticity-a-bioarchaeology-of-domestic-labor-in-irish-immigrants-19th-century-new-york-city/
LOCATION:Education Center rm 118\, College of Charleston\, CHARLESTON\, SC\, 29424\, United States
CATEGORIES:Lecture
ORGANIZER;CN="James ML Newhard":MAILTO:newhardj@cofc.edu
GEO:32.7834441;-79.9370018
X-APPLE-STRUCTURED-LOCATION;VALUE=URI;X-ADDRESS=Education Center rm 118 College of Charleston CHARLESTON SC 29424 United States;X-APPLE-RADIUS=500;X-TITLE=College of Charleston:geo:-79.9370018,32.7834441
END:VEVENT
END:VCALENDAR