BEGIN:VCALENDAR
VERSION:2.0
PRODID:-//Archaeological Institute of America - ECPv6.15.20//NONSGML v1.0//EN
CALSCALE:GREGORIAN
METHOD:PUBLISH
X-ORIGINAL-URL:https://www.archaeological.org
X-WR-CALDESC:Events for Archaeological Institute of America
REFRESH-INTERVAL;VALUE=DURATION:PT1H
X-Robots-Tag:noindex
X-PUBLISHED-TTL:PT1H
BEGIN:VTIMEZONE
TZID:America/Los_Angeles
BEGIN:DAYLIGHT
TZOFFSETFROM:-0800
TZOFFSETTO:-0700
TZNAME:PDT
DTSTART:20220313T100000
END:DAYLIGHT
BEGIN:STANDARD
TZOFFSETFROM:-0700
TZOFFSETTO:-0800
TZNAME:PST
DTSTART:20221106T090000
END:STANDARD
BEGIN:DAYLIGHT
TZOFFSETFROM:-0800
TZOFFSETTO:-0700
TZNAME:PDT
DTSTART:20230312T100000
END:DAYLIGHT
BEGIN:STANDARD
TZOFFSETFROM:-0700
TZOFFSETTO:-0800
TZNAME:PST
DTSTART:20231105T090000
END:STANDARD
BEGIN:DAYLIGHT
TZOFFSETFROM:-0800
TZOFFSETTO:-0700
TZNAME:PDT
DTSTART:20240310T100000
END:DAYLIGHT
BEGIN:STANDARD
TZOFFSETFROM:-0700
TZOFFSETTO:-0800
TZNAME:PST
DTSTART:20241103T090000
END:STANDARD
END:VTIMEZONE
BEGIN:VEVENT
DTSTART;TZID=America/Los_Angeles:20231027T160000
DTEND;TZID=America/Los_Angeles:20231027T160000
DTSTAMP:20260423T160110
CREATED:20230818T184213Z
LAST-MODIFIED:20230919T191629Z
UID:10006903-1698422400-1698422400@www.archaeological.org
SUMMARY:The Maya and Climate Change: Human-Environmental Relationships in the Classic Period Lowlands
DESCRIPTION:Stone lecture
URL:https://www.archaeological.org/event/the-maya-and-climate-change-human-environmental-relationships-in-the-classic-period-lowlands/
LOCATION:Eugene Public Library Downtown\, 100 W 10th Ave\, Eugene\, OR\, 97401\, United States
CATEGORIES:AIA Lecture Program,International Archaeology Day,Lecture
ORGANIZER;CN="AIA":MAILTO:lectures@archaeological.org
GEO:44.0485398;-123.094945
X-APPLE-STRUCTURED-LOCATION;VALUE=URI;X-ADDRESS=Eugene Public Library Downtown 100 W 10th Ave Eugene OR 97401 United States;X-APPLE-RADIUS=500;X-TITLE=100 W 10th Ave:geo:-123.094945,44.0485398
END:VEVENT
END:VCALENDAR