BEGIN:VCALENDAR
VERSION:2.0
PRODID:-//Archaeological Institute of America - ECPv6.15.20//NONSGML v1.0//EN
CALSCALE:GREGORIAN
METHOD:PUBLISH
X-ORIGINAL-URL:https://www.archaeological.org
X-WR-CALDESC:Events for Archaeological Institute of America
REFRESH-INTERVAL;VALUE=DURATION:PT1H
X-Robots-Tag:noindex
X-PUBLISHED-TTL:PT1H
BEGIN:VTIMEZONE
TZID:America/New_York
BEGIN:DAYLIGHT
TZOFFSETFROM:-0500
TZOFFSETTO:-0400
TZNAME:EDT
DTSTART:20210314T070000
END:DAYLIGHT
BEGIN:STANDARD
TZOFFSETFROM:-0400
TZOFFSETTO:-0500
TZNAME:EST
DTSTART:20211107T060000
END:STANDARD
BEGIN:DAYLIGHT
TZOFFSETFROM:-0500
TZOFFSETTO:-0400
TZNAME:EDT
DTSTART:20220313T070000
END:DAYLIGHT
BEGIN:STANDARD
TZOFFSETFROM:-0400
TZOFFSETTO:-0500
TZNAME:EST
DTSTART:20221106T060000
END:STANDARD
BEGIN:DAYLIGHT
TZOFFSETFROM:-0500
TZOFFSETTO:-0400
TZNAME:EDT
DTSTART:20230312T070000
END:DAYLIGHT
BEGIN:STANDARD
TZOFFSETFROM:-0400
TZOFFSETTO:-0500
TZNAME:EST
DTSTART:20231105T060000
END:STANDARD
BEGIN:DAYLIGHT
TZOFFSETFROM:-0500
TZOFFSETTO:-0400
TZNAME:EDT
DTSTART:20240310T070000
END:DAYLIGHT
BEGIN:STANDARD
TZOFFSETFROM:-0400
TZOFFSETTO:-0500
TZNAME:EST
DTSTART:20241103T060000
END:STANDARD
END:VTIMEZONE
BEGIN:VEVENT
DTSTART;TZID=America/New_York:20231117T080000
DTEND;TZID=America/New_York:20231118T170000
DTSTAMP:20260421T121009
CREATED:20221114T135532Z
LAST-MODIFIED:20240805T163556Z
UID:10006772-1700208000-1700326800@www.archaeological.org
SUMMARY:Second International Symposium on the ARCHAEOLOGY OF WESTERN ANATOLIA
DESCRIPTION:We are glad to inform you that an international symposium on Archaeology and history of the Cayster (Küçük Menderes) Valley in south-eastern inland part of Izmir\, Turkey will take place on November 17-18\, 2023 on Zoom. Küçük Menderes (“Little Meander”)\, Cayster River or Kaystros River (Ancient Greek: Κάϋστρος\, French: Caÿstre) or Caystrus River is a river south of İzmir\, Turkey. It flows westward between the ranges of Mount Tmolos and Mount Messogis through “wide\, thickly settled and productive” plains (Strabo 13.4.13). Cayster (Küçük Menderes) Valley had an economy based on agriculture in ancient and medieval times as well as today. Although the settlement history of the Cayster (Küçük Menderes) Valley begins with prehistoric times\, it can be said with the help of archaeological data that the urbanization extends to the Hellenistic Period. Intended to bring together scholars of Greek\, Roman and Byzantine archaeology to discuss a range of issues concerning Cayster (Küçük Menderes) Valley\, this electronic conference is an excellent opportunity to increase our knowledge about this region. Papers engageging the following themes and topics are invited: \n– Cayster (Küçük Menderes) Valley during the Archaic\, Classical\, Hellenistic\, Roman and Byzantine periods\,\n– Archaeological field projects in Cayster (Küçük Menderes) Valley\,\n– Ancient Greek\, Latin and Byzantine authors and other textual as well as cartographic sources\,\n– Miscellanea. \nOn all themes and questions\, all approaches and methods susceptible to bring some progress to our current knowledge are of course welcome: archaeology\, ancient history\, historical geography\, epigraphy\, numismatic\, history of art\, cultural anthropology etc. The symposium will take place virtually on Zoom. All the readings and discussions in our e-conference will be in English\, and recorded for later viewing on YouTube. The proceedings of the symposium will be published in 2025. The symposium is free of charge.\nWe would be delighted\, if you could consider contributing to our symposium and contact us with the required information below before September 9\, 2023. Our e-mail address is: ergun.lafli@deu.edu.tr\nThe organizers seek to widen participation at this symposium\, and would like to encourage colleagues from all parts of the world to attend. We kindly request that you alert any interested researches\, colleagues and students within your research community who would be interested in participating at this e-conference\, either by forwarding our first circular and poster through Academia\, Researchgate\, Facebook\, Twitter\, Instagram or other similar social media\, or by printing them and displaying in your institution. Please share them also on your ListServs. We hope that you will be able to join us on Zoom\, and look forward to seeing you!
URL:https://www.archaeological.org/event/second-international-symposium-on-the-archaeology-of-western-anatolia-archaeology-and-history-of-the-cayster-kucuk-menderes-valley-in-south-eastern-inland-part-of-izmir/
LOCATION:Faculty of Letters of the Dokuz Eylül University (DEU) in Buca\, Izmir\, DEÜ Edebiyat Fakültesi Tınaztepe Yerleşkesi Adatepe Mah. Doğuş Cad. No: 207/M 35390 Buca/İZMİR/TÜRKİYE\, Izmir\, 1297984856\, Turkey
CATEGORIES:Conference
ATTACH;FMTTYPE=image/jpeg:https://www.archaeological.org/wp-content/uploads/2022/11/2.-DEU-Sempozyumu-Cover.jpg
ORGANIZER;CN="Professor Erg%C3%BCn Lafl%C4%B1":MAILTO:deu.archaeological.symposium@gmail.com; ergun.lafli@deu.edu.tr
GEO:38.3699694;27.195338
X-APPLE-STRUCTURED-LOCATION;VALUE=URI;X-ADDRESS=Faculty of Letters of the Dokuz Eylül University (DEU) in Buca Izmir DEÜ Edebiyat Fakültesi Tınaztepe Yerleşkesi Adatepe Mah. Doğuş Cad. No: 207/M 35390 Buca/İZMİR/TÜRKİYE Izmir 1297984856 Turkey;X-APPLE-RADIUS=500;X-TITLE=DEÜ Edebiyat Fakültesi Tınaztepe Yerleşkesi Adatepe Mah. Doğuş Cad. No: 207/M 35390 Buca/İZMİR/TÜRKİYE:geo:27.195338,38.3699694
END:VEVENT
BEGIN:VEVENT
DTSTART;TZID=America/New_York:20221118T090000
DTEND;TZID=America/New_York:20221119T193000
DTSTAMP:20260421T121009
CREATED:20220615T145511Z
LAST-MODIFIED:20221114T123122Z
UID:10005967-1668762000-1668886200@www.archaeological.org
SUMMARY:ARCHAEOLOGY  OF WESTERN ANATOLIA 1  Proceedings of the First International Symposium     Archaeology of Izmir and its close environs  during the Middle Ages
DESCRIPTION:The Department of Archaeology is glad to inform you that the first international symposium of this annual series will take place on November 17-18\, 2022 at the DEU in İzmir with a focus on latest archaeological discoveries on the region of İzmir in western Turkey. Since the 15th century archaeologically and historically İzmir became a special focus in the fields of ancient Anatolian studies. We warmly invite contributions by scholars and graduate students from a variety of disciplines related to this region. The aim of this symposium is to report on the state of archaeological research concerning İzmir from the Paleolithic period until the end of the Ottoman period. Thematic and geographical focus of the first symposium will be latest archaeological research in İzmir and its close surrounding in Ionia\, Aeolis\, Lydia and Upper Cayster Valley in the administrative territories of the today’s Turkish province of İzmir.\nThe following theme groups are the main questions of the symposium which are prescriptive: \n– Recent archaeological field projects (excavations and surveys) and museum studies as well as discoveries in and around İzmir\,\n– İzmir in ancient mythology\,\n– Prehistory and protohistorical researches in İzmir\,\n– İzmir during the Archaic\, Classical\, Hellenistic\, Roman and Byzantine periods\,\n– İzmir in ancient authors\, eg. Homer\, Herodotus\, Strabo etc.\,\n– Ethno-cultural landscape of ancient İzmir and ethnoarchaeology\,\n– Epigraphical research in İzmir\,\n– Numismatic research in İzmir: circulations\, dynamics and mechanisms\,\n– Relationships between İzmir and other cities of Ionia\, the Achaemenid Empire as well as other neighbouring regions\,\n– Historical geography and settlement patterns in Hellenistic\, Roman and Byzantine İzmir\,\n– Ancient roads\, routes and population in İzmir\,\n– Institutional aspect of Smyrna in Hellenistic and Roman times\,\n– İzmir as a part of the Roman province Asia and the “seven churches of Apocalypse”\,\n– The province İzmir under the tetrarchy reform of Emperor Diocletian in A.D. 296\,\n– Population and settlement boom in the “Justinianic” era in the region of İzmir\,\n– Archaeometric researches in İzmir\,\n– Miscellanea. \nOn these themes and questions\, all approaches and methods susceptible to bring some progress to our current knowledge are of course welcome: archaeology\, ancient history\, classics\, historical geography\, epigraphy\, numismatic\, history of art\, cultural anthropology etc. English is the official language of the symposium and both abstracts as well as papers should be written and presented in English. The symposium will take place live at the Faculty of Letters of the DEU in Buca\, İzmir as well as virtually on a conference platform (most probably on Zoom). The proceedings of the symposium will be published in December 2022. The symposium is free of charge. A post-symposium excursion is planned on November 19 to the archaeological sites in the metropolitan area of İzmir.\nWe would be delighted\, if you could consider contributing to our symposium and contact us with the required information below before September 9\, 2022. Our e-mail address is: deu.archaeological.symposium@gmail.com or ergun.lafli@deu.edu.tr
URL:https://www.archaeological.org/event/first-international-archaeological-symposium-of-dokuz-eylul-university-archaeology-of-izmir-an-international-symposium/2022-11-18/
LOCATION:Faculty of Letters of the Dokuz Eylül University (DEU) in Buca\, Izmir\, DEÜ Edebiyat Fakültesi Tınaztepe Yerleşkesi Adatepe Mah. Doğuş Cad. No: 207/M 35390 Buca/İZMİR/TÜRKİYE\, Izmir\, 1297984856\, Turkey
CATEGORIES:Conference,Workshop
ATTACH;FMTTYPE=image/jpeg:https://www.archaeological.org/wp-content/uploads/2022/06/1.-DEU-Sempozyumu-Afis-Ingilizce.jpg
ORGANIZER;CN="Professor Erg%C3%BCn Lafl%C4%B1":MAILTO:deu.archaeological.symposium@gmail.com; ergun.lafli@deu.edu.tr
GEO:38.3699694;27.195338
X-APPLE-STRUCTURED-LOCATION;VALUE=URI;X-ADDRESS=Faculty of Letters of the Dokuz Eylül University (DEU) in Buca Izmir DEÜ Edebiyat Fakültesi Tınaztepe Yerleşkesi Adatepe Mah. Doğuş Cad. No: 207/M 35390 Buca/İZMİR/TÜRKİYE Izmir 1297984856 Turkey;X-APPLE-RADIUS=500;X-TITLE=DEÜ Edebiyat Fakültesi Tınaztepe Yerleşkesi Adatepe Mah. Doğuş Cad. No: 207/M 35390 Buca/İZMİR/TÜRKİYE:geo:27.195338,38.3699694
END:VEVENT
END:VCALENDAR