BEGIN:VCALENDAR
VERSION:2.0
PRODID:-//Archaeological Institute of America - ECPv6.15.20//NONSGML v1.0//EN
CALSCALE:GREGORIAN
METHOD:PUBLISH
X-WR-CALNAME:Archaeological Institute of America
X-ORIGINAL-URL:https://www.archaeological.org
X-WR-CALDESC:Events for Archaeological Institute of America
REFRESH-INTERVAL;VALUE=DURATION:PT1H
X-Robots-Tag:noindex
X-PUBLISHED-TTL:PT1H
BEGIN:VTIMEZONE
TZID:America/New_York
BEGIN:DAYLIGHT
TZOFFSETFROM:-0500
TZOFFSETTO:-0400
TZNAME:EDT
DTSTART:20210314T070000
END:DAYLIGHT
BEGIN:STANDARD
TZOFFSETFROM:-0400
TZOFFSETTO:-0500
TZNAME:EST
DTSTART:20211107T060000
END:STANDARD
BEGIN:DAYLIGHT
TZOFFSETFROM:-0500
TZOFFSETTO:-0400
TZNAME:EDT
DTSTART:20220313T070000
END:DAYLIGHT
BEGIN:STANDARD
TZOFFSETFROM:-0400
TZOFFSETTO:-0500
TZNAME:EST
DTSTART:20221106T060000
END:STANDARD
BEGIN:DAYLIGHT
TZOFFSETFROM:-0500
TZOFFSETTO:-0400
TZNAME:EDT
DTSTART:20230312T070000
END:DAYLIGHT
BEGIN:STANDARD
TZOFFSETFROM:-0400
TZOFFSETTO:-0500
TZNAME:EST
DTSTART:20231105T060000
END:STANDARD
BEGIN:DAYLIGHT
TZOFFSETFROM:-0500
TZOFFSETTO:-0400
TZNAME:EDT
DTSTART:20240310T070000
END:DAYLIGHT
BEGIN:STANDARD
TZOFFSETFROM:-0400
TZOFFSETTO:-0500
TZNAME:EST
DTSTART:20241103T060000
END:STANDARD
BEGIN:DAYLIGHT
TZOFFSETFROM:-0500
TZOFFSETTO:-0400
TZNAME:EDT
DTSTART:20250309T070000
END:DAYLIGHT
BEGIN:STANDARD
TZOFFSETFROM:-0400
TZOFFSETTO:-0500
TZNAME:EST
DTSTART:20251102T060000
END:STANDARD
BEGIN:DAYLIGHT
TZOFFSETFROM:-0500
TZOFFSETTO:-0400
TZNAME:EDT
DTSTART:20260308T070000
END:DAYLIGHT
BEGIN:STANDARD
TZOFFSETFROM:-0400
TZOFFSETTO:-0500
TZNAME:EST
DTSTART:20261101T060000
END:STANDARD
END:VTIMEZONE
BEGIN:VEVENT
DTSTART;TZID=America/New_York:20251011T110000
DTEND;TZID=America/New_York:20251011T160000
DTSTAMP:20260421T091541
CREATED:20251002T153119Z
LAST-MODIFIED:20251002T153119Z
UID:10008702-1760180400-1760198400@www.archaeological.org
SUMMARY:Archaeology Day - Grave Creek Mound Archaeological Complex
DESCRIPTION:Archaeology Day at Grave Creek Mound Archaeological Complex is an all-ages day of hands-on activities and demonstrations. Visitors get the chance to learn about past peoples from professional archaeologists\, view exhibits\, and visit the Indigenous burial site\, Grave Creek Mound.
URL:https://www.archaeological.org/event/archaeology-day-grave-creek-mound-archaeological-complex/
LOCATION:Grave Creek Mound Archaeological Complex\, 801 Jefferson Ave.\, Moundsville\, WV\, 26041\, United States
CATEGORIES:International Archaeology Day
ATTACH;FMTTYPE=image/png:https://www.archaeological.org/wp-content/uploads/2025/10/Archaeology-Day-2025-image-file.png
GEO:39.916871;-80.744362
X-APPLE-STRUCTURED-LOCATION;VALUE=URI;X-ADDRESS=Grave Creek Mound Archaeological Complex 801 Jefferson Ave. Moundsville WV 26041 United States;X-APPLE-RADIUS=500;X-TITLE=801 Jefferson Ave.:geo:-80.744362,39.916871
END:VEVENT
BEGIN:VEVENT
DTSTART;TZID=America/New_York:20221015T140000
DTEND;TZID=America/New_York:20221015T150000
DTSTAMP:20260421T091541
CREATED:20221007T143315Z
LAST-MODIFIED:20221007T143315Z
UID:10006127-1665842400-1665846000@www.archaeological.org
SUMMARY:Grave Creek Mound Archaeological Complex Celebrates International Archaeology Day
DESCRIPTION:MOUNDSVILLE\, W.Va. — Grave Creek Mound Archaeological Complex will celebrate International Archaeology Day on October 15 with a program titled The Real Bebbanburh: The Castle That Started it all in Netflix’s Hit Drama “The Last Kingdom”. The program starts at 2:00 pm on Saturday\, October 15\, and is open to the public free of charge. \nThe program will be presented by Lauren E. Nofi\, a community archaeologist who has worked at the Carnegie Museum of Natural History and Colonial Williamsburg in the United States; also in Ireland\, Scotland and the United Kingdom. Nofi holds a B.A. in Anthropology from the College of William and Mary in Williamsburg\, VA\, and an M.A. in Archaeology (with Merit) from the University of Sheffield in Sheffield\, UK. \nMs. Nofi will take a deep dive into the history and archaeology of Bamburgh Castle (UK)\, focusing on early medieval Northumbria. This castle features as the hero Uhtred’s motivation in both The Last Kingdom books by Bernard Cornwell (who also wrote the Sharpe’s Rifles series) and subsequent television series. The castle is real\, but is Uhtred? Moreover\, was the castle ever worth all that trouble? This presentation is appropriate for those both familiar and unfamiliar with the series\, by an archaeologist who has personal experience excavating at Bebbanburh\, now called Bamburgh\, \nSaturday\, October 15 has been designated International Archaeology Day by the Archaeological Institute of America (AIA). An international list of programs for the event at https://www.archaeological.org/programs/public/archaeologyday/ . \nOperated by the West Virginia Department of Arts\, Culture and History\, Grave Creek Mound Archaeological Complex features one of the largest conical burial mounds built by the Adena people between 250 – 150 B.C. and ranks as one of the largest earthen mortuary mounds anywhere in the world. Exhibits and displays in the Delf Norona Museum interpret what is known about the lives of these prehistoric people and the construction of the mound. The complex also houses the West Virginia Archaeological Research and Collections Management Facility. \nAdmission to Grave Creek Mound Archaeological Complex is free. The Delf Norona Museum\, located at 801 Jefferson Avenue\, is open 9 a.m. to 5:00 p.m. Tuesday through Saturday and closed Sunday and Monday. Access to the Mound and other outdoor areas closes at 4:30 pm. \nFor more information about activities and programs at Grave Creek Mound\, contact Andrea Keller\, cultural program coordinator\, at (304) 843-4128 or andrea.k.keller@wv.gov or visit www.facebook.com/gravecreekmound and www.twitter.com/gravecreekmound.
URL:https://www.archaeological.org/event/grave-creek-mound-archaeological-complex-celebrates-international-archaeology-day/
LOCATION:Grave Creek Mound Archaeological Complex\, 801 Jefferson Ave.\, Moundsville\, WV\, 26041\, United States
CATEGORIES:International Archaeology Day
ATTACH;FMTTYPE=image/jpeg:https://www.archaeological.org/wp-content/uploads/2022/10/Bamburgh_Castle_-_geograph.org_.uk_-_2060766.jpg
ORGANIZER;CN="Jeremy Kohus":MAILTO:Jeremy.A.Kohus@wv.gov
GEO:39.916871;-80.744362
X-APPLE-STRUCTURED-LOCATION;VALUE=URI;X-ADDRESS=Grave Creek Mound Archaeological Complex 801 Jefferson Ave. Moundsville WV 26041 United States;X-APPLE-RADIUS=500;X-TITLE=801 Jefferson Ave.:geo:-80.744362,39.916871
END:VEVENT
END:VCALENDAR