BEGIN:VCALENDAR
VERSION:2.0
PRODID:-//Archaeological Institute of America - ECPv6.15.20//NONSGML v1.0//EN
CALSCALE:GREGORIAN
METHOD:PUBLISH
X-ORIGINAL-URL:https://www.archaeological.org
X-WR-CALDESC:Events for Archaeological Institute of America
REFRESH-INTERVAL;VALUE=DURATION:PT1H
X-Robots-Tag:noindex
X-PUBLISHED-TTL:PT1H
BEGIN:VTIMEZONE
TZID:America/New_York
BEGIN:DAYLIGHT
TZOFFSETFROM:-0500
TZOFFSETTO:-0400
TZNAME:EDT
DTSTART:20210314T070000
END:DAYLIGHT
BEGIN:STANDARD
TZOFFSETFROM:-0400
TZOFFSETTO:-0500
TZNAME:EST
DTSTART:20211107T060000
END:STANDARD
BEGIN:DAYLIGHT
TZOFFSETFROM:-0500
TZOFFSETTO:-0400
TZNAME:EDT
DTSTART:20220313T070000
END:DAYLIGHT
BEGIN:STANDARD
TZOFFSETFROM:-0400
TZOFFSETTO:-0500
TZNAME:EST
DTSTART:20221106T060000
END:STANDARD
BEGIN:DAYLIGHT
TZOFFSETFROM:-0500
TZOFFSETTO:-0400
TZNAME:EDT
DTSTART:20230312T070000
END:DAYLIGHT
BEGIN:STANDARD
TZOFFSETFROM:-0400
TZOFFSETTO:-0500
TZNAME:EST
DTSTART:20231105T060000
END:STANDARD
END:VTIMEZONE
BEGIN:VEVENT
DTSTART;TZID=America/New_York:20221103T190000
DTEND;TZID=America/New_York:20221103T203000
DTSTAMP:20260421T125152
CREATED:20221021T143341Z
LAST-MODIFIED:20221021T143341Z
UID:10006153-1667502000-1667507400@www.archaeological.org
SUMMARY:The Egyptian Prisoner Statues: Depictions of Pharaoh's Triumph
DESCRIPTION:Dr. Tara Prakash (College of Charleston) will discuss “The Ancient Egyptian Prisoner Statues: Depictions of Pharaoh’s Triumph” on November 3\, 2022\, at 7:00 pm. Please join us to learn more about these fascinating artifacts and their archaeological contexts. \nThe lecture will take place at Harbor Walk (360 Concord St.\, West building\, room 217)\, the temporary home of the College of Charleston’s Department of Art and Architectural History. Parking is available nearby at the City of Charleston’s Aquarium Garage. \nFollowing the lecture\, guests are invited to join the speaker for a light reception and informal conversation. This event is free and open to the public. \nIn accordance with current CofC COVID-19 protocols\, attendees are welcome\, but not required\, to wear masks.
URL:https://www.archaeological.org/event/the-egyptian-prisoner-statues-depictions-of-pharaohs-triumph/
LOCATION:Harbor Walk West\, room 217\, 360 Concord St.\, Charleston\, SC\, 29401\, United States
CATEGORIES:Lecture
ATTACH;FMTTYPE=image/jpeg:https://www.archaeological.org/wp-content/uploads/2022/10/2022-PrakashEgyptianPrisonerStatues.jpg
ORGANIZER;CN="Jim Newhard":MAILTO:newhardj@cofc.edu
GEO:32.7916979;-79.9261302
X-APPLE-STRUCTURED-LOCATION;VALUE=URI;X-ADDRESS=Harbor Walk West room 217 360 Concord St. Charleston SC 29401 United States;X-APPLE-RADIUS=500;X-TITLE=360 Concord St.:geo:-79.9261302,32.7916979
END:VEVENT
END:VCALENDAR