BEGIN:VCALENDAR
VERSION:2.0
PRODID:-//Archaeological Institute of America - ECPv6.15.20//NONSGML v1.0//EN
CALSCALE:GREGORIAN
METHOD:PUBLISH
X-ORIGINAL-URL:https://www.archaeological.org
X-WR-CALDESC:Events for Archaeological Institute of America
REFRESH-INTERVAL;VALUE=DURATION:PT1H
X-Robots-Tag:noindex
X-PUBLISHED-TTL:PT1H
BEGIN:VTIMEZONE
TZID:America/New_York
BEGIN:DAYLIGHT
TZOFFSETFROM:-0500
TZOFFSETTO:-0400
TZNAME:EDT
DTSTART:20220313T070000
END:DAYLIGHT
BEGIN:STANDARD
TZOFFSETFROM:-0400
TZOFFSETTO:-0500
TZNAME:EST
DTSTART:20221106T060000
END:STANDARD
BEGIN:DAYLIGHT
TZOFFSETFROM:-0500
TZOFFSETTO:-0400
TZNAME:EDT
DTSTART:20230312T070000
END:DAYLIGHT
BEGIN:STANDARD
TZOFFSETFROM:-0400
TZOFFSETTO:-0500
TZNAME:EST
DTSTART:20231105T060000
END:STANDARD
BEGIN:DAYLIGHT
TZOFFSETFROM:-0500
TZOFFSETTO:-0400
TZNAME:EDT
DTSTART:20240310T070000
END:DAYLIGHT
BEGIN:STANDARD
TZOFFSETFROM:-0400
TZOFFSETTO:-0500
TZNAME:EST
DTSTART:20241103T060000
END:STANDARD
END:VTIMEZONE
BEGIN:VEVENT
DTSTART;TZID=America/New_York:20231014T090000
DTEND;TZID=America/New_York:20231014T150000
DTSTAMP:20260423T120951
CREATED:20230629T150652Z
LAST-MODIFIED:20230919T191149Z
UID:10006855-1697274000-1697295600@www.archaeological.org
SUMMARY:8th Annual Archaeologists for Autism
DESCRIPTION:The Archaeologists for Autism mission is to unlock the potential of children and young adults with autism and autism related disorders. We aim to provide a chance to experience archaeology in a fun\, low stress environment and on their terms. \nWe are a non-profit 501(c) (3) association consisting of all volunteers and no one receives a salary or other compensation. We depend entirely on donations from the public and all funds go directly to running AFA.\nWe have partnered with various autism agencies and organizations as well as the archaeology and paleontology communities to run these events each year. \nHas the person in your family on the spectrum ever wanted to excavate actual artifacts (some 8\,000 years old)? Excavate fossils? Touch and hold actual artifacts? Learn how prehistoric peoples lived? Do they like prehistoric animals? What about playing with clay to make pots? We have all these activities and more!
URL:https://www.archaeological.org/event/8th-annual-archaeologists-for-autism/
LOCATION:Harry T. and Harriette V. Moore Memorial Park and Museum\, 2180 Freedom Avenue\, Mims\, FL\, USA\, Mims\, FL\, 32754\, United States
CATEGORIES:International Archaeology Day,Other Event
ORGANIZER;CN="Thomas Edward Penders":MAILTO:arch4autism@gmail.com
GEO:28.6554884;-80.8454093
X-APPLE-STRUCTURED-LOCATION;VALUE=URI;X-ADDRESS=Harry T. and Harriette V. Moore Memorial Park and Museum 2180 Freedom Avenue Mims FL USA Mims FL 32754 United States;X-APPLE-RADIUS=500;X-TITLE=2180 Freedom Avenue\, Mims\, FL\, USA:geo:-80.8454093,28.6554884
END:VEVENT
END:VCALENDAR