BEGIN:VCALENDAR
VERSION:2.0
PRODID:-//Archaeological Institute of America - ECPv6.15.20//NONSGML v1.0//EN
CALSCALE:GREGORIAN
METHOD:PUBLISH
X-ORIGINAL-URL:https://www.archaeological.org
X-WR-CALDESC:Events for Archaeological Institute of America
REFRESH-INTERVAL;VALUE=DURATION:PT1H
X-Robots-Tag:noindex
X-PUBLISHED-TTL:PT1H
BEGIN:VTIMEZONE
TZID:America/Chicago
BEGIN:DAYLIGHT
TZOFFSETFROM:-0600
TZOFFSETTO:-0500
TZNAME:CDT
DTSTART:20220313T080000
END:DAYLIGHT
BEGIN:STANDARD
TZOFFSETFROM:-0500
TZOFFSETTO:-0600
TZNAME:CST
DTSTART:20221106T070000
END:STANDARD
BEGIN:DAYLIGHT
TZOFFSETFROM:-0600
TZOFFSETTO:-0500
TZNAME:CDT
DTSTART:20230312T080000
END:DAYLIGHT
BEGIN:STANDARD
TZOFFSETFROM:-0500
TZOFFSETTO:-0600
TZNAME:CST
DTSTART:20231105T070000
END:STANDARD
BEGIN:DAYLIGHT
TZOFFSETFROM:-0600
TZOFFSETTO:-0500
TZNAME:CDT
DTSTART:20240310T080000
END:DAYLIGHT
BEGIN:STANDARD
TZOFFSETFROM:-0500
TZOFFSETTO:-0600
TZNAME:CST
DTSTART:20241103T070000
END:STANDARD
END:VTIMEZONE
BEGIN:VEVENT
DTSTART;TZID=America/Chicago:20231026T190000
DTEND;TZID=America/Chicago:20231026T190000
DTSTAMP:20260424T051317
CREATED:20230818T180325Z
LAST-MODIFIED:20230919T191702Z
UID:10006900-1698346800-1698346800@www.archaeological.org
SUMMARY:On the Move: Migrants and Mobility in the Roman Empire
DESCRIPTION:Tsakirgis Lecture
URL:https://www.archaeological.org/event/on-the-move-migrants-and-mobility-in-the-roman-empire/
LOCATION:Helge Center Multipurpose Room\, Valparaiso University\, 1509 Chapel Drive\, Valparaiso\, IN\, 46383\, United States
CATEGORIES:AIA Lecture Program,International Archaeology Day,Lecture
ORGANIZER;CN="AIA":MAILTO:lectures@archaeological.org
GEO:41.4642356;-87.0421841
X-APPLE-STRUCTURED-LOCATION;VALUE=URI;X-ADDRESS=Helge Center Multipurpose Room Valparaiso University 1509 Chapel Drive Valparaiso IN 46383 United States;X-APPLE-RADIUS=500;X-TITLE=1509 Chapel Drive:geo:-87.0421841,41.4642356
END:VEVENT
END:VCALENDAR