BEGIN:VCALENDAR
VERSION:2.0
PRODID:-//Archaeological Institute of America - ECPv6.15.20//NONSGML v1.0//EN
CALSCALE:GREGORIAN
METHOD:PUBLISH
X-WR-CALNAME:Archaeological Institute of America
X-ORIGINAL-URL:https://www.archaeological.org
X-WR-CALDESC:Events for Archaeological Institute of America
REFRESH-INTERVAL;VALUE=DURATION:PT1H
X-Robots-Tag:noindex
X-PUBLISHED-TTL:PT1H
BEGIN:VTIMEZONE
TZID:America/New_York
BEGIN:DAYLIGHT
TZOFFSETFROM:-0500
TZOFFSETTO:-0400
TZNAME:EDT
DTSTART:20220313T070000
END:DAYLIGHT
BEGIN:STANDARD
TZOFFSETFROM:-0400
TZOFFSETTO:-0500
TZNAME:EST
DTSTART:20221106T060000
END:STANDARD
BEGIN:DAYLIGHT
TZOFFSETFROM:-0500
TZOFFSETTO:-0400
TZNAME:EDT
DTSTART:20230312T070000
END:DAYLIGHT
BEGIN:STANDARD
TZOFFSETFROM:-0400
TZOFFSETTO:-0500
TZNAME:EST
DTSTART:20231105T060000
END:STANDARD
BEGIN:DAYLIGHT
TZOFFSETFROM:-0500
TZOFFSETTO:-0400
TZNAME:EDT
DTSTART:20240310T070000
END:DAYLIGHT
BEGIN:STANDARD
TZOFFSETFROM:-0400
TZOFFSETTO:-0500
TZNAME:EST
DTSTART:20241103T060000
END:STANDARD
BEGIN:DAYLIGHT
TZOFFSETFROM:-0500
TZOFFSETTO:-0400
TZNAME:EDT
DTSTART:20250309T070000
END:DAYLIGHT
BEGIN:STANDARD
TZOFFSETFROM:-0400
TZOFFSETTO:-0500
TZNAME:EST
DTSTART:20251102T060000
END:STANDARD
BEGIN:DAYLIGHT
TZOFFSETFROM:-0500
TZOFFSETTO:-0400
TZNAME:EDT
DTSTART:20260308T070000
END:DAYLIGHT
BEGIN:STANDARD
TZOFFSETFROM:-0400
TZOFFSETTO:-0500
TZNAME:EST
DTSTART:20261101T060000
END:STANDARD
END:VTIMEZONE
BEGIN:VEVENT
DTSTART;TZID=America/New_York:20251113T180000
DTEND;TZID=America/New_York:20251113T190000
DTSTAMP:20260422T140025
CREATED:20250902T142624Z
LAST-MODIFIED:20251028T175137Z
UID:10008537-1763056800-1763060400@www.archaeological.org
SUMMARY:Ceramic Production and Community at Archaic and Classical Eleon in Central Greece
DESCRIPTION:Joseph Veach Noble Lecture\, by Dr. Janelle Sadarananda\, Skidmore College
URL:https://www.archaeological.org/event/ceramic-production-and-community-at-archaic-and-classical-eleon-in-central-greece/
LOCATION:Jepson Hall\, Room 109\, 221 Richmond Way\, Richmond\, VA\, 23173\, United States
CATEGORIES:AIA Lecture Program
ORGANIZER;CN="Elizabeth Baughan":MAILTO:ebaughan@richmond.edu
GEO:37.5783736;-77.5374002
X-APPLE-STRUCTURED-LOCATION;VALUE=URI;X-ADDRESS=Jepson Hall Room 109 221 Richmond Way Richmond VA 23173 United States;X-APPLE-RADIUS=500;X-TITLE=221 Richmond Way:geo:-77.5374002,37.5783736
END:VEVENT
BEGIN:VEVENT
DTSTART;TZID=America/New_York:20241010T180000
DTEND;TZID=America/New_York:20241010T193000
DTSTAMP:20260422T140025
CREATED:20240823T130642Z
LAST-MODIFIED:20240823T130642Z
UID:10007146-1728583200-1728588600@www.archaeological.org
SUMMARY:“The Discovery of and Excavations at Eyreville. A 17th century Plantation Site on Virginia’s Eastern Shore”
DESCRIPTION:Lecture by Michael Clem (Virginia Department of Historic Resources)\, in celebration of Virginia Archaeology Month and International Archaeology Day.
URL:https://www.archaeological.org/event/the-discovery-of-and-excavations-at-eyreville-a-17th-century-plantation-site-on-virginias-eastern-shore/
LOCATION:Jepson Hall\, Room 109\, 221 Richmond Way\, Richmond\, VA\, 23173\, United States
CATEGORIES:International Archaeology Day,Lecture
ORGANIZER;CN="Elizabeth Baughan":MAILTO:ebaughan@richmond.edu
GEO:37.5783736;-77.5374002
X-APPLE-STRUCTURED-LOCATION;VALUE=URI;X-ADDRESS=Jepson Hall Room 109 221 Richmond Way Richmond VA 23173 United States;X-APPLE-RADIUS=500;X-TITLE=221 Richmond Way:geo:-77.5374002,37.5783736
END:VEVENT
BEGIN:VEVENT
DTSTART;TZID=America/New_York:20240411T180000
DTEND;TZID=America/New_York:20240411T180000
DTSTAMP:20260422T140025
CREATED:20240116T144439Z
LAST-MODIFIED:20240116T144439Z
UID:10006608-1712858400-1712858400@www.archaeological.org
SUMMARY:Sacred Spectating in Late Antique Egypt: Monastic Painting as Spiritual Experience
DESCRIPTION:Lecture by Agnieszka Szymanska (University of Richmond). Free and open to the public.
URL:https://www.archaeological.org/event/sacred-spectating-in-late-antique-egypt-monastic-painting-as-spiritual-experience/
LOCATION:Jepson Hall\, Room 109\, 221 Richmond Way\, Richmond\, VA\, 23173\, United States
CATEGORIES:AIA Lecture Program
ORGANIZER;CN="Elizabeth Baughan":MAILTO:ebaughan@richmond.edu
GEO:37.5783736;-77.5374002
X-APPLE-STRUCTURED-LOCATION;VALUE=URI;X-ADDRESS=Jepson Hall Room 109 221 Richmond Way Richmond VA 23173 United States;X-APPLE-RADIUS=500;X-TITLE=221 Richmond Way:geo:-77.5374002,37.5783736
END:VEVENT
BEGIN:VEVENT
DTSTART;TZID=America/New_York:20240321T180000
DTEND;TZID=America/New_York:20240321T180000
DTSTAMP:20260422T140025
CREATED:20240116T144557Z
LAST-MODIFIED:20240116T144557Z
UID:10006610-1711044000-1711044000@www.archaeological.org
SUMMARY:From the City of Victory to the Foothills of the Himalayas: An Archaeologist in India
DESCRIPTION:Lecture by Bernard Means (Virginia Commonwealth University). Free and open to the public.
URL:https://www.archaeological.org/event/from-the-city-of-victory-to-the-foothills-of-the-himalayas-an-archaeologist-in-india/
LOCATION:Jepson Hall\, Room 109\, 221 Richmond Way\, Richmond\, VA\, 23173\, United States
CATEGORIES:AIA Lecture Program
ORGANIZER;CN="Elizabeth Baughan":MAILTO:ebaughan@richmond.edu
GEO:37.5783736;-77.5374002
X-APPLE-STRUCTURED-LOCATION;VALUE=URI;X-ADDRESS=Jepson Hall Room 109 221 Richmond Way Richmond VA 23173 United States;X-APPLE-RADIUS=500;X-TITLE=221 Richmond Way:geo:-77.5374002,37.5783736
END:VEVENT
BEGIN:VEVENT
DTSTART;TZID=America/New_York:20240208T180000
DTEND;TZID=America/New_York:20240208T180000
DTSTAMP:20260422T140025
CREATED:20240116T143802Z
LAST-MODIFIED:20240116T143802Z
UID:10006606-1707415200-1707415200@www.archaeological.org
SUMMARY:Monumentality in early Etruria: recent discoveries at Poggio Civitate
DESCRIPTION:Lecture by Kate Kreindler (University of Virginia). Ferdinando and Sarah Cinelli Lecture in Etruscan and Italic Archaeology. Free and open to the public.
URL:https://www.archaeological.org/event/monumentality-in-early-etruria-recent-discoveries-at-poggio-civitate/
LOCATION:Jepson Hall\, Room 109\, 221 Richmond Way\, Richmond\, VA\, 23173\, United States
CATEGORIES:AIA Lecture Program
ORGANIZER;CN="Elizabeth Baughan":MAILTO:ebaughan@richmond.edu
GEO:37.5783736;-77.5374002
X-APPLE-STRUCTURED-LOCATION;VALUE=URI;X-ADDRESS=Jepson Hall Room 109 221 Richmond Way Richmond VA 23173 United States;X-APPLE-RADIUS=500;X-TITLE=221 Richmond Way:geo:-77.5374002,37.5783736
END:VEVENT
BEGIN:VEVENT
DTSTART;TZID=America/New_York:20231012T180000
DTEND;TZID=America/New_York:20231012T190000
DTSTAMP:20260422T140025
CREATED:20230913T142004Z
LAST-MODIFIED:20230913T142004Z
UID:10006981-1697133600-1697137200@www.archaeological.org
SUMMARY:Restoring Faith: Community Archaeology and the Search for America's Oldest Black Baptist Church
DESCRIPTION:Lecture by Jack Gary (Colonial Williamsburg)
URL:https://www.archaeological.org/event/restoring-faith-community-archaeology-and-the-search-for-americas-oldest-black-baptist-church/
LOCATION:Jepson Hall\, Room 109\, 221 Richmond Way\, Richmond\, VA\, 23173\, United States
CATEGORIES:International Archaeology Day
ORGANIZER;CN="Elizabeth Baughan":MAILTO:ebaughan@richmond.edu
GEO:37.5783736;-77.5374002
X-APPLE-STRUCTURED-LOCATION;VALUE=URI;X-ADDRESS=Jepson Hall Room 109 221 Richmond Way Richmond VA 23173 United States;X-APPLE-RADIUS=500;X-TITLE=221 Richmond Way:geo:-77.5374002,37.5783736
END:VEVENT
END:VCALENDAR