BEGIN:VCALENDAR
VERSION:2.0
PRODID:-//Archaeological Institute of America - ECPv6.15.20//NONSGML v1.0//EN
CALSCALE:GREGORIAN
METHOD:PUBLISH
X-WR-CALNAME:Archaeological Institute of America
X-ORIGINAL-URL:https://www.archaeological.org
X-WR-CALDESC:Events for Archaeological Institute of America
REFRESH-INTERVAL;VALUE=DURATION:PT1H
X-Robots-Tag:noindex
X-PUBLISHED-TTL:PT1H
BEGIN:VTIMEZONE
TZID:Europe/Rome
BEGIN:DAYLIGHT
TZOFFSETFROM:+0100
TZOFFSETTO:+0200
TZNAME:CEST
DTSTART:20240331T010000
END:DAYLIGHT
BEGIN:STANDARD
TZOFFSETFROM:+0200
TZOFFSETTO:+0100
TZNAME:CET
DTSTART:20241027T010000
END:STANDARD
BEGIN:DAYLIGHT
TZOFFSETFROM:+0100
TZOFFSETTO:+0200
TZNAME:CEST
DTSTART:20250330T010000
END:DAYLIGHT
BEGIN:STANDARD
TZOFFSETFROM:+0200
TZOFFSETTO:+0100
TZNAME:CET
DTSTART:20251026T010000
END:STANDARD
BEGIN:DAYLIGHT
TZOFFSETFROM:+0100
TZOFFSETTO:+0200
TZNAME:CEST
DTSTART:20260329T010000
END:DAYLIGHT
BEGIN:STANDARD
TZOFFSETFROM:+0200
TZOFFSETTO:+0100
TZNAME:CET
DTSTART:20261025T010000
END:STANDARD
BEGIN:DAYLIGHT
TZOFFSETFROM:+0100
TZOFFSETTO:+0200
TZNAME:CEST
DTSTART:20270328T010000
END:DAYLIGHT
BEGIN:STANDARD
TZOFFSETFROM:+0200
TZOFFSETTO:+0100
TZNAME:CET
DTSTART:20271031T010000
END:STANDARD
END:VTIMEZONE
BEGIN:VEVENT
DTSTART;TZID=Europe/Rome:20260408T180000
DTEND;TZID=Europe/Rome:20260408T193000
DTSTAMP:20260423T062702
CREATED:20260105T171527Z
LAST-MODIFIED:20260329T221113Z
UID:10008811-1775671200-1775676600@www.archaeological.org
SUMMARY:Highly Educated Slaves and Freedmen in Republican Rome
DESCRIPTION:Slaves and freedmen played an important yet understudied role in the literary culture of the Roman Republic. Though their work went largely uncredited\, they fulfilled vital roles as editors\, researchers\, and collaborators in the service of Rome’s literary and political elite.\nDuring this public lecture\, Prof. Flower (Princeton University) — Rome-SPQR Society Choice Lecturer – – will illustrate the stories of these gifted and highly educated young men\, from Licinius the flute-player\, who shaped the rhetorical style of the orator Gaius Gracchus\, to the grammarian and teacher Tyrannio of Amisus\, who was brought to Rome as a war captive.\nHighlighting the unique social prestige of literary production and intellectual performance in a society pervaded by slave labor\, Prof. Flower will show how the exorbitant prices paid for the highly educated encouraged a complex system of training young boys for the marketplace or acquiring educated captives as booty. Enslaved and manumitted intellectuals\, far from being menial workers\, shared close relationships with leading Romans of the day\, and were relied on as coauthors and collaborators in a range of genres\, with some gaining fame as authors themselves.\nWith lively case studies and insightful new interpretations of the ancient sources\, this lecture will paint a more nuanced picture of enslaved labor in ancient Rome\, revealing how the contributions of enslaved intellectuals were closely linked to the ambitious development of Latin literary culture and the dissemination of knowledge.
URL:https://www.archaeological.org/event/highly-educated-slaves-and-freedmen-in-republican-rome/
LOCATION:John Cabot University – Aula Magna Regina\, Via della Lungara 233\, Roma\, Roma\, 00165\, Italy
CATEGORIES:AIA Lecture Program,Lecture
ATTACH;FMTTYPE=image/png:https://www.archaeological.org/wp-content/uploads/2026/01/Poster-NEW-Highly-Educated-Slaves-and-Freemen-in-republican-rome.png
ORGANIZER;CN="Prof. Massimo Betello":MAILTO:mbetello@johncabot.edu
GEO:41.8926899;12.4676386
X-APPLE-STRUCTURED-LOCATION;VALUE=URI;X-ADDRESS=John Cabot University – Aula Magna Regina Via della Lungara 233 Roma Roma 00165 Italy;X-APPLE-RADIUS=500;X-TITLE=Via della Lungara 233:geo:12.4676386,41.8926899
END:VEVENT
BEGIN:VEVENT
DTSTART;TZID=Europe/Rome:20250327T180000
DTEND;TZID=Europe/Rome:20250327T193000
DTSTAMP:20260423T062702
CREATED:20250326T153738Z
LAST-MODIFIED:20250326T153738Z
UID:10007632-1743098400-1743103800@www.archaeological.org
SUMMARY:Using AI and Remote Sensing to Fight Looting and the Archaeo-Mafie
DESCRIPTION:Looting of historical sites and monuments still happens in Italy\, every day. There is only one reason for this criminal activity: money. And with illegal revenues comes organized crime. Indeed Italian Mafias are involved in trafficking illicit antiquities and supporting professional looters who can now use tools like drones for rapid site identification and theft.\nTo counter these threats\, the Centre for Cultural Heritage Technology (CCHT) of the Istituto Italiano di Tecnologia (ITT) has pioneered the use of Artificial Intelligence. Their tools can now sift through vast amounts of satellite imagery to pinpoint illegal excavations and analyze online communications to reconstruct major trafficking groups and their criminal networks.\nIn this talk\, CCHT Director Dr. Arianna Traviglia will detail how these tools can be used to detect and prevent looting and to provide intelligence against illicit trafficking of cultural goods.
URL:https://www.archaeological.org/event/using-ai-and-remote-sensing-to-fight-looting-and-the-archaeo-mafie/
LOCATION:John Cabot University – Aula Magna Regina\, Via della Lungara 233\, Roma\, Roma\, 00165\, Italy
CATEGORIES:Lecture
ATTACH;FMTTYPE=image/jpeg:https://www.archaeological.org/wp-content/uploads/2025/03/Poster-TRAVIGLIA-Archemafie-and-AI.jpg
ORGANIZER;CN="Prof. Massimo Betello":MAILTO:mbetello@johncabot.edu
GEO:41.8926899;12.4676386
X-APPLE-STRUCTURED-LOCATION;VALUE=URI;X-ADDRESS=John Cabot University – Aula Magna Regina Via della Lungara 233 Roma Roma 00165 Italy;X-APPLE-RADIUS=500;X-TITLE=Via della Lungara 233:geo:12.4676386,41.8926899
END:VEVENT
END:VCALENDAR