BEGIN:VCALENDAR
VERSION:2.0
PRODID:-//Archaeological Institute of America - ECPv6.15.20//NONSGML v1.0//EN
CALSCALE:GREGORIAN
METHOD:PUBLISH
X-ORIGINAL-URL:https://www.archaeological.org
X-WR-CALDESC:Events for Archaeological Institute of America
REFRESH-INTERVAL;VALUE=DURATION:PT1H
X-Robots-Tag:noindex
X-PUBLISHED-TTL:PT1H
BEGIN:VTIMEZONE
TZID:America/Chicago
BEGIN:DAYLIGHT
TZOFFSETFROM:-0600
TZOFFSETTO:-0500
TZNAME:CDT
DTSTART:20230312T080000
END:DAYLIGHT
BEGIN:STANDARD
TZOFFSETFROM:-0500
TZOFFSETTO:-0600
TZNAME:CST
DTSTART:20231105T070000
END:STANDARD
BEGIN:DAYLIGHT
TZOFFSETFROM:-0600
TZOFFSETTO:-0500
TZNAME:CDT
DTSTART:20240310T080000
END:DAYLIGHT
BEGIN:STANDARD
TZOFFSETFROM:-0500
TZOFFSETTO:-0600
TZNAME:CST
DTSTART:20241103T070000
END:STANDARD
BEGIN:DAYLIGHT
TZOFFSETFROM:-0600
TZOFFSETTO:-0500
TZNAME:CDT
DTSTART:20250309T080000
END:DAYLIGHT
BEGIN:STANDARD
TZOFFSETFROM:-0500
TZOFFSETTO:-0600
TZNAME:CST
DTSTART:20251102T070000
END:STANDARD
BEGIN:DAYLIGHT
TZOFFSETFROM:-0600
TZOFFSETTO:-0500
TZNAME:CDT
DTSTART:20260308T080000
END:DAYLIGHT
BEGIN:STANDARD
TZOFFSETFROM:-0500
TZOFFSETTO:-0600
TZNAME:CST
DTSTART:20261101T070000
END:STANDARD
BEGIN:DAYLIGHT
TZOFFSETFROM:-0600
TZOFFSETTO:-0500
TZNAME:CDT
DTSTART:20270314T080000
END:DAYLIGHT
BEGIN:STANDARD
TZOFFSETFROM:-0500
TZOFFSETTO:-0600
TZNAME:CST
DTSTART:20271107T070000
END:STANDARD
END:VTIMEZONE
BEGIN:VEVENT
DTSTART;TZID=America/Chicago:20260318T170000
DTEND;TZID=America/Chicago:20260318T183000
DTSTAMP:20260422T123715
CREATED:20260305T174349Z
LAST-MODIFIED:20260305T174349Z
UID:10008877-1773853200-1773858600@www.archaeological.org
SUMMARY:From Money to Metal: How to Operate a Civic Mint in the Roman Empire
DESCRIPTION:Speaker: Dr. Kenneth W. Harl\, Professor Emeritus\, Department of History\, Tulane University \nBased on analysis of the coins themselves\, Professor Harl reconstructs how Greek cities in the Roman Empire manufactured and distributed bronzes coins. Not only do the coins reveal the stages of production by workers and the engraving of dies by artists\, but they also offer a means of calculating the output of money. The scale of production and organization of labor are both far more impressive than hitherto realized. The coins struck by mint of Marcianopolis (today Devnya\, Bulgaria) in the reign of the Emperor Macrinus (217-218) offer the test case for explaining how metal was turned into money.
URL:https://www.archaeological.org/event/from-money-to-metal-how-to-operate-a-civic-mint-in-the-roman-empire/
LOCATION:Joseph Merrick Jones Hall 108\, Tulane University\, Freret Street\, New Orleans\, LA\, 70118\, United States
CATEGORIES:Lecture
ATTACH;FMTTYPE=image/png:https://www.archaeological.org/wp-content/uploads/2026/03/Harl-C1-Flyer.png
ORGANIZER;CN="Susann Lusnia":MAILTO:slusnia@tulane.edu
GEO:29.9395385;-90.1212597
X-APPLE-STRUCTURED-LOCATION;VALUE=URI;X-ADDRESS=Joseph Merrick Jones Hall 108 Tulane University Freret Street New Orleans LA 70118 United States;X-APPLE-RADIUS=500;X-TITLE=Freret Street:geo:-90.1212597,29.9395385
END:VEVENT
BEGIN:VEVENT
DTSTART;TZID=America/Chicago:20241023T183000
DTEND;TZID=America/Chicago:20241023T193000
DTSTAMP:20260422T123715
CREATED:20240922T133947Z
LAST-MODIFIED:20240922T133947Z
UID:10007221-1729708200-1729711800@www.archaeological.org
SUMMARY:Lecture: Communal Water\, Invisible Labor: Modeling the Social Impact of Pompeii’s Street Fountains
DESCRIPTION:A lecture by Professor Matthew Notarian (Hiram College\, OH) \nAbstract: The remarkable preservation of the Roman city of Pompeii provides unprecedented insight into an aqueduct-fed urban water system. Visitors often marvel at the city’s network of public street fountains\, but few consider the practical consequences of the tedious but essential labor required to transport water into living spaces. Fountains served as neighborhood hubs\, channeling movement through streets and facilitating social interactions. Their distribution also influenced water accessibility\, with severe implications for public health and socioeconomic status. The burden of water collection fell heaviest on those at the margins of Roman society – sub-elite women\, children\, and\, especially\, the enslaved – classes which are virtually invisible in the textual and visual record. This talk will present the results of a complex digital spatial model that sheds light on these issues at a household-level scale\, as well as an ongoing project of 3D analysis that aims to quantify use-wear on public fountain basins. Together\, they represent a significant first step toward repopulating Pompeii’s streets with indispensable but often forgotten laborers.
URL:https://www.archaeological.org/event/lecture-communal-water-invisible-labor-modeling-the-social-impact-of-pompeiis-street-fountains/
LOCATION:Joseph Merrick Jones Hall 108\, Tulane University\, Freret Street\, New Orleans\, LA\, 70118\, United States
CATEGORIES:Lecture
ORGANIZER;CN="Susann Lusnia":MAILTO:slusnia@tulane.edu
GEO:29.9395385;-90.1212597
X-APPLE-STRUCTURED-LOCATION;VALUE=URI;X-ADDRESS=Joseph Merrick Jones Hall 108 Tulane University Freret Street New Orleans LA 70118 United States;X-APPLE-RADIUS=500;X-TITLE=Freret Street:geo:-90.1212597,29.9395385
END:VEVENT
END:VCALENDAR