BEGIN:VCALENDAR
VERSION:2.0
PRODID:-//Archaeological Institute of America - ECPv6.15.20//NONSGML v1.0//EN
CALSCALE:GREGORIAN
METHOD:PUBLISH
X-WR-CALNAME:Archaeological Institute of America
X-ORIGINAL-URL:https://www.archaeological.org
X-WR-CALDESC:Events for Archaeological Institute of America
REFRESH-INTERVAL;VALUE=DURATION:PT1H
X-Robots-Tag:noindex
X-PUBLISHED-TTL:PT1H
BEGIN:VTIMEZONE
TZID:America/New_York
BEGIN:DAYLIGHT
TZOFFSETFROM:-0500
TZOFFSETTO:-0400
TZNAME:EDT
DTSTART:20240310T070000
END:DAYLIGHT
BEGIN:STANDARD
TZOFFSETFROM:-0400
TZOFFSETTO:-0500
TZNAME:EST
DTSTART:20241103T060000
END:STANDARD
BEGIN:DAYLIGHT
TZOFFSETFROM:-0500
TZOFFSETTO:-0400
TZNAME:EDT
DTSTART:20250309T070000
END:DAYLIGHT
BEGIN:STANDARD
TZOFFSETFROM:-0400
TZOFFSETTO:-0500
TZNAME:EST
DTSTART:20251102T060000
END:STANDARD
BEGIN:DAYLIGHT
TZOFFSETFROM:-0500
TZOFFSETTO:-0400
TZNAME:EDT
DTSTART:20260308T070000
END:DAYLIGHT
BEGIN:STANDARD
TZOFFSETFROM:-0400
TZOFFSETTO:-0500
TZNAME:EST
DTSTART:20261101T060000
END:STANDARD
END:VTIMEZONE
BEGIN:VEVENT
DTSTART;TZID=America/New_York:20251018T110000
DTEND;TZID=America/New_York:20251018T150000
DTSTAMP:20260421T105334
CREATED:20241004T130940Z
LAST-MODIFIED:20250829T183428Z
UID:10007269-1760785200-1760799600@www.archaeological.org
SUMMARY:Uncover Archaeology: Community Archaeology Day at the Joukowsky Institute
DESCRIPTION:Join the Joukowsky Institute for Archaeology and the Ancient World and the AIA Narragansett Society for an archaeology-themed open house on Brown University’s Main Green. See ancient coins from Greece and Rome up close! Touch animal bones! Examine and draw Persian and Roman ceramics\, prehistoric tools\, precious metals\, and other artifacts from thousands of years ago – coached by experts! And talk with Brown’s archaeologists about their fieldwork all over the world! Free and open to the public\, and all ages are welcome.
URL:https://www.archaeological.org/event/uncover-archaeology-community-archaeology-day-at-the-joukowsky-institute/
LOCATION:Joukowsky Institute for Archaeology\, Rhode Island Hall\, Brown University\, 60 George Street\, Providence\, RI\, 02912\, United States
CATEGORIES:Archaeology Fair,Education,Exhibition,International Archaeology Day
ATTACH;FMTTYPE=image/jpeg:https://www.archaeological.org/wp-content/uploads/2024/10/RIHall_ArchDay_2023.jpg
ORGANIZER;CN="Narragansett Society and Joukowsky Institute for Archaeology":MAILTO:joukowsky_institute@brown.edu
GEO:41.8255021;-71.4038
X-APPLE-STRUCTURED-LOCATION;VALUE=URI;X-ADDRESS=Joukowsky Institute for Archaeology Rhode Island Hall Brown University 60 George Street Providence RI 02912 United States;X-APPLE-RADIUS=500;X-TITLE=Rhode Island Hall\, Brown University\, 60 George Street:geo:-71.4038,41.8255021
END:VEVENT
BEGIN:VEVENT
DTSTART;TZID=America/New_York:20250918T130000
DTEND;TZID=America/New_York:20250918T150000
DTSTAMP:20260421T105334
CREATED:20250919T132544Z
LAST-MODIFIED:20250919T132544Z
UID:10008592-1758200400-1758207600@www.archaeological.org
SUMMARY:Community Data Collection Day at Providence’s North Burial Ground
DESCRIPTION:Help preserve Providence history! Join the Joukowsky Institute for Archaeology and the Ancient World and the staff of Providence’s North Burial Ground for a community data collection day within the cemetery’s old Colonial sections. Founded in 1700\, North Burial Ground predates the founding of the United States and the charter of the City of Providence. Help document the oldest tombstones at NBG to aid in research about Providence’s history and future preservation decisions. You will also learn about the cemetery’s history and many of the stories within it. Free and open to the public\, and all ages are welcome. Please bring a pencil and a writing\, though a limited number of clipboards and pencils will be available at the event. \nLocation: North Burial Ground\, Rochambeau Entrance. Free parking on Main Street\, or take the R bus line. \nContact: jiaaw@brown.edu or (401) 863-3188.
URL:https://www.archaeological.org/event/community-data-collection-day-at-providences-north-burial-ground/
LOCATION:Joukowsky Institute for Archaeology\, Rhode Island Hall\, Brown University\, 60 George Street\, Providence\, RI\, 02912\, United States
CATEGORIES:Education,International Archaeology Day,Other Event
ATTACH;FMTTYPE=image/png:https://www.archaeological.org/wp-content/uploads/2025/09/North-Burial-Ground-Archaeology-Day-2025-Square_v3.png
ORGANIZER;CN="Joukowsky Institute for Archaeology and the Ancient World":MAILTO:jiaaw@brown.edu
GEO:41.8255021;-71.4038
X-APPLE-STRUCTURED-LOCATION;VALUE=URI;X-ADDRESS=Joukowsky Institute for Archaeology Rhode Island Hall Brown University 60 George Street Providence RI 02912 United States;X-APPLE-RADIUS=500;X-TITLE=Rhode Island Hall\, Brown University\, 60 George Street:geo:-71.4038,41.8255021
END:VEVENT
BEGIN:VEVENT
DTSTART;TZID=America/New_York:20250416T173000
DTEND;TZID=America/New_York:20250416T183000
DTSTAMP:20260421T105334
CREATED:20250408T163206Z
LAST-MODIFIED:20250408T163206Z
UID:10007661-1744824600-1744828200@www.archaeological.org
SUMMARY:The Hidden Dead: Bioarchaeology of Ancient Maya Cave Ritual
DESCRIPTION:Doris Z. Stone New World Archaeology Lectures
URL:https://www.archaeological.org/event/the-hidden-dead-bioarchaeology-of-ancient-maya-cave-ritual-2/
LOCATION:Joukowsky Institute for Archaeology\, Rhode Island Hall\, Brown University\, 60 George Street\, Providence\, RI\, 02912\, United States
CATEGORIES:AIA Lecture Program,Lecture
ORGANIZER;CN="Leah Neiman":MAILTO:leah_neiman@brown.edu
GEO:41.8255021;-71.4038
X-APPLE-STRUCTURED-LOCATION;VALUE=URI;X-ADDRESS=Joukowsky Institute for Archaeology Rhode Island Hall Brown University 60 George Street Providence RI 02912 United States;X-APPLE-RADIUS=500;X-TITLE=Rhode Island Hall\, Brown University\, 60 George Street:geo:-71.4038,41.8255021
END:VEVENT
BEGIN:VEVENT
DTSTART;VALUE=DATE:20250303
DTEND;VALUE=DATE:20250304
DTSTAMP:20260421T105334
CREATED:20250210T153144Z
LAST-MODIFIED:20250210T153144Z
UID:10007549-1740960000-1741046399@www.archaeological.org
SUMMARY:CFP: JIAAW Spring Symposium 2026
DESCRIPTION:The Joukowsky Institute for Archaeology and the Ancient World (JIAAW) is accepting collaborative proposals for a symposium to be held in the spring semester of 2026. Joukowsky symposia are one- or two-day affairs organized around a topic relevant to the central mission of the Institute. This includes a core strength in archaeological and allied approaches to the study of the ancient Mediterranean and the Near East\, complemented by scholarship focused on the ancient Americas and East Asian antiquity. Proposals should focus on either: 1) a geographical area of particular relevance to the JIAAW; or 2) a methodology or theme relevant to JIAAW research\, while bringing together scholars working in a variety of regions\, including (but not limited to) those relevant to the JIAAW. \nProposals should be submitted by a pair of scholars who practice in relevant disciplines\, at least one of whom must hold a Ph.D. At least one organizer should be based outside Brown University; the other should be a JIAAW Academic Faculty member\, Faculty Fellow\, Postdoctoral Fellow\, or Ph.D. candidate or Graduate Student Fellow (ABD status only\, in both cases). Proposal authors will serve as the organizers of the symposium\, which will be held at Rhode Island Hall\, the home of the JIAAW at Brown University. The JIAAW will cover all programming costs related to the event\, including costs of travel and lodging for symposium organizers and all speakers at the event. JIAAW symposia typically have budgets of $15\,000 to $30\,000 and involve a mix of local\, national\, and international scholars. \nSymposium organizers are encouraged to identify why the symposium is a good fit for the JIAAW and Brown University more broadly and to develop a plan for publication of the symposium\, either in a special issue of a journal or an edited volume. \nThe proposal should include the following:\n● A one- to two-page narrative outlining the scope and aims of the symposium and its potential impact on scholarship on archaeology and the ancient world\n● A bibliography of relevant sources cited in the proposal (no more than 2 pages)\n● A list of the names of 8-12 proposed speakers\, including their current academic or professional affiliations\n● Curriculum vitae of both organizers \nProposals will be evaluated by a committee of JIAAW Academic Faculty based on the following criteria:\n● Innovativeness\n● Potential impact on scholarship related to archaeology and the ancient world\, including publication plans\n● The synergy of the proposed lineup of speakers relative to the proposed topics\n● The symposium’s relevance to the central mission of the JIAAW and potential links to other ongoing academic initiatives at Brown University\n● The relevant experience of the organizers\, their history of publication\, and prior experience planning and overseeing conferences. \nA successful proposal will demonstrate capacity to meaningfully impact scholarship on a particular topic\, help create or support meaningful partnerships with colleagues at other institutions\, while also enriching the greater intellectual community of archaeology and the ancient world at Brown University. \nThe 2026 symposium is being considered a pilot event and if successful will lead to further calls for supported symposia in the future. Questions and completed proposals should be directed to jiaaw@brown.edu. For full consideration\, please submit proposals by March 3\, 2025.
URL:https://www.archaeological.org/event/cfp-jiaaw-spring-symposium-2026/
LOCATION:Joukowsky Institute for Archaeology\, Rhode Island Hall\, Brown University\, 60 George Street\, Providence\, RI\, 02912\, United States
CATEGORIES:Conference,Lecture,Workshop
ATTACH;FMTTYPE=image/png:https://www.archaeological.org/wp-content/uploads/2025/02/JIAAW_blackwithwhitefill_ontransparent.png
ORGANIZER;CN="Joukowsky Institute for Archaeology and the Ancient World":MAILTO:jiaaw@brown.edu
GEO:41.8255021;-71.4038
X-APPLE-STRUCTURED-LOCATION;VALUE=URI;X-ADDRESS=Joukowsky Institute for Archaeology Rhode Island Hall Brown University 60 George Street Providence RI 02912 United States;X-APPLE-RADIUS=500;X-TITLE=Rhode Island Hall\, Brown University\, 60 George Street:geo:-71.4038,41.8255021
END:VEVENT
END:VCALENDAR