BEGIN:VCALENDAR
VERSION:2.0
PRODID:-//Archaeological Institute of America - ECPv6.15.20//NONSGML v1.0//EN
CALSCALE:GREGORIAN
METHOD:PUBLISH
X-ORIGINAL-URL:https://www.archaeological.org
X-WR-CALDESC:Events for Archaeological Institute of America
REFRESH-INTERVAL;VALUE=DURATION:PT1H
X-Robots-Tag:noindex
X-PUBLISHED-TTL:PT1H
BEGIN:VTIMEZONE
TZID:America/New_York
BEGIN:DAYLIGHT
TZOFFSETFROM:-0500
TZOFFSETTO:-0400
TZNAME:EDT
DTSTART:20210314T070000
END:DAYLIGHT
BEGIN:STANDARD
TZOFFSETFROM:-0400
TZOFFSETTO:-0500
TZNAME:EST
DTSTART:20211107T060000
END:STANDARD
BEGIN:DAYLIGHT
TZOFFSETFROM:-0500
TZOFFSETTO:-0400
TZNAME:EDT
DTSTART:20220313T070000
END:DAYLIGHT
BEGIN:STANDARD
TZOFFSETFROM:-0400
TZOFFSETTO:-0500
TZNAME:EST
DTSTART:20221106T060000
END:STANDARD
BEGIN:DAYLIGHT
TZOFFSETFROM:-0500
TZOFFSETTO:-0400
TZNAME:EDT
DTSTART:20230312T070000
END:DAYLIGHT
BEGIN:STANDARD
TZOFFSETFROM:-0400
TZOFFSETTO:-0500
TZNAME:EST
DTSTART:20231105T060000
END:STANDARD
BEGIN:DAYLIGHT
TZOFFSETFROM:-0500
TZOFFSETTO:-0400
TZNAME:EDT
DTSTART:20240310T070000
END:DAYLIGHT
BEGIN:STANDARD
TZOFFSETFROM:-0400
TZOFFSETTO:-0500
TZNAME:EST
DTSTART:20241103T060000
END:STANDARD
BEGIN:DAYLIGHT
TZOFFSETFROM:-0500
TZOFFSETTO:-0400
TZNAME:EDT
DTSTART:20250309T070000
END:DAYLIGHT
BEGIN:STANDARD
TZOFFSETFROM:-0400
TZOFFSETTO:-0500
TZNAME:EST
DTSTART:20251102T060000
END:STANDARD
BEGIN:DAYLIGHT
TZOFFSETFROM:-0500
TZOFFSETTO:-0400
TZNAME:EDT
DTSTART:20260308T070000
END:DAYLIGHT
BEGIN:STANDARD
TZOFFSETFROM:-0400
TZOFFSETTO:-0500
TZNAME:EST
DTSTART:20261101T060000
END:STANDARD
END:VTIMEZONE
BEGIN:VEVENT
DTSTART;TZID=America/New_York:20250130T180000
DTEND;TZID=America/New_York:20250130T190000
DTSTAMP:20260421T082856
CREATED:20250122T150631Z
LAST-MODIFIED:20250122T150631Z
UID:10007496-1738260000-1738263600@www.archaeological.org
SUMMARY:Decolonizing Museums and the Case of the 'Elgin Marbles': Exceptionalism vs Solidarity
DESCRIPTION:Martha Sharp Joukowsky Lectureships
URL:https://www.archaeological.org/event/decolonizing-museums-and-the-case-of-the-elgin-marbles-exceptionalism-vs-solidarity-2/
LOCATION:Newberry Hall\, Room 125\, Kelsey Museum of Archaeology\, 434 S. State St.\, Ann Arbor\, MI\, 48109\, United States
CATEGORIES:AIA Lecture Program
ORGANIZER;CN="Laura Motta":MAILTO:lmotta@umich.edu
GEO:42.2766233;-83.7397101
X-APPLE-STRUCTURED-LOCATION;VALUE=URI;X-ADDRESS=Newberry Hall Room 125 Kelsey Museum of Archaeology 434 S. State St. Ann Arbor MI 48109 United States;X-APPLE-RADIUS=500;X-TITLE=434 S. State St.:geo:-83.7397101,42.2766233
END:VEVENT
BEGIN:VEVENT
DTSTART;TZID=America/New_York:20241006T120000
DTEND;TZID=America/New_York:20241006T150000
DTSTAMP:20260421T082856
CREATED:20240710T151455Z
LAST-MODIFIED:20240710T151455Z
UID:10006657-1728216000-1728226800@www.archaeological.org
SUMMARY:Archaeology Day 2024
DESCRIPTION:Family Day is a biannual\, family-friendly event featuring engaging\, hands-on activities related to the cultures of the ancient Middle East\, Greece\, Egypt\, and Rome! Each Family Day is centered around a theme and offers activities that are fun for all ages. Our Fall Archaeology Day this year will feature the Roman empire and the gladiator games.
URL:https://www.archaeological.org/event/archaeology-day-2024/
LOCATION:Newberry Hall\, Room 125\, Kelsey Museum of Archaeology\, 434 S. State St.\, Ann Arbor\, MI\, 48109\, United States
CATEGORIES:International Archaeology Day
ORGANIZER;CN="Kelsey Museum Education Dept.":MAILTO:kelsey.ed@umich.edu
GEO:42.2766233;-83.7397101
X-APPLE-STRUCTURED-LOCATION;VALUE=URI;X-ADDRESS=Newberry Hall Room 125 Kelsey Museum of Archaeology 434 S. State St. Ann Arbor MI 48109 United States;X-APPLE-RADIUS=500;X-TITLE=434 S. State St.:geo:-83.7397101,42.2766233
END:VEVENT
BEGIN:VEVENT
DTSTART;TZID=America/New_York:20231022T120000
DTEND;TZID=America/New_York:20231022T150000
DTSTAMP:20260421T082856
CREATED:20230811T154910Z
LAST-MODIFIED:20230906T141233Z
UID:10006879-1697976000-1697986800@www.archaeological.org
SUMMARY:Fall Family Day at the Kelsey Museum
DESCRIPTION:The Fall 2023 Family Day will take place on Sunday\, October 22\, from 12:00 to 3:00 PM at the Kelsey Museum. Held in connection with International Archaeology Day on October 21\, the event will feature activities in the classrooms\, a scavenger hunt\, storytime\, and more relating to this year’s theme of archaeology and technology. \nFamily Day at the Kelsey Museum is a biannual\, family-friendly event featuring engaging\, hands-on activities related to the cultures of the ancient Middle East\, Greece\, Egypt\, and Rome! Each Family Day is centered around a theme and offers activities fun for all ages.
URL:https://www.archaeological.org/event/fall-family-day-at-the-kelsey-museum/
LOCATION:Newberry Hall\, Room 125\, Kelsey Museum of Archaeology\, 434 S. State St.\, Ann Arbor\, MI\, 48109\, United States
CATEGORIES:International Archaeology Day,Other Event
ORGANIZER;CN="Stephanie Haley":MAILTO:stephkw@umich.edu
GEO:42.2766233;-83.7397101
X-APPLE-STRUCTURED-LOCATION;VALUE=URI;X-ADDRESS=Newberry Hall Room 125 Kelsey Museum of Archaeology 434 S. State St. Ann Arbor MI 48109 United States;X-APPLE-RADIUS=500;X-TITLE=434 S. State St.:geo:-83.7397101,42.2766233
END:VEVENT
BEGIN:VEVENT
DTSTART;TZID=America/New_York:20221016T120000
DTEND;TZID=America/New_York:20221016T150000
DTSTAMP:20260421T082856
CREATED:20220928T203349Z
LAST-MODIFIED:20220928T203349Z
UID:10006085-1665921600-1665932400@www.archaeological.org
SUMMARY:Family Day | Trade Throughout the Ancient Mediterranean
DESCRIPTION:Grab your Kelsey Passport Book and join us on a journey through time as we explore trade in the ancient Mediterranean. Discover the routes traders took\, over land and sea. Explore a Graeco-Roman marketplace and learn how money was used in the ancient world. There will be plenty of hands-on activities for kids of all ages\, as well as docent-led tours of the galleries. Don’t miss this unique event that is fun for the whole family.
URL:https://www.archaeological.org/event/family-day-trade-throughout-the-ancient-mediterranean/
LOCATION:Newberry Hall\, Room 125\, Kelsey Museum of Archaeology\, 434 S. State St.\, Ann Arbor\, MI\, 48109\, United States
CATEGORIES:International Archaeology Day
ATTACH;FMTTYPE=image/jpeg:https://www.archaeological.org/wp-content/uploads/2022/09/EVNT_familyday_2022.jpg
ORGANIZER;CN="Education Department":MAILTO:kelsey.ed@umich.edu
GEO:42.2766233;-83.7397101
X-APPLE-STRUCTURED-LOCATION;VALUE=URI;X-ADDRESS=Newberry Hall Room 125 Kelsey Museum of Archaeology 434 S. State St. Ann Arbor MI 48109 United States;X-APPLE-RADIUS=500;X-TITLE=434 S. State St.:geo:-83.7397101,42.2766233
END:VEVENT
END:VCALENDAR