BEGIN:VCALENDAR
VERSION:2.0
PRODID:-//Archaeological Institute of America - ECPv6.15.20//NONSGML v1.0//EN
CALSCALE:GREGORIAN
METHOD:PUBLISH
X-ORIGINAL-URL:https://www.archaeological.org
X-WR-CALDESC:Events for Archaeological Institute of America
REFRESH-INTERVAL;VALUE=DURATION:PT1H
X-Robots-Tag:noindex
X-PUBLISHED-TTL:PT1H
BEGIN:VTIMEZONE
TZID:America/New_York
BEGIN:DAYLIGHT
TZOFFSETFROM:-0500
TZOFFSETTO:-0400
TZNAME:EDT
DTSTART:20200308T070000
END:DAYLIGHT
BEGIN:STANDARD
TZOFFSETFROM:-0400
TZOFFSETTO:-0500
TZNAME:EST
DTSTART:20201101T060000
END:STANDARD
BEGIN:DAYLIGHT
TZOFFSETFROM:-0500
TZOFFSETTO:-0400
TZNAME:EDT
DTSTART:20210314T070000
END:DAYLIGHT
BEGIN:STANDARD
TZOFFSETFROM:-0400
TZOFFSETTO:-0500
TZNAME:EST
DTSTART:20211107T060000
END:STANDARD
BEGIN:DAYLIGHT
TZOFFSETFROM:-0500
TZOFFSETTO:-0400
TZNAME:EDT
DTSTART:20220313T070000
END:DAYLIGHT
BEGIN:STANDARD
TZOFFSETFROM:-0400
TZOFFSETTO:-0500
TZNAME:EST
DTSTART:20221106T060000
END:STANDARD
BEGIN:DAYLIGHT
TZOFFSETFROM:-0500
TZOFFSETTO:-0400
TZNAME:EDT
DTSTART:20230312T070000
END:DAYLIGHT
BEGIN:STANDARD
TZOFFSETFROM:-0400
TZOFFSETTO:-0500
TZNAME:EST
DTSTART:20231105T060000
END:STANDARD
BEGIN:DAYLIGHT
TZOFFSETFROM:-0500
TZOFFSETTO:-0400
TZNAME:EDT
DTSTART:20240310T070000
END:DAYLIGHT
BEGIN:STANDARD
TZOFFSETFROM:-0400
TZOFFSETTO:-0500
TZNAME:EST
DTSTART:20241103T060000
END:STANDARD
BEGIN:DAYLIGHT
TZOFFSETFROM:-0500
TZOFFSETTO:-0400
TZNAME:EDT
DTSTART:20250309T070000
END:DAYLIGHT
BEGIN:STANDARD
TZOFFSETFROM:-0400
TZOFFSETTO:-0500
TZNAME:EST
DTSTART:20251102T060000
END:STANDARD
BEGIN:DAYLIGHT
TZOFFSETFROM:-0500
TZOFFSETTO:-0400
TZNAME:EDT
DTSTART:20260308T070000
END:DAYLIGHT
BEGIN:STANDARD
TZOFFSETFROM:-0400
TZOFFSETTO:-0500
TZNAME:EST
DTSTART:20261101T060000
END:STANDARD
END:VTIMEZONE
BEGIN:VEVENT
DTSTART;TZID=America/New_York:20251018T110000
DTEND;TZID=America/New_York:20251018T150000
DTSTAMP:20260424T095816
CREATED:20250813T154803Z
LAST-MODIFIED:20250813T154803Z
UID:10008498-1760785200-1760799600@www.archaeological.org
SUMMARY:13th Annual Archaeology Fair
DESCRIPTION:Celebrate International Archaeology Day with us at the History Center! Join the celebration of archaeology and the thrill of discovery. Activities and hands-on learning for all ages will be set up throughout the building. Multiple booths feature various archaeological displays – local\, regional and beyond! There is something new each year. Explore museum galleries\, participate in booth discussions and activities\, and sit in for a special presentation.\nFair is included with general museum admission fee. Museum members from sponsor level and up receive free admission.
URL:https://www.archaeological.org/event/13th-annual-archaeology-fair/
LOCATION:Marquette Regional History Center\, 145 W Spring St\, Marquette\, MI\, 49855\, United States
CATEGORIES:International Archaeology Day
ATTACH;FMTTYPE=image/jpeg:https://www.archaeological.org/wp-content/uploads/2025/08/arch-fair-graphic.jpg
ORGANIZER;CN="Emily Varga":MAILTO:emily@marquettehistory.org
GEO:46.541452;-87.39563
X-APPLE-STRUCTURED-LOCATION;VALUE=URI;X-ADDRESS=Marquette Regional History Center 145 W Spring St Marquette MI 49855 United States;X-APPLE-RADIUS=500;X-TITLE=145 W Spring St:geo:-87.39563,46.541452
END:VEVENT
BEGIN:VEVENT
DTSTART;TZID=America/New_York:20241019T110000
DTEND;TZID=America/New_York:20241019T150000
DTSTAMP:20260424T095816
CREATED:20240925T195625Z
LAST-MODIFIED:20240925T195625Z
UID:10007234-1729335600-1729350000@www.archaeological.org
SUMMARY:Archaeology Fair
DESCRIPTION:This October the Marquette Regional History Center is joining hundreds of organizations around the world to celebrate International Archaeology Day. For the 12th year\, our fair will provide a look at archaeology in our region and world-wide. Hands-on learning for all ages. Multiple booths both indoors and outdoors feature various displays and activities. \nThis year\, we have a special presentation during the fair\, at 11:30:\n“Cosa: Excavations of a ‘Typical’ Latin Colony in Italy”\nArchaeologist Melissa Ludke will present on the excavation of a Roman bath house. As an archaeological park and small town in Italy\, Cosa has endured a long history of occupation from 273 BCE under the Romans to a small settlement during the Medieval period\, and beyond. Join us at 11:30 to learn about the historical development of a colony that has been excavated since 1948. Ludke’s talk will touch on the history of the site\, the archaeological exploration of various areas in the town\, and ongoing excavations of a Roman bath by Florida State University. Working at this site since 2016\, Ludke is currently participating in new investigations of a house and potential marketplace. She will present on exciting objects discovered at the site\, including ancient coinage\, which is one of her research specialties. \nRegister your booth to participate in our fair\, up until October 11th! https://www.marquettehistory.org/archaeology-booth-reg.html
URL:https://www.archaeological.org/event/archaeology-fair/
LOCATION:Marquette Regional History Center\, 145 W Spring St\, Marquette\, MI\, 49855\, United States
CATEGORIES:Archaeology Fair,Education,International Archaeology Day,Lecture
ATTACH;FMTTYPE=image/jpeg:https://www.archaeological.org/wp-content/uploads/2024/09/2-Melissa-Ludke-Cosa-Excavations.jpg
ORGANIZER;CN="Betsy Rutz":MAILTO:betsy@marquettehistory.org
GEO:46.541452;-87.39563
X-APPLE-STRUCTURED-LOCATION;VALUE=URI;X-ADDRESS=Marquette Regional History Center 145 W Spring St Marquette MI 49855 United States;X-APPLE-RADIUS=500;X-TITLE=145 W Spring St:geo:-87.39563,46.541452
END:VEVENT
BEGIN:VEVENT
DTSTART;TZID=America/New_York:20231021T110000
DTEND;TZID=America/New_York:20231021T150000
DTSTAMP:20260424T095816
CREATED:20230708T131933Z
LAST-MODIFIED:20230708T131933Z
UID:10006862-1697886000-1697900400@www.archaeological.org
SUMMARY:11th Annual Archaeology Fair
DESCRIPTION:Saturday\, October 21\, 11:00 a.m. – 3:00 p.m.\nJoin the international celebration of archaeology! Enjoy hands-on learning for all ages. Multiple booths feature various regional and global displays and activities. Stay tuned for special guests and presentations. Included with general admission to our museum\, and membership at the sponsor level on up.
URL:https://www.archaeological.org/event/11th-annual-archaeology-fair/
LOCATION:Marquette Regional History Center\, 145 W Spring St\, Marquette\, MI\, 49855\, United States
CATEGORIES:International Archaeology Day
ATTACH;FMTTYPE=image/jpeg:https://www.archaeological.org/wp-content/uploads/2023/07/IMG_0519-rotated.jpg
GEO:46.541452;-87.39563
X-APPLE-STRUCTURED-LOCATION;VALUE=URI;X-ADDRESS=Marquette Regional History Center 145 W Spring St Marquette MI 49855 United States;X-APPLE-RADIUS=500;X-TITLE=145 W Spring St:geo:-87.39563,46.541452
END:VEVENT
BEGIN:VEVENT
DTSTART;TZID=America/New_York:20221015T110000
DTEND;TZID=America/New_York:20221015T150000
DTSTAMP:20260424T095816
CREATED:20220914T144103Z
LAST-MODIFIED:20220914T144103Z
UID:10006688-1665831600-1665846000@www.archaeological.org
SUMMARY:Archaeology Fair
DESCRIPTION:Archaeology Fair \nSaturday October 15\, 2022\n11:00 – 3:00 p.m. at the Marquette Regional History Center (MRHC) \nJoin us at the Marquette Regional History Center! International Archaeology Day focuses on getting people interested in history through archaeology. This fair will introduce youth and adults alike to archaeology through hands-on activities\, dig site stories\, games and displays. Local experts will be here to share their work and expertise.\nFor 2022\, our 10th annual fair\, we will feature: 11:30 a.m. Presentation: The First Americans with Dr. E. James Dixon\, Professor Emeritus of Anthropology and the former Director Maxwell Museum of Anthropology at the University of New Mexico. Dr. Dixon will discuss the earliest archaeological evidence for people in the Americas.\nArchaeology Fair is an open-house event. Come anytime 11:00-3:00. Great for all ages including families\, clubs\, scouts\, and individuals. Fair included with museum admission:\nAdmission prices: Adults: $7 | Seniors: $6 | Students: $3 | 12 and under: $2 \n145 W. Spring Street\, Marquette MI 49855\n906.226.3571 www.marquettehistory.org
URL:https://www.archaeological.org/event/archaeology-fair-4/
LOCATION:Marquette Regional History Center\, 145 W Spring St\, Marquette\, MI\, 49855\, United States
CATEGORIES:International Archaeology Day
ATTACH;FMTTYPE=image/jpeg:https://www.archaeological.org/wp-content/uploads/2022/09/IMG_0276-rotated.jpg
GEO:46.541452;-87.39563
X-APPLE-STRUCTURED-LOCATION;VALUE=URI;X-ADDRESS=Marquette Regional History Center 145 W Spring St Marquette MI 49855 United States;X-APPLE-RADIUS=500;X-TITLE=145 W Spring St:geo:-87.39563,46.541452
END:VEVENT
BEGIN:VEVENT
DTSTART;TZID=America/New_York:20211016T110000
DTEND;TZID=America/New_York:20211016T150000
DTSTAMP:20260424T095816
CREATED:20210929T142651Z
LAST-MODIFIED:20210929T213155Z
UID:10005830-1634382000-1634396400@www.archaeological.org
SUMMARY:Archaeology Fair
DESCRIPTION:Saturday October 16\, 2021\n11:00 – 3:00 pm\nat the Marquette Regional History Center (MRHC) \nInternational Archaeology Day is celebrated world wide on this day. Spend a fun afternoon learning about local and global archaeology through activities\, demonstrations\, artifacts and displays at a wide variety of interactive booths throughout the museum. We are thrilled to be among 45 world-wide Long Term Collaborators listed by the Archaeological Institute of America. For 2021\, we will be featuring an update on an excavation here in Marquette County. Fair included with the cost of general admission. A great event for all ages including families\, clubs\, scouts\, and individuals. This is an open-house event. Come anytime 11:00-3:00.\nMuseum admission prices:\nadults: $7\,seniors: $6\, students: $3\, youth 12 and under: $2 \n145 W. Spring Street\, Marquette MI 49855\n906.226.3571 marquettehistory.org \nPhoto Caption: Seven glass beads found on the summer 2021 archaeological dig at site GLO3\, pictured here on the four directions drum of Jim Paquette. To learn more join us at the Archaeology Fair on October 16. Photo by Jim Paquette.
URL:https://www.archaeological.org/event/archaeology-fair-3/
LOCATION:Marquette Regional History Center\, 145 W Spring St\, Marquette\, MI\, 49855\, United States
CATEGORIES:Archaeology Fair,International Archaeology Day
ATTACH;FMTTYPE=image/jpeg:https://www.archaeological.org/wp-content/uploads/2021/09/Arch-Fair-2021-Photo.jpg
ORGANIZER;CN="Betsy Rutz":MAILTO:betsy@marquettehistory.org
GEO:46.541452;-87.39563
X-APPLE-STRUCTURED-LOCATION;VALUE=URI;X-ADDRESS=Marquette Regional History Center 145 W Spring St Marquette MI 49855 United States;X-APPLE-RADIUS=500;X-TITLE=145 W Spring St:geo:-87.39563,46.541452
END:VEVENT
END:VCALENDAR