BEGIN:VCALENDAR
VERSION:2.0
PRODID:-//Archaeological Institute of America - ECPv6.15.20//NONSGML v1.0//EN
CALSCALE:GREGORIAN
METHOD:PUBLISH
X-WR-CALNAME:Archaeological Institute of America
X-ORIGINAL-URL:https://www.archaeological.org
X-WR-CALDESC:Events for Archaeological Institute of America
REFRESH-INTERVAL;VALUE=DURATION:PT1H
X-Robots-Tag:noindex
X-PUBLISHED-TTL:PT1H
BEGIN:VTIMEZONE
TZID:America/New_York
BEGIN:DAYLIGHT
TZOFFSETFROM:-0500
TZOFFSETTO:-0400
TZNAME:EDT
DTSTART:20210314T070000
END:DAYLIGHT
BEGIN:STANDARD
TZOFFSETFROM:-0400
TZOFFSETTO:-0500
TZNAME:EST
DTSTART:20211107T060000
END:STANDARD
BEGIN:DAYLIGHT
TZOFFSETFROM:-0500
TZOFFSETTO:-0400
TZNAME:EDT
DTSTART:20220313T070000
END:DAYLIGHT
BEGIN:STANDARD
TZOFFSETFROM:-0400
TZOFFSETTO:-0500
TZNAME:EST
DTSTART:20221106T060000
END:STANDARD
BEGIN:DAYLIGHT
TZOFFSETFROM:-0500
TZOFFSETTO:-0400
TZNAME:EDT
DTSTART:20230312T070000
END:DAYLIGHT
BEGIN:STANDARD
TZOFFSETFROM:-0400
TZOFFSETTO:-0500
TZNAME:EST
DTSTART:20231105T060000
END:STANDARD
BEGIN:DAYLIGHT
TZOFFSETFROM:-0500
TZOFFSETTO:-0400
TZNAME:EDT
DTSTART:20240310T070000
END:DAYLIGHT
BEGIN:STANDARD
TZOFFSETFROM:-0400
TZOFFSETTO:-0500
TZNAME:EST
DTSTART:20241103T060000
END:STANDARD
END:VTIMEZONE
BEGIN:VEVENT
DTSTART;TZID=America/New_York:20231028T130000
DTEND;TZID=America/New_York:20231028T150000
DTSTAMP:20260421T055239
CREATED:20230822T135120Z
LAST-MODIFIED:20230919T185847Z
UID:10006947-1698498000-1698505200@www.archaeological.org
SUMMARY:Archaeology Day Open House
DESCRIPTION:The Anthropology Department at Indiana University of Pennsylvania will hold its annual Archaeology Open House on October 28th\, from 1:00 to 3:00 p.m. \nActivities will take place on the ground floor of McElhaney Hall\, as well as outside on the East Lawn adjacent to the building (weather permitting). \nThe event\, free and open to the community\, is designed for all ages\, all levels of archaeology knowledge\, and all interests. All of the archaeology laboratories (including the faunal\, botanical\, and geophysical labs) will be open for tours. \nThe event also will feature a Stump the Archaeologist table\, where people can bring artifacts they have found for examination by IUP faculty. \nIn addition to tours of the labs\, the event includes prehistoric and historic artifact displays from local archaeological sites\, artifact identification\, stone tool-making demonstrations\, early human displays\, and lab tours. Children’s events will include prehistoric hand-painting\, wampum beading\, and pottery refitting. \nArchaeology Day is a tradition in the Anthropology Department that allows IUP students and faculty to share their knowledge and love of the past with others. The annual Open House is held during Archaeology Month and is celebrated in conjunction with International Archaeology Day\, a celebration of archaeology and the thrill of discovery held every year by the Archaeological Institute of America. \nEvery October\, the AIA and archaeological organizations across the United States\, Canada\, and abroad present archaeological programs and activities for people of all ages and interests. \nFor more information\, contact IUP anthropology faculty member Andrea Palmiotto (apalmiot@iup.edu) or Lara Homsey-Messer (lmesser@iup.edu). \nIUP’s Department of Anthropology offers undergraduate degrees in anthropology\, applied anthropology\, and archaeology\, along with a minor and a cultural competencies certificate. It also offers a master of arts degree in applied archaeology.
URL:https://www.archaeological.org/event/archaeology-day-open-house-3/
LOCATION:McElhaney Hall\, 441 North Walk\, Indiana\, PA\, 15705\, United States
CATEGORIES:Exhibition,International Archaeology Day
ATTACH;FMTTYPE=image/jpeg:https://www.archaeological.org/wp-content/uploads/2023/08/Open-House-promo-slide-2023-1.jpg
ORGANIZER;CN="Lara Homsey-Messer":MAILTO:lmesser@iup.edu
GEO:40.6175761;-79.1583807
X-APPLE-STRUCTURED-LOCATION;VALUE=URI;X-ADDRESS=McElhaney Hall 441 North Walk Indiana PA 15705 United States;X-APPLE-RADIUS=500;X-TITLE=441 North Walk:geo:-79.1583807,40.6175761
END:VEVENT
BEGIN:VEVENT
DTSTART;TZID=America/New_York:20231028T100000
DTEND;TZID=America/New_York:20231028T120000
DTSTAMP:20260421T055239
CREATED:20230816T172544Z
LAST-MODIFIED:20230906T141214Z
UID:10006882-1698487200-1698494400@www.archaeological.org
SUMMARY:Archaeology Day Open House
DESCRIPTION:The Anthropology Department at Indiana University of Pennsylvania will hold their annual Archaeology Open House on Saturday\, October 28\, from 10:00-12:00 PM. Activities will take place on the ground floor of McElhaney Hall\, as well as outside on the “South Lawn” adjacent to the building (weather permitting). No matter what your level of archaeological knowledge\, there will be something for everybody. Events include prehistoric and historic artifact displays from local archaeological sites\, artifact identification\, stone tool-making demonstrations\, spear throwing outdoors\, and 3-D laser scanning and printing artifact replicas. There will also be a room for kids (and the young at heart)\, with activities such as prehistoric hand-painting\, wampum beading\, and pottery refitting. All of the archaeology laboratories (including the faunal\, botanical\, and geophysical labs) will open their doors to the public during the event and fun\, complimentary archaeology-themed snacks will be provided. Travel back in time and come see how archaeology is done at this free event!
URL:https://www.archaeological.org/event/archaeology-day-open-house-2/
LOCATION:McElhaney Hall\, 441 North Walk\, Indiana\, PA\, 15705\, United States
CATEGORIES:International Archaeology Day,Other Event
ATTACH;FMTTYPE=image/jpeg:https://www.archaeological.org/wp-content/uploads/2023/08/Open-House-promo-slide-2023.jpg
ORGANIZER;CN="Lara Homsey-Messer":MAILTO:lmesser@iup.edu
GEO:40.6175761;-79.1583807
X-APPLE-STRUCTURED-LOCATION;VALUE=URI;X-ADDRESS=McElhaney Hall 441 North Walk Indiana PA 15705 United States;X-APPLE-RADIUS=500;X-TITLE=441 North Walk:geo:-79.1583807,40.6175761
END:VEVENT
BEGIN:VEVENT
DTSTART;TZID=America/New_York:20221015T100000
DTEND;TZID=America/New_York:20221015T150000
DTSTAMP:20260421T055239
CREATED:20220923T150824Z
LAST-MODIFIED:20220923T150824Z
UID:10006692-1665828000-1665846000@www.archaeological.org
SUMMARY:Archaeology: Preserving the Past for the Future
DESCRIPTION:Celebrate International Archaeology Day with IUP’s Annual Archaeology Open House \nIndiana\, PA – The Anthropology Department at Indiana University of Pennsylvania will hold their annual Archaeology Open House on Saturday\, October 15\, from 12:00-3:00 PM. Activities will take place on the ground floor of McElhaney Hall\, as well as outside on the “South Lawn” adjacent to the building (weather permitting). No matter what your level of archaeological knowledge is\, there will be something for everybody. \nHave you ever picked up an artifact and wondered about it? Bring it and any information you have about where you found it to our “Stump the Archaeologist” table so we can identify it for you! Other events include prehistoric and historic artifact displays from local archaeological sites\, artifact identification\, stone tool-making demonstrations\, Early Human displays\, and lab tours. There will also be kids events (for kids and the young at heart)\, with activities such as prehistoric hand-painting\, wampum beading\, and pottery refitting. All of the archaeology laboratories (including the faunal\, botanical\, and geophysical labs) will open their doors to the public during the event. Travel back in time and come see how archaeology is done at this free event! \nArchaeology Day is a tradition in the Anthropology Department that allows IUP students and faculty to share their knowledge and love of the past with others. The annual Open House is held during Archaeology Month and is celebrated in conjunction with International Archaeology Day\, a celebration of archaeology and the thrill of discovery held every year by the Archaeological Institute of America (AIA). Every October\, the AIA and archaeological organizations across the United States\, Canada\, and abroad present archaeological programs and activities for people of all ages and interests. Come indulge your inner Indiana Jones and see how real archaeology is done. \nFor more information about this free event\, contact Andrea Palmiotto (apalmiot@iup.edu) or Mikala Hardie (fmxcc@iup.edu). For more information about International Archaeology Day and associated programming state-wide\, visit the Archaeological Institute of America website at https://www.archaeological.org/archaeologyday/about.
URL:https://www.archaeological.org/event/archaeology-preserving-the-past-for-the-future/
LOCATION:McElhaney Hall\, 441 North Walk\, Indiana\, PA\, 15705\, United States
CATEGORIES:International Archaeology Day
ORGANIZER;CN="Andrea Palmiotto":MAILTO:apalmiot@iup.edu
GEO:40.6175761;-79.1583807
X-APPLE-STRUCTURED-LOCATION;VALUE=URI;X-ADDRESS=McElhaney Hall 441 North Walk Indiana PA 15705 United States;X-APPLE-RADIUS=500;X-TITLE=441 North Walk:geo:-79.1583807,40.6175761
END:VEVENT
END:VCALENDAR