BEGIN:VCALENDAR
VERSION:2.0
PRODID:-//Archaeological Institute of America - ECPv6.15.20//NONSGML v1.0//EN
CALSCALE:GREGORIAN
METHOD:PUBLISH
X-ORIGINAL-URL:https://www.archaeological.org
X-WR-CALDESC:Events for Archaeological Institute of America
REFRESH-INTERVAL;VALUE=DURATION:PT1H
X-Robots-Tag:noindex
X-PUBLISHED-TTL:PT1H
BEGIN:VTIMEZONE
TZID:America/New_York
BEGIN:DAYLIGHT
TZOFFSETFROM:-0500
TZOFFSETTO:-0400
TZNAME:EDT
DTSTART:20220313T070000
END:DAYLIGHT
BEGIN:STANDARD
TZOFFSETFROM:-0400
TZOFFSETTO:-0500
TZNAME:EST
DTSTART:20221106T060000
END:STANDARD
BEGIN:DAYLIGHT
TZOFFSETFROM:-0500
TZOFFSETTO:-0400
TZNAME:EDT
DTSTART:20230312T070000
END:DAYLIGHT
BEGIN:STANDARD
TZOFFSETFROM:-0400
TZOFFSETTO:-0500
TZNAME:EST
DTSTART:20231105T060000
END:STANDARD
BEGIN:DAYLIGHT
TZOFFSETFROM:-0500
TZOFFSETTO:-0400
TZNAME:EDT
DTSTART:20240310T070000
END:DAYLIGHT
BEGIN:STANDARD
TZOFFSETFROM:-0400
TZOFFSETTO:-0500
TZNAME:EST
DTSTART:20241103T060000
END:STANDARD
BEGIN:DAYLIGHT
TZOFFSETFROM:-0500
TZOFFSETTO:-0400
TZNAME:EDT
DTSTART:20250309T070000
END:DAYLIGHT
BEGIN:STANDARD
TZOFFSETFROM:-0400
TZOFFSETTO:-0500
TZNAME:EST
DTSTART:20251102T060000
END:STANDARD
BEGIN:DAYLIGHT
TZOFFSETFROM:-0500
TZOFFSETTO:-0400
TZNAME:EDT
DTSTART:20260308T070000
END:DAYLIGHT
BEGIN:STANDARD
TZOFFSETFROM:-0400
TZOFFSETTO:-0500
TZNAME:EST
DTSTART:20261101T060000
END:STANDARD
END:VTIMEZONE
BEGIN:VEVENT
DTSTART;VALUE=DATE:20251018
DTEND;VALUE=DATE:20251019
DTSTAMP:20260421T142900
CREATED:20251006T145944Z
LAST-MODIFIED:20251006T145944Z
UID:10008705-1760745600-1760831999@www.archaeological.org
SUMMARY:Meadowcroft Workshop in archaeology
DESCRIPTION:Meet experts to unlock archaeology at Meadowcroft Rockshelter with Society for Pennsylvania Archaeology members as guides.
URL:https://www.archaeological.org/event/meadowcroft-workshop-in-archaeology-3/
LOCATION:Meadowcroft Rockshelter and Historic Village\, 401 Meadowcroft Road\, Avella\, PA\, 15312\, United States
CATEGORIES:International Archaeology Day
ORGANIZER;CN="Meadowcroft Rockshelter and Historic Village":MAILTO:jmduritsa@comcast.net
GEO:40.286597;-80.48893
X-APPLE-STRUCTURED-LOCATION;VALUE=URI;X-ADDRESS=Meadowcroft Rockshelter and Historic Village 401 Meadowcroft Road Avella PA 15312 United States;X-APPLE-RADIUS=500;X-TITLE=401 Meadowcroft Road:geo:-80.48893,40.286597
END:VEVENT
BEGIN:VEVENT
DTSTART;VALUE=DATE:20241019
DTEND;VALUE=DATE:20241020
DTSTAMP:20260421T142900
CREATED:20241010T162009Z
LAST-MODIFIED:20241010T162009Z
UID:10007323-1729296000-1729382399@www.archaeological.org
SUMMARY:Meadowcroft Workshop in archaeology
DESCRIPTION:Archaeology Day Workshop | October 19th\, 2024 | Meadowcroft Rockshelter and Historic Village \nThe theme for the 2024 Meadowcroft Workshop in Archaeology is best practices for managing and preserving small museum and private collections of both perishable and non-perishable material items for display and for long term curation. Information for individuals seeking to donate their private or group collection(s) to a curation facility will also be discussed.
URL:https://www.archaeological.org/event/meadowcroft-workshop-in-archaeology-2/
LOCATION:Meadowcroft Rockshelter and Historic Village\, 401 Meadowcroft Road\, Avella\, PA\, 15312\, United States
CATEGORIES:International Archaeology Day
ORGANIZER;CN="John Nass":MAILTO:jmduritsa@comcast.net
GEO:40.286597;-80.48893
X-APPLE-STRUCTURED-LOCATION;VALUE=URI;X-ADDRESS=Meadowcroft Rockshelter and Historic Village 401 Meadowcroft Road Avella PA 15312 United States;X-APPLE-RADIUS=500;X-TITLE=401 Meadowcroft Road:geo:-80.48893,40.286597
END:VEVENT
BEGIN:VEVENT
DTSTART;VALUE=DATE:20231007
DTEND;VALUE=DATE:20231008
DTSTAMP:20260421T142900
CREATED:20230922T201659Z
LAST-MODIFIED:20230922T201659Z
UID:10006999-1696636800-1696723199@www.archaeological.org
SUMMARY:Meadowcroft Workshop in archaeology
DESCRIPTION:7th Annual Workshop. Theme: By thought\, Word and Deed: Ways of expressing Social Identity. Artifact ID.
URL:https://www.archaeological.org/event/meadowcroft-workshop-in-archaeology/
LOCATION:Meadowcroft Rockshelter and Historic Village\, 401 Meadowcroft Road\, Avella\, PA\, 15312\, United States
CATEGORIES:International Archaeology Day
ORGANIZER;CN="John Nass":MAILTO:nass81@atlanticbb.net
GEO:40.286597;-80.48893
X-APPLE-STRUCTURED-LOCATION;VALUE=URI;X-ADDRESS=Meadowcroft Rockshelter and Historic Village 401 Meadowcroft Road Avella PA 15312 United States;X-APPLE-RADIUS=500;X-TITLE=401 Meadowcroft Road:geo:-80.48893,40.286597
END:VEVENT
END:VCALENDAR