BEGIN:VCALENDAR
VERSION:2.0
PRODID:-//Archaeological Institute of America - ECPv6.15.20//NONSGML v1.0//EN
CALSCALE:GREGORIAN
METHOD:PUBLISH
X-ORIGINAL-URL:https://www.archaeological.org
X-WR-CALDESC:Events for Archaeological Institute of America
REFRESH-INTERVAL;VALUE=DURATION:PT1H
X-Robots-Tag:noindex
X-PUBLISHED-TTL:PT1H
BEGIN:VTIMEZONE
TZID:America/New_York
BEGIN:DAYLIGHT
TZOFFSETFROM:-0500
TZOFFSETTO:-0400
TZNAME:EDT
DTSTART:20230312T070000
END:DAYLIGHT
BEGIN:STANDARD
TZOFFSETFROM:-0400
TZOFFSETTO:-0500
TZNAME:EST
DTSTART:20231105T060000
END:STANDARD
BEGIN:DAYLIGHT
TZOFFSETFROM:-0500
TZOFFSETTO:-0400
TZNAME:EDT
DTSTART:20240310T070000
END:DAYLIGHT
BEGIN:STANDARD
TZOFFSETFROM:-0400
TZOFFSETTO:-0500
TZNAME:EST
DTSTART:20241103T060000
END:STANDARD
BEGIN:DAYLIGHT
TZOFFSETFROM:-0500
TZOFFSETTO:-0400
TZNAME:EDT
DTSTART:20250309T070000
END:DAYLIGHT
BEGIN:STANDARD
TZOFFSETFROM:-0400
TZOFFSETTO:-0500
TZNAME:EST
DTSTART:20251102T060000
END:STANDARD
END:VTIMEZONE
BEGIN:VEVENT
DTSTART;TZID=America/New_York:20241019T110000
DTEND;TZID=America/New_York:20241019T170000
DTSTAMP:20260423T131049
CREATED:20241009T192531Z
LAST-MODIFIED:20241009T192531Z
UID:10007322-1729335600-1729357200@www.archaeological.org
SUMMARY:DigIt!
DESCRIPTION:Celebrate International Archaeology day at DigIt!\, Emory’s archaeology festival organized by students in the programs of Ancient Mediterranean Studies and Mediterranean Archaeology\, and hosted by the Michael C. Carlos Museum. This year’s DigIt! presents an exciting program of talks by Emory researchers and ceramic demonstrations and hands-on activities.
URL:https://www.archaeological.org/event/digit-3/
LOCATION:Michael C. Carlos Museum\, Emory University\, South Kilgo Circle Northeast\, Atlanta\, GA\, 30322\, United States
CATEGORIES:International Archaeology Day
ATTACH;FMTTYPE=image/jpeg:https://www.archaeological.org/wp-content/uploads/2024/10/DigIT-2024-Flyer.jpg
GEO:33.7903456;-84.3243438
X-APPLE-STRUCTURED-LOCATION;VALUE=URI;X-ADDRESS=Michael C. Carlos Museum Emory University South Kilgo Circle Northeast Atlanta GA 30322 United States;X-APPLE-RADIUS=500;X-TITLE=South Kilgo Circle Northeast:geo:-84.3243438,33.7903456
END:VEVENT
END:VCALENDAR