BEGIN:VCALENDAR
VERSION:2.0
PRODID:-//Archaeological Institute of America - ECPv6.15.20//NONSGML v1.0//EN
CALSCALE:GREGORIAN
METHOD:PUBLISH
X-ORIGINAL-URL:https://www.archaeological.org
X-WR-CALDESC:Events for Archaeological Institute of America
REFRESH-INTERVAL;VALUE=DURATION:PT1H
X-Robots-Tag:noindex
X-PUBLISHED-TTL:PT1H
BEGIN:VTIMEZONE
TZID:America/New_York
BEGIN:DAYLIGHT
TZOFFSETFROM:-0500
TZOFFSETTO:-0400
TZNAME:EDT
DTSTART:20210314T070000
END:DAYLIGHT
BEGIN:STANDARD
TZOFFSETFROM:-0400
TZOFFSETTO:-0500
TZNAME:EST
DTSTART:20211107T060000
END:STANDARD
BEGIN:DAYLIGHT
TZOFFSETFROM:-0500
TZOFFSETTO:-0400
TZNAME:EDT
DTSTART:20220313T070000
END:DAYLIGHT
BEGIN:STANDARD
TZOFFSETFROM:-0400
TZOFFSETTO:-0500
TZNAME:EST
DTSTART:20221106T060000
END:STANDARD
BEGIN:DAYLIGHT
TZOFFSETFROM:-0500
TZOFFSETTO:-0400
TZNAME:EDT
DTSTART:20230312T070000
END:DAYLIGHT
BEGIN:STANDARD
TZOFFSETFROM:-0400
TZOFFSETTO:-0500
TZNAME:EST
DTSTART:20231105T060000
END:STANDARD
BEGIN:DAYLIGHT
TZOFFSETFROM:-0500
TZOFFSETTO:-0400
TZNAME:EDT
DTSTART:20240310T070000
END:DAYLIGHT
BEGIN:STANDARD
TZOFFSETFROM:-0400
TZOFFSETTO:-0500
TZNAME:EST
DTSTART:20241103T060000
END:STANDARD
BEGIN:DAYLIGHT
TZOFFSETFROM:-0500
TZOFFSETTO:-0400
TZNAME:EDT
DTSTART:20250309T070000
END:DAYLIGHT
BEGIN:STANDARD
TZOFFSETFROM:-0400
TZOFFSETTO:-0500
TZNAME:EST
DTSTART:20251102T060000
END:STANDARD
END:VTIMEZONE
BEGIN:VEVENT
DTSTART;TZID=America/New_York:20241005T100000
DTEND;TZID=America/New_York:20241005T160000
DTSTAMP:20260421T125042
CREATED:20241007T164533Z
LAST-MODIFIED:20241007T164533Z
UID:10007261-1728122400-1728144000@www.archaeological.org
SUMMARY:Michigan Archaeology Day
DESCRIPTION:Have you ever wondered what it’s like to be an archaeologist? Here’s your chance to talk with archaeologists about investigations and artifacts that tell the story of 14\,000 years of Michigan history! Archaeologists and experts in related fields will be stationed throughout the first and second floors of the museum where they will tell you about their research\, show you some of the artifacts they have found and answer your questions. \nPlus\, there will be many hands-on activities\, such as:\nMake a clay pinch pot\nWatch a flintknapper make stone tools\nTry throwing a spear using an atlatl\nJoin a scavenger hunt\nShow an artifact to our Archaeology Roadshow experts\nSee in-depth special presentations in the Forum Auditorium\nThis all-ages annual event is free\, and parking is too! \nMichigan Archaeology Day is brought to you in partnership by the Michigan History Center-DNR\, the Michigan State Historic Preservation Office and Mackinac State Historic Parks.
URL:https://www.archaeological.org/event/michigan-archaeology-day/
LOCATION:Michigan History Center\, 702 W. Kalamazoo St.\, Lansing\, Lansing\, 48915
CATEGORIES:Archaeology Fair,International Archaeology Day
ORGANIZER;CN="Stacy Ann Tchorzynski":MAILTO:tchorzynskis@michigan.gov
GEO:42.732098;-84.563001
X-APPLE-STRUCTURED-LOCATION;VALUE=URI;X-ADDRESS=Michigan History Center 702 W. Kalamazoo St. Lansing Lansing 48915;X-APPLE-RADIUS=500;X-TITLE=702 W. Kalamazoo St.:geo:-84.563001,42.732098
END:VEVENT
BEGIN:VEVENT
DTSTART;TZID=America/New_York:20231007T100000
DTEND;TZID=America/New_York:20231007T160000
DTSTAMP:20260421T125042
CREATED:20230906T133149Z
LAST-MODIFIED:20230906T133149Z
UID:10006382-1696672800-1696694400@www.archaeological.org
SUMMARY:Michigan Archaeology Day
DESCRIPTION:Have you ever thought about what it’s like to be an archaeologist? Here’s your chance to talk to archaeologists about investigations and artifacts that tell the story of 14\,000 years of Michigan history! Archaeologists who work in Michigan will be stationed throughout the first and second floors of the museum where they will tell you about their research\, show you some of the artifacts they have found and answer your questions. \nPlus!\nMake a clay pinch pot\nWatch a flintknapper make stone tools\nTry throwing a spear using an atlatl\nJoin a scavenger hunt\nShow an artifact to our Archaeology Roadshow experts*\nSee in-depth special presentations in the Forum Auditorium \nAdmission to this event is free.
URL:https://www.archaeological.org/event/michigan-archaeology-day-4/
LOCATION:Michigan History Center\, 702 W. Kalamazoo St.\, Lansing\, Lansing\, 48915
CATEGORIES:International Archaeology Day
ATTACH;FMTTYPE=image/jpeg:https://www.archaeological.org/wp-content/uploads/2023/09/MAD23.jpg
ORGANIZER;CN="Stacy Tchorzynski":MAILTO:TchorzynskiS@Michigan.gov
GEO:42.732098;-84.563001
X-APPLE-STRUCTURED-LOCATION;VALUE=URI;X-ADDRESS=Michigan History Center 702 W. Kalamazoo St. Lansing Lansing 48915;X-APPLE-RADIUS=500;X-TITLE=702 W. Kalamazoo St.:geo:-84.563001,42.732098
END:VEVENT
BEGIN:VEVENT
DTSTART;TZID=America/New_York:20221029T100000
DTEND;TZID=America/New_York:20221029T160000
DTSTAMP:20260421T125042
CREATED:20220926T141736Z
LAST-MODIFIED:20220926T141736Z
UID:10006068-1667037600-1667059200@www.archaeological.org
SUMMARY:Michigan Archaeology Day
DESCRIPTION:Have you ever thought about what it’s like to be an archaeologist? Here’s your chance to talk to archaeologists about investigations and artifacts that tell the story of 14\,000 years of Michigan history! \nThis FREE annual event returns to the Michigan History Center on Saturday\, October 29\, 2022. \nWe think you’re going to have a great time\, whether this is your first Archaeology Day or you come every year. Archaeologists who work in Michigan will be stationed throughout the first and second floors of the museum where they will tell you about their research\, show you some of the artifacts they have found and answer your questions. We’ll have hands-on activities for kids\, you can watch a flintknapper make stone tools and everyone can try throwing a spear using an atlatl. Feeling adventurous? Join a scavenger hunt! Have an artifact that you want to learn more about? Show it to our Archaeology Roadshow experts! With so many activities to choose from\, you may need to take a break. Join special presentations in the Forum auditorium. Tour the galleries\, make a clay pinch pot\, have a seat in the auditorium\, ask lots of questions and have fun! \nTo support the preservation of archaeological artifacts and sites\, no monetary values will be provided at this event. \nVisit the event agenda for details as they become available: https://www.miplace.org/archaeology-day/ \nMichigan Archaeology Day is presented in partnership by the Michigan History Center\, Department of Natural Resources\, State Historic Preservation Office and Michigan Economic Development Corporation.
URL:https://www.archaeological.org/event/michigan-archaeology-day-3/
LOCATION:Michigan History Center\, 702 W. Kalamazoo St.\, Lansing\, Lansing\, 48915
CATEGORIES:Archaeology Fair
ATTACH;FMTTYPE=image/jpeg:https://www.archaeological.org/wp-content/uploads/2022/09/2022_FB-Post.jpg
ORGANIZER;CN="Stacy Tchorzynski":MAILTO:tchorzynskis@michigan.gov
GEO:42.732098;-84.563001
X-APPLE-STRUCTURED-LOCATION;VALUE=URI;X-ADDRESS=Michigan History Center 702 W. Kalamazoo St. Lansing Lansing 48915;X-APPLE-RADIUS=500;X-TITLE=702 W. Kalamazoo St.:geo:-84.563001,42.732098
END:VEVENT
END:VCALENDAR