BEGIN:VCALENDAR
VERSION:2.0
PRODID:-//Archaeological Institute of America - ECPv6.15.20//NONSGML v1.0//EN
CALSCALE:GREGORIAN
METHOD:PUBLISH
X-ORIGINAL-URL:https://www.archaeological.org
X-WR-CALDESC:Events for Archaeological Institute of America
REFRESH-INTERVAL;VALUE=DURATION:PT1H
X-Robots-Tag:noindex
X-PUBLISHED-TTL:PT1H
BEGIN:VTIMEZONE
TZID:America/Vancouver
BEGIN:DAYLIGHT
TZOFFSETFROM:-0800
TZOFFSETTO:-0700
TZNAME:PDT
DTSTART:20210314T100000
END:DAYLIGHT
BEGIN:STANDARD
TZOFFSETFROM:-0700
TZOFFSETTO:-0800
TZNAME:PST
DTSTART:20211107T090000
END:STANDARD
BEGIN:DAYLIGHT
TZOFFSETFROM:-0800
TZOFFSETTO:-0700
TZNAME:PDT
DTSTART:20220313T100000
END:DAYLIGHT
BEGIN:STANDARD
TZOFFSETFROM:-0700
TZOFFSETTO:-0800
TZNAME:PST
DTSTART:20221106T090000
END:STANDARD
BEGIN:DAYLIGHT
TZOFFSETFROM:-0800
TZOFFSETTO:-0700
TZNAME:PDT
DTSTART:20230312T100000
END:DAYLIGHT
BEGIN:STANDARD
TZOFFSETFROM:-0700
TZOFFSETTO:-0800
TZNAME:PST
DTSTART:20231105T090000
END:STANDARD
BEGIN:DAYLIGHT
TZOFFSETFROM:-0800
TZOFFSETTO:-0700
TZNAME:PDT
DTSTART:20240310T100000
END:DAYLIGHT
BEGIN:STANDARD
TZOFFSETFROM:-0700
TZOFFSETTO:-0800
TZNAME:PST
DTSTART:20241103T090000
END:STANDARD
BEGIN:DAYLIGHT
TZOFFSETFROM:-0800
TZOFFSETTO:-0700
TZNAME:PDT
DTSTART:20250309T100000
END:DAYLIGHT
BEGIN:STANDARD
TZOFFSETFROM:-0700
TZOFFSETTO:-0800
TZNAME:PST
DTSTART:20251102T090000
END:STANDARD
BEGIN:DAYLIGHT
TZOFFSETFROM:-0800
TZOFFSETTO:-0700
TZNAME:PDT
DTSTART:20260308T100000
END:DAYLIGHT
BEGIN:STANDARD
TZOFFSETFROM:-0700
TZOFFSETTO:-0800
TZNAME:PST
DTSTART:20261101T090000
END:STANDARD
END:VTIMEZONE
BEGIN:VTIMEZONE
TZID:America/Los_Angeles
BEGIN:DAYLIGHT
TZOFFSETFROM:-0800
TZOFFSETTO:-0700
TZNAME:PDT
DTSTART:20210314T100000
END:DAYLIGHT
BEGIN:STANDARD
TZOFFSETFROM:-0700
TZOFFSETTO:-0800
TZNAME:PST
DTSTART:20211107T090000
END:STANDARD
BEGIN:DAYLIGHT
TZOFFSETFROM:-0800
TZOFFSETTO:-0700
TZNAME:PDT
DTSTART:20220313T100000
END:DAYLIGHT
BEGIN:STANDARD
TZOFFSETFROM:-0700
TZOFFSETTO:-0800
TZNAME:PST
DTSTART:20221106T090000
END:STANDARD
BEGIN:DAYLIGHT
TZOFFSETFROM:-0800
TZOFFSETTO:-0700
TZNAME:PDT
DTSTART:20230312T100000
END:DAYLIGHT
BEGIN:STANDARD
TZOFFSETFROM:-0700
TZOFFSETTO:-0800
TZNAME:PST
DTSTART:20231105T090000
END:STANDARD
END:VTIMEZONE
BEGIN:VEVENT
DTSTART;TZID=America/Vancouver:20251004T100000
DTEND;TZID=America/Vancouver:20251004T150000
DTSTAMP:20260423T212713
CREATED:20250730T141046Z
LAST-MODIFIED:20250730T141046Z
UID:10008081-1759572000-1759590000@www.archaeological.org
SUMMARY:Spokane Archaeology Day
DESCRIPTION:The Spokane Society\, along with other archaeological organizations\, will welcome the public at booths on the grounds of the Northwest Museum of Arts and Culture. Activities will be available for all ages.
URL:https://www.archaeological.org/event/spokane-archaeology-day-5/
LOCATION:Northwest Museum of Arts and Culture\, 2316 West 1st Avenue\, Spokane\, WA\, 99201\, United States
CATEGORIES:Archaeology Fair,International Archaeology Day
ATTACH;FMTTYPE=image/png:https://www.archaeological.org/wp-content/uploads/2025/07/Spokane-Archaeology-Day-2.png
ORGANIZER;CN="Brian Buchanan":MAILTO:bbuchanan1@ewu.edu
GEO:47.6568363;-117.4468732
X-APPLE-STRUCTURED-LOCATION;VALUE=URI;X-ADDRESS=Northwest Museum of Arts and Culture 2316 West 1st Avenue Spokane WA 99201 United States;X-APPLE-RADIUS=500;X-TITLE=2316 West 1st Avenue:geo:-117.4468732,47.6568363
END:VEVENT
BEGIN:VEVENT
DTSTART;TZID=America/Vancouver:20241005T100000
DTEND;TZID=America/Vancouver:20241005T150000
DTSTAMP:20260423T212713
CREATED:20240916T143130Z
LAST-MODIFIED:20240916T143130Z
UID:10007209-1728122400-1728140400@www.archaeological.org
SUMMARY:Spokane Archaeology Day
DESCRIPTION:This popular event is back again this year! Participate in this free annual community event that highlights all things archaeology. Listen to talks\, chat with professionals\, and participate in hands-on activities related to archaeology. This is a great day for people of all ages.
URL:https://www.archaeological.org/event/spokane-archaeology-day/
LOCATION:Northwest Museum of Arts and Culture\, 2316 West 1st Avenue\, Spokane\, WA\, 99201\, United States
CATEGORIES:Archaeology Fair,International Archaeology Day
ATTACH;FMTTYPE=image/png:https://www.archaeological.org/wp-content/uploads/2024/09/Spokane-Archaeology-Day-2.png
ORGANIZER;CN="Brian Buchanan":MAILTO:bbuchanan1@ewu.edu
GEO:47.6568363;-117.4468732
X-APPLE-STRUCTURED-LOCATION;VALUE=URI;X-ADDRESS=Northwest Museum of Arts and Culture 2316 West 1st Avenue Spokane WA 99201 United States;X-APPLE-RADIUS=500;X-TITLE=2316 West 1st Avenue:geo:-117.4468732,47.6568363
END:VEVENT
BEGIN:VEVENT
DTSTART;TZID=America/Vancouver:20221001T100000
DTEND;TZID=America/Vancouver:20221001T150000
DTSTAMP:20260423T212713
CREATED:20220906T130314Z
LAST-MODIFIED:20220906T130314Z
UID:10006047-1664618400-1664636400@www.archaeological.org
SUMMARY:Spokane Archaeology Day
DESCRIPTION:The Association for Washington Archaeology (AWA) East Group announces that we are resuming Spokane Archaeology Day in 2022 on the\nbeautiful grounds of the Northwest Museum of Arts and Culture! As in previous years (2018-2019)\, we have many activities\nalready planned\, including: an atlatl toss\, flintknapping\, historic and precontact material analysis and site interpretation\, ethnobotany and zooarchaeology booths\, rock art\neducation\, and much more!\nThe Spokane Society of the AIA will have an “Ask an Archaeologist” booth\, where Brian Buchanan of Eastern Washington University will field questions from the public.
URL:https://www.archaeological.org/event/spokane-archaeology-day-2/
LOCATION:Northwest Museum of Arts and Culture\, 2316 West 1st Avenue\, Spokane\, WA\, 99201\, United States
CATEGORIES:International Archaeology Day
ORGANIZER;CN="Brian Buchanan":MAILTO:bbuchanan1@ewu.edu
GEO:47.6568363;-117.4468732
X-APPLE-STRUCTURED-LOCATION;VALUE=URI;X-ADDRESS=Northwest Museum of Arts and Culture 2316 West 1st Avenue Spokane WA 99201 United States;X-APPLE-RADIUS=500;X-TITLE=2316 West 1st Avenue:geo:-117.4468732,47.6568363
END:VEVENT
BEGIN:VEVENT
DTSTART;TZID=America/Vancouver:20220915T183000
DTEND;TZID=America/Vancouver:20220915T200000
DTSTAMP:20260423T212713
CREATED:20220906T124126Z
LAST-MODIFIED:20220906T163756Z
UID:10006053-1663266600-1663272000@www.archaeological.org
SUMMARY:Donald P. Ryan: “In the Footsteps of Howard Carter in the Valley of the Kings”
DESCRIPTION:The archaeological exploration of ancient Egypt’s royal New Kingdom cemetery\,\nthe Valley of the Kings\, offers a rich history of fascinating discoveries made by determined\nand often eccentric individuals including Howard Carter\, who was well involved in the\nValley decades before he encountered the tomb of Tutankhamun in 1922. In this lecture\,\nDon Ryan will describe some of his own work in the Valley of the Kings during which he\nliterally followed in the footsteps of Carter\, including the re-excavation of three tombs\ndiscovered by the famed archaeologist early in his career. One tomb is especially\ncontroversial with its occupant identified by some as the female ruler\, Hatshepsut\, after its\nrediscovery by Ryan.
URL:https://www.archaeological.org/event/donald-p-ryan-in-the-footsteps-of-howard-carter-in-the-valley-of-the-kings/
LOCATION:Northwest Museum of Arts and Culture\, 2316 West 1st Avenue\, Spokane\, WA\, 99201\, United States
CATEGORIES:Lecture
ORGANIZER;CN="Andrew Goldman":MAILTO:goldman@gonzaga.edu
GEO:47.6568363;-117.4468732
X-APPLE-STRUCTURED-LOCATION;VALUE=URI;X-ADDRESS=Northwest Museum of Arts and Culture 2316 West 1st Avenue Spokane WA 99201 United States;X-APPLE-RADIUS=500;X-TITLE=2316 West 1st Avenue:geo:-117.4468732,47.6568363
END:VEVENT
BEGIN:VEVENT
DTSTART;TZID=America/Vancouver:20220519T183000
DTEND;TZID=America/Vancouver:20220519T183000
DTSTAMP:20260423T212713
CREATED:20211203T155642Z
LAST-MODIFIED:20220421T143402Z
UID:10006221-1652985000-1652985000@www.archaeological.org
SUMMARY:Wine jars and jar makers of Cyprus
DESCRIPTION:Dr. Gloria London (Independent Scholar\, Seattle WA)\nLecture in Memory of Dr. Sarah Keller \nA Danish police officer\, who volunteered for the United Nations Peacekeeping Force in Cyprus\, spent his spare time documenting traditional technologies\, especially those related to pottery production\, farming\, and bread. Knud Jensen recorded over 60 pitharia\, the immense jars for fermenting wine\, produced for centuries until 1972. He correctly speculated that the names incised on unfired jar shoulders held information about the history of Cyprus. Detective Jensen’s police training successfully enabled him to trace century-old jars back to the people who made and them used. His findings\, combined with more recent ethnoarchaeological research\, provide practical templates to: 1) reconstruct the ancient ceramics industry; 2) assess the markings on archaeological pottery; and 3) explain the multiplicity of traditional and ancient regional terms for essential household items.
URL:https://www.archaeological.org/event/wine-jars-and-jar-makers-of-cyprus/
LOCATION:Northwest Museum of Arts and Culture\, 2316 West 1st Avenue\, Spokane\, WA\, 99201\, United States
CATEGORIES:Lecture
ORGANIZER;CN="Andrew Goldman":MAILTO:goldman@gonzaga.edu
GEO:47.6568363;-117.4468732
X-APPLE-STRUCTURED-LOCATION;VALUE=URI;X-ADDRESS=Northwest Museum of Arts and Culture 2316 West 1st Avenue Spokane WA 99201 United States;X-APPLE-RADIUS=500;X-TITLE=2316 West 1st Avenue:geo:-117.4468732,47.6568363
END:VEVENT
BEGIN:VEVENT
DTSTART;TZID=America/Los_Angeles:20220421T183000
DTEND;TZID=America/Los_Angeles:20220421T183000
DTSTAMP:20260423T212713
CREATED:20210818T164100Z
LAST-MODIFIED:20220415T220010Z
UID:10005735-1650565800-1650565800@www.archaeological.org
SUMMARY:Why We Repatriate: 15 Years on the Arc of Restorative Justice at the Denver Museum of Nature & Science
DESCRIPTION:
URL:https://www.archaeological.org/event/why-we-repatriate-15-years-on-the-arc-of-restorative-justice-at-the-denver-museum-of-nature-science/
LOCATION:Northwest Museum of Arts and Culture\, 2316 West 1st Avenue\, Spokane\, WA\, 99201\, United States
CATEGORIES:AIA Lecture Program,Lecture
ORGANIZER;CN="Andrew Goldman":MAILTO:goldman@gonzaga.edu
GEO:47.6568363;-117.4468732
X-APPLE-STRUCTURED-LOCATION;VALUE=URI;X-ADDRESS=Northwest Museum of Arts and Culture 2316 West 1st Avenue Spokane WA 99201 United States;X-APPLE-RADIUS=500;X-TITLE=2316 West 1st Avenue:geo:-117.4468732,47.6568363
END:VEVENT
BEGIN:VEVENT
DTSTART;TZID=America/Vancouver:20220317T183000
DTEND;TZID=America/Vancouver:20220317T200000
DTSTAMP:20260423T212713
CREATED:20211203T163413Z
LAST-MODIFIED:20211203T191030Z
UID:10006222-1647541800-1647547200@www.archaeological.org
SUMMARY:An Archaeologist\, World War II and Prehistoric Thailand
DESCRIPTION:Dr. Cyler Conrad (University of New Mexico) \nThe popular Hollywood film\, The Bridge on the River Kwai\, portrays an important series of events for prisoners of war during World War II in Thailand\, also known as the infamous China-Burma-India theater of conflict. While the film’s creative story garnered acclaim and praise after its release in 1957\, it masked the true experience of these prisoners in Thailand during the war. This talk will focus on the legacy of Hendrik Robert van Heekeren\, a prisoner captured by the Japanese in 1942 and sent to the “Railroad of Death” camps in Thailand in 1943. van Heekeren’s experience during the war including captivity and work on the railroad – common scenes depicted in the film – but his legacy stems from the significant archaeological work and contributions he completed while a prisoner of war and after in Thailand\, during the 1960s. The lecture discusses the intersection of van Heekeren\, prisoners in Thailand during World War II\, The Bridge on the River Kwai\, and the broader record of prehistoric archaeology influenced by these events \nvia Zoom
URL:https://www.archaeological.org/event/an-archaeologist-world-war-ii-and-prehistoric-thailand/
LOCATION:Northwest Museum of Arts and Culture\, 2316 West 1st Avenue\, Spokane\, WA\, 99201\, United States
CATEGORIES:Lecture
ORGANIZER;CN="Andrew Goldman":MAILTO:goldman@gonzaga.edu
GEO:47.6568363;-117.4468732
X-APPLE-STRUCTURED-LOCATION;VALUE=URI;X-ADDRESS=Northwest Museum of Arts and Culture 2316 West 1st Avenue Spokane WA 99201 United States;X-APPLE-RADIUS=500;X-TITLE=2316 West 1st Avenue:geo:-117.4468732,47.6568363
END:VEVENT
END:VCALENDAR