BEGIN:VCALENDAR
VERSION:2.0
PRODID:-//Archaeological Institute of America - ECPv6.15.20//NONSGML v1.0//EN
CALSCALE:GREGORIAN
METHOD:PUBLISH
X-ORIGINAL-URL:https://www.archaeological.org
X-WR-CALDESC:Events for Archaeological Institute of America
REFRESH-INTERVAL;VALUE=DURATION:PT1H
X-Robots-Tag:noindex
X-PUBLISHED-TTL:PT1H
BEGIN:VTIMEZONE
TZID:America/Los_Angeles
BEGIN:DAYLIGHT
TZOFFSETFROM:-0800
TZOFFSETTO:-0700
TZNAME:PDT
DTSTART:20230312T100000
END:DAYLIGHT
BEGIN:STANDARD
TZOFFSETFROM:-0700
TZOFFSETTO:-0800
TZNAME:PST
DTSTART:20231105T090000
END:STANDARD
BEGIN:DAYLIGHT
TZOFFSETFROM:-0800
TZOFFSETTO:-0700
TZNAME:PDT
DTSTART:20240310T100000
END:DAYLIGHT
BEGIN:STANDARD
TZOFFSETFROM:-0700
TZOFFSETTO:-0800
TZNAME:PST
DTSTART:20241103T090000
END:STANDARD
BEGIN:DAYLIGHT
TZOFFSETFROM:-0800
TZOFFSETTO:-0700
TZNAME:PDT
DTSTART:20250309T100000
END:DAYLIGHT
BEGIN:STANDARD
TZOFFSETFROM:-0700
TZOFFSETTO:-0800
TZNAME:PST
DTSTART:20251102T090000
END:STANDARD
END:VTIMEZONE
BEGIN:VTIMEZONE
TZID:America/Vancouver
BEGIN:DAYLIGHT
TZOFFSETFROM:-0800
TZOFFSETTO:-0700
TZNAME:PDT
DTSTART:20220313T100000
END:DAYLIGHT
BEGIN:STANDARD
TZOFFSETFROM:-0700
TZOFFSETTO:-0800
TZNAME:PST
DTSTART:20221106T090000
END:STANDARD
BEGIN:DAYLIGHT
TZOFFSETFROM:-0800
TZOFFSETTO:-0700
TZNAME:PDT
DTSTART:20230312T100000
END:DAYLIGHT
BEGIN:STANDARD
TZOFFSETFROM:-0700
TZOFFSETTO:-0800
TZNAME:PST
DTSTART:20231105T090000
END:STANDARD
BEGIN:DAYLIGHT
TZOFFSETFROM:-0800
TZOFFSETTO:-0700
TZNAME:PDT
DTSTART:20240310T100000
END:DAYLIGHT
BEGIN:STANDARD
TZOFFSETFROM:-0700
TZOFFSETTO:-0800
TZNAME:PST
DTSTART:20241103T090000
END:STANDARD
END:VTIMEZONE
BEGIN:VEVENT
DTSTART;TZID=America/Los_Angeles:20241005T100000
DTEND;TZID=America/Los_Angeles:20241005T150000
DTSTAMP:20260421T164042
CREATED:20240916T143205Z
LAST-MODIFIED:20240916T143205Z
UID:10007210-1728122400-1728140400@www.archaeological.org
SUMMARY:Spokane Archaeology Day
DESCRIPTION:Spokane will hold its popular Archaeology Day again this year! Participate in this free annual community event that highlights all things archaeology. Listen to talks\, chat with professionals\, and participate in hands-on activities related to archaeology. This is a great day for people of all ages.
URL:https://www.archaeological.org/event/spokane-archaeology-day-4/
LOCATION:Northwest Museum of Arts and Culture\, 2316 West First Avenue\, Spokane\, WA\, 99201\, United States
CATEGORIES:International Archaeology Day
ATTACH;FMTTYPE=image/png:https://www.archaeological.org/wp-content/uploads/2024/09/IMG_1290.png
ORGANIZER;CN="Cindy Bell":MAILTO:cbell2118@gmail.com
GEO:47.656836;-117.446873
X-APPLE-STRUCTURED-LOCATION;VALUE=URI;X-ADDRESS=Northwest Museum of Arts and Culture 2316 West First Avenue Spokane WA 99201 United States;X-APPLE-RADIUS=500;X-TITLE=2316 West First Avenue:geo:-117.446873,47.656836
END:VEVENT
BEGIN:VEVENT
DTSTART;TZID=America/Los_Angeles:20240919T183000
DTEND;TZID=America/Los_Angeles:20240919T193000
DTSTAMP:20260421T164042
CREATED:20240905T201531Z
LAST-MODIFIED:20240905T201531Z
UID:10007174-1726770600-1726774200@www.archaeological.org
SUMMARY:King Richard III: The Resolution Of A 500 Year Old Cold Case
DESCRIPTION:Charles Eliot Norton Memorial Lectureship
URL:https://www.archaeological.org/event/king-richard-iii-the-resolution-of-a-500-year-old-cold-case-2/
LOCATION:Northwest Museum of Arts and Culture\, 2316 West First Avenue\, Spokane\, WA\, 99201\, United States
CATEGORIES:AIA Lecture Program
ORGANIZER;CN="Brian Buchanan":MAILTO:bbuchanan1@ewu.edu
GEO:47.656836;-117.446873
X-APPLE-STRUCTURED-LOCATION;VALUE=URI;X-ADDRESS=Northwest Museum of Arts and Culture 2316 West First Avenue Spokane WA 99201 United States;X-APPLE-RADIUS=500;X-TITLE=2316 West First Avenue:geo:-117.446873,47.656836
END:VEVENT
BEGIN:VEVENT
DTSTART;TZID=America/Vancouver:20231007T100000
DTEND;TZID=America/Vancouver:20231007T150000
DTSTAMP:20260421T164042
CREATED:20230908T134233Z
LAST-MODIFIED:20230919T190801Z
UID:10006970-1696672800-1696690800@www.archaeological.org
SUMMARY:Spokane Archaeology Day
DESCRIPTION:The Spokane Society will have a table at Spokane Archeology Day\, along with other local organizations and the Northwest Museum of Arts and Culture. We will talk with visitors\, advertise the AIA\, promote the field of archaeology\, and the like.
URL:https://www.archaeological.org/event/spokane-archaeology-day-3/
LOCATION:Northwest Museum of Arts and Culture\, 2316 West First Avenue\, Spokane\, WA\, 99201\, United States
CATEGORIES:AIA Tours / Travel Program,International Archaeology Day
ATTACH;FMTTYPE=image/png:https://www.archaeological.org/wp-content/uploads/2023/09/2023-09-06-09.06.39.png
ORGANIZER;CN="Catharine Roth":MAILTO:catharineroth@gmail.com
GEO:47.656836;-117.446873
X-APPLE-STRUCTURED-LOCATION;VALUE=URI;X-ADDRESS=Northwest Museum of Arts and Culture 2316 West First Avenue Spokane WA 99201 United States;X-APPLE-RADIUS=500;X-TITLE=2316 West First Avenue:geo:-117.446873,47.656836
END:VEVENT
END:VCALENDAR