BEGIN:VCALENDAR
VERSION:2.0
PRODID:-//Archaeological Institute of America - ECPv6.15.20//NONSGML v1.0//EN
CALSCALE:GREGORIAN
METHOD:PUBLISH
X-ORIGINAL-URL:https://www.archaeological.org
X-WR-CALDESC:Events for Archaeological Institute of America
REFRESH-INTERVAL;VALUE=DURATION:PT1H
X-Robots-Tag:noindex
X-PUBLISHED-TTL:PT1H
BEGIN:VTIMEZONE
TZID:America/New_York
BEGIN:DAYLIGHT
TZOFFSETFROM:-0500
TZOFFSETTO:-0400
TZNAME:EDT
DTSTART:20220313T070000
END:DAYLIGHT
BEGIN:STANDARD
TZOFFSETFROM:-0400
TZOFFSETTO:-0500
TZNAME:EST
DTSTART:20221106T060000
END:STANDARD
BEGIN:DAYLIGHT
TZOFFSETFROM:-0500
TZOFFSETTO:-0400
TZNAME:EDT
DTSTART:20230312T070000
END:DAYLIGHT
BEGIN:STANDARD
TZOFFSETFROM:-0400
TZOFFSETTO:-0500
TZNAME:EST
DTSTART:20231105T060000
END:STANDARD
BEGIN:DAYLIGHT
TZOFFSETFROM:-0500
TZOFFSETTO:-0400
TZNAME:EDT
DTSTART:20240310T070000
END:DAYLIGHT
BEGIN:STANDARD
TZOFFSETFROM:-0400
TZOFFSETTO:-0500
TZNAME:EST
DTSTART:20241103T060000
END:STANDARD
END:VTIMEZONE
BEGIN:VEVENT
DTSTART;TZID=America/New_York:20231027T170000
DTEND;TZID=America/New_York:20231027T180000
DTSTAMP:20260421T104442
CREATED:20230703T154508Z
LAST-MODIFIED:20230703T154508Z
UID:10006859-1698426000-1698429600@www.archaeological.org
SUMMARY:Beer with Bronson
DESCRIPTION:Grab a pour and take a tour with Curator of Collections\, Bronson Michaud. Hear about the untold stories from our collection and take a peek at objects on display just for you. Plus\, you’ll receive a Beer with Bronson koozie to keep your beer (or root beer) cold and hands warm!\nThis month\, we will look at archaeological artifacts in the Museum’s collections.\nAdmission is free for Old Colony History Museum members\, non-members are $5.\nNot a current Member? Learn more and sign up by visiting https://www.oldcolonyhistorymuseum.org/membership/
URL:https://www.archaeological.org/event/beer-with-bronson/
LOCATION:Old Colony History Museum\, 66 Church Green\, Taunton\, MA\, 02780\, United States
CATEGORIES:International Archaeology Day
ATTACH;FMTTYPE=image/jpeg:https://www.archaeological.org/wp-content/uploads/2023/06/Beer-with-Bronson-2.24-29.jpg
ORGANIZER;CN="Saria Sweeney":MAILTO:info@oldcolonyhistorymuseum.org
GEO:41.901229;-71.087109
X-APPLE-STRUCTURED-LOCATION;VALUE=URI;X-ADDRESS=Old Colony History Museum 66 Church Green Taunton MA 02780 United States;X-APPLE-RADIUS=500;X-TITLE=66 Church Green:geo:-71.087109,41.901229
END:VEVENT
END:VCALENDAR