BEGIN:VCALENDAR
VERSION:2.0
PRODID:-//Archaeological Institute of America - ECPv6.15.20//NONSGML v1.0//EN
CALSCALE:GREGORIAN
METHOD:PUBLISH
X-ORIGINAL-URL:https://www.archaeological.org
X-WR-CALDESC:Events for Archaeological Institute of America
REFRESH-INTERVAL;VALUE=DURATION:PT1H
X-Robots-Tag:noindex
X-PUBLISHED-TTL:PT1H
BEGIN:VTIMEZONE
TZID:America/New_York
BEGIN:DAYLIGHT
TZOFFSETFROM:-0500
TZOFFSETTO:-0400
TZNAME:EDT
DTSTART:20210314T070000
END:DAYLIGHT
BEGIN:STANDARD
TZOFFSETFROM:-0400
TZOFFSETTO:-0500
TZNAME:EST
DTSTART:20211107T060000
END:STANDARD
BEGIN:DAYLIGHT
TZOFFSETFROM:-0500
TZOFFSETTO:-0400
TZNAME:EDT
DTSTART:20220313T070000
END:DAYLIGHT
BEGIN:STANDARD
TZOFFSETFROM:-0400
TZOFFSETTO:-0500
TZNAME:EST
DTSTART:20221106T060000
END:STANDARD
BEGIN:DAYLIGHT
TZOFFSETFROM:-0500
TZOFFSETTO:-0400
TZNAME:EDT
DTSTART:20230312T070000
END:DAYLIGHT
BEGIN:STANDARD
TZOFFSETFROM:-0400
TZOFFSETTO:-0500
TZNAME:EST
DTSTART:20231105T060000
END:STANDARD
BEGIN:DAYLIGHT
TZOFFSETFROM:-0500
TZOFFSETTO:-0400
TZNAME:EDT
DTSTART:20240310T070000
END:DAYLIGHT
BEGIN:STANDARD
TZOFFSETFROM:-0400
TZOFFSETTO:-0500
TZNAME:EST
DTSTART:20241103T060000
END:STANDARD
BEGIN:DAYLIGHT
TZOFFSETFROM:-0500
TZOFFSETTO:-0400
TZNAME:EDT
DTSTART:20250309T070000
END:DAYLIGHT
BEGIN:STANDARD
TZOFFSETFROM:-0400
TZOFFSETTO:-0500
TZNAME:EST
DTSTART:20251102T060000
END:STANDARD
BEGIN:DAYLIGHT
TZOFFSETFROM:-0500
TZOFFSETTO:-0400
TZNAME:EDT
DTSTART:20260308T070000
END:DAYLIGHT
BEGIN:STANDARD
TZOFFSETFROM:-0400
TZOFFSETTO:-0500
TZNAME:EST
DTSTART:20261101T060000
END:STANDARD
BEGIN:DAYLIGHT
TZOFFSETFROM:-0500
TZOFFSETTO:-0400
TZNAME:EDT
DTSTART:20270314T070000
END:DAYLIGHT
BEGIN:STANDARD
TZOFFSETFROM:-0400
TZOFFSETTO:-0500
TZNAME:EST
DTSTART:20271107T060000
END:STANDARD
END:VTIMEZONE
BEGIN:VEVENT
DTSTART;TZID=America/New_York:20260221T150000
DTEND;TZID=America/New_York:20260221T163000
DTSTAMP:20260422T154130
CREATED:20250922T145953Z
LAST-MODIFIED:20250922T150515Z
UID:10008631-1771686000-1771691400@www.archaeological.org
SUMMARY:Digging in Circles: Miami's Prehistoric Legacy
DESCRIPTION:Martha Sharp Joukowsky Lectureship
URL:https://www.archaeological.org/event/digging-in-circles-miamis-prehistoric-legacy-2/
LOCATION:Palm Beach Museum of Natural History\, the Mall at Wellington Green\, 10300 Forest Hill Blvd.\, Wellington\, FL\, 33414\, United States
CATEGORIES:AIA Lecture Program,Lecture
ORGANIZER;CN="AIA":MAILTO:lectures@archaeological.org
GEO:26.6470225;-80.2087671
X-APPLE-STRUCTURED-LOCATION;VALUE=URI;X-ADDRESS=Palm Beach Museum of Natural History the Mall at Wellington Green 10300 Forest Hill Blvd. Wellington FL 33414 United States;X-APPLE-RADIUS=500;X-TITLE=10300 Forest Hill Blvd.:geo:-80.2087671,26.6470225
END:VEVENT
BEGIN:VEVENT
DTSTART;TZID=America/New_York:20250222T160000
DTEND;TZID=America/New_York:20250222T170000
DTSTAMP:20260422T154130
CREATED:20250129T151509Z
LAST-MODIFIED:20250129T151509Z
UID:10007522-1740240000-1740243600@www.archaeological.org
SUMMARY:Why underwater? The importance of submerged landscape research for understanding Pleistocene peoples in the New World
DESCRIPTION:Doris Z. Stone New World Archaeology Lectures
URL:https://www.archaeological.org/event/why-underwater-the-importance-of-submerged-landscape-research-for-understanding-pleistocene-peoples-in-the-new-world-2/
LOCATION:Palm Beach Museum of Natural History\, the Mall at Wellington Green\, 10300 Forest Hill Blvd.\, Wellington\, FL\, 33414\, United States
CATEGORIES:AIA Lecture Program,Lecture
ORGANIZER;CN="Rudolph F Pascucci":MAILTO:rpascucci@pbmnh.org
GEO:26.6470225;-80.2087671
X-APPLE-STRUCTURED-LOCATION;VALUE=URI;X-ADDRESS=Palm Beach Museum of Natural History the Mall at Wellington Green 10300 Forest Hill Blvd. Wellington FL 33414 United States;X-APPLE-RADIUS=500;X-TITLE=10300 Forest Hill Blvd.:geo:-80.2087671,26.6470225
END:VEVENT
BEGIN:VEVENT
DTSTART;TZID=America/New_York:20240405T183000
DTEND;TZID=America/New_York:20240405T183000
DTSTAMP:20260422T154130
CREATED:20230901T125324Z
LAST-MODIFIED:20240401T184324Z
UID:10006962-1712341800-1712341800@www.archaeological.org
SUMMARY:Wrecking in the Florida Keys
DESCRIPTION:Robert Feeney is a Ph.D. student in Comparative Studies at Florida Atlantic University in Boca Raton. He received his MA in history there is 2016 and currently works in the FAU library as a Manuscript and Archives Special Collections Assistant. Robert is also a member of the City of Plantation Historic Preservation Board. His specialty is 19th century US material culture focusing on early telegraph and railroad equipment. He has been a popular guest speaker for a number of local organizations\, often dressing in period costume and bringing along a display of pertinent artifacts.  \nDuring the 1800s\, the wrecking industry made Key West one of the wealthiest cities in the US. Hear stories of ships and sailors hopelessly wrecked on Florida’s reef system and how they provided a livelihood for intrepid individuals willing to risk their lives to save crews and cargoes from perilous storms. See navigation tools\, learn about shipboard trades\, and see actual artifacts related to the practice of “wrecking.” \nThis is both an in-person and on-line event. For those coming to the Museum\, there will be light refreshments. The on-line presentation will be available via Zoom at:\nhttps://us06web.zoom.us/j/86833990236?pwd=rBBG3YHhcskTQP8OoT2p5i96Fv2XjR.1 \nFor additional information call (561) 729-4246
URL:https://www.archaeological.org/event/south-florida-society-national-lecture-program-lecture/
LOCATION:Palm Beach Museum of Natural History\, the Mall at Wellington Green\, 10300 Forest Hill Blvd.\, Wellington\, FL\, 33414\, United States
CATEGORIES:AIA Lecture Program,Lecture
GEO:26.6470225;-80.2087671
X-APPLE-STRUCTURED-LOCATION;VALUE=URI;X-ADDRESS=Palm Beach Museum of Natural History the Mall at Wellington Green 10300 Forest Hill Blvd. Wellington FL 33414 United States;X-APPLE-RADIUS=500;X-TITLE=10300 Forest Hill Blvd.:geo:-80.2087671,26.6470225
END:VEVENT
BEGIN:VEVENT
DTSTART;TZID=America/New_York:20221021T200000
DTEND;TZID=America/New_York:20221021T200000
DTSTAMP:20260422T154130
CREATED:20220818T211406Z
LAST-MODIFIED:20220822T193111Z
UID:10006583-1666382400-1666382400@www.archaeological.org
SUMMARY:Snake Queens of Waka` and Beyond: Royal Women of the Snake Realm and their Imprint on Classic Maya Rulership
DESCRIPTION:Stone Lecture
URL:https://www.archaeological.org/event/snake-queens-of-waka-and-beyond-royal-women-of-the-snake-realm-and-their-imprint-on-classic-maya-rulership/
LOCATION:Palm Beach Museum of Natural History\, the Mall at Wellington Green\, 10300 Forest Hill Blvd.\, Wellington\, FL\, 33414\, United States
CATEGORIES:AIA Lecture Program,Lecture
ORGANIZER;CN="AIA":MAILTO:lectures@archaeological.org
GEO:26.6470225;-80.2087671
X-APPLE-STRUCTURED-LOCATION;VALUE=URI;X-ADDRESS=Palm Beach Museum of Natural History the Mall at Wellington Green 10300 Forest Hill Blvd. Wellington FL 33414 United States;X-APPLE-RADIUS=500;X-TITLE=10300 Forest Hill Blvd.:geo:-80.2087671,26.6470225
END:VEVENT
END:VCALENDAR