BEGIN:VCALENDAR
VERSION:2.0
PRODID:-//Archaeological Institute of America - ECPv6.15.20//NONSGML v1.0//EN
CALSCALE:GREGORIAN
METHOD:PUBLISH
X-ORIGINAL-URL:https://www.archaeological.org
X-WR-CALDESC:Events for Archaeological Institute of America
REFRESH-INTERVAL;VALUE=DURATION:PT1H
X-Robots-Tag:noindex
X-PUBLISHED-TTL:PT1H
BEGIN:VTIMEZONE
TZID:America/New_York
BEGIN:DAYLIGHT
TZOFFSETFROM:-0500
TZOFFSETTO:-0400
TZNAME:EDT
DTSTART:20200308T070000
END:DAYLIGHT
BEGIN:STANDARD
TZOFFSETFROM:-0400
TZOFFSETTO:-0500
TZNAME:EST
DTSTART:20201101T060000
END:STANDARD
BEGIN:DAYLIGHT
TZOFFSETFROM:-0500
TZOFFSETTO:-0400
TZNAME:EDT
DTSTART:20210314T070000
END:DAYLIGHT
BEGIN:STANDARD
TZOFFSETFROM:-0400
TZOFFSETTO:-0500
TZNAME:EST
DTSTART:20211107T060000
END:STANDARD
BEGIN:DAYLIGHT
TZOFFSETFROM:-0500
TZOFFSETTO:-0400
TZNAME:EDT
DTSTART:20220313T070000
END:DAYLIGHT
BEGIN:STANDARD
TZOFFSETFROM:-0400
TZOFFSETTO:-0500
TZNAME:EST
DTSTART:20221106T060000
END:STANDARD
BEGIN:DAYLIGHT
TZOFFSETFROM:-0500
TZOFFSETTO:-0400
TZNAME:EDT
DTSTART:20230312T070000
END:DAYLIGHT
BEGIN:STANDARD
TZOFFSETFROM:-0400
TZOFFSETTO:-0500
TZNAME:EST
DTSTART:20231105T060000
END:STANDARD
END:VTIMEZONE
BEGIN:VEVENT
DTSTART;TZID=America/New_York:20220228T180000
DTEND;TZID=America/New_York:20220228T190000
DTSTAMP:20260421T120930
CREATED:20220209T155714Z
LAST-MODIFIED:20220209T155739Z
UID:10006296-1646071200-1646074800@www.archaeological.org
SUMMARY:Behind-the-Screens with Sarah Clunis (Free for HMSC Members)
DESCRIPTION:Sarah Anita Clunis\, Director of Academic Partnerships and Curator of African Collections\, Peabody Museum of Archaeology & Ethnology \nLocated in the Kasaï Oriental Province along the Sankuru River in the central part of the Democratic Republic of Congo\, the Kuba identify themselves as the children of Woot and the tale of their origins is often reenacted in masquerades for the royal Kuba court. The focus of this Black History Month Behind-the-Screens is a conversation with Peabody Curator of African Collections\, Sarah Clunis\, about three royal Kuba masks—housed at Harvard’s Peabody Museum—that as a triad re-enact the founding of the Kuba kingdom and highlight the significance of gender and status in Kuba political systems and Kuba life. \nPresented by Peabody Museum of Archaeology & Ethnology and Harvard Museums of Science & Culture \nNot a member of Harvard Museums of Science & Culture? Become a member today so you can join us on February 28th! Visit us at https://hmsc.harvard.edu/membership
URL:https://www.archaeological.org/event/behind-the-screens-with-sarah-clunis-free-for-hmsc-members/
LOCATION:Peabody Museum of Archaeology and Ethnology\, 11 Divinity Avenue\, Cambridge\, MA\, 02138\, United States
CATEGORIES:Lecture
ATTACH;FMTTYPE=image/jpeg:https://www.archaeological.org/wp-content/uploads/2022/02/Sarah_Clunis_600-400.jpg
ORGANIZER;CN="Harvard Museums of Science &amp%3Bamp%3B Culture":MAILTO:hmscpr@hmsc.harvard.edu
GEO:42.377512;-71.1141269
X-APPLE-STRUCTURED-LOCATION;VALUE=URI;X-ADDRESS=Peabody Museum of Archaeology and Ethnology 11 Divinity Avenue Cambridge MA 02138 United States;X-APPLE-RADIUS=500;X-TITLE=11 Divinity Avenue:geo:-71.1141269,42.377512
END:VEVENT
BEGIN:VEVENT
DTSTART;TZID=America/New_York:20220215T180000
DTEND;TZID=America/New_York:20220215T190000
DTSTAMP:20260421T120930
CREATED:20220204T151036Z
LAST-MODIFIED:20220204T151036Z
UID:10006282-1644948000-1644951600@www.archaeological.org
SUMMARY:Benin Bronzes in Context (Free Virtual Lecture)
DESCRIPTION:Sarah Anita Clunis\, Director of Academic Partnerships and Curator of African Collections\, Peabody Museum of Archaeology and Ethnology\, Harvard University \nIn conversation with Diana DiPaolo Loren\, Senior Curator\, Peabody Museum of Archaeology and Ethnology\, Harvard University \nThe kingdom of Benin\, a highly centralized state founded in the thirteenth or fourteenth centuries in southwestern Nigeria\, dominated trade with Europeans on the Nigerian coast from the late 1400s until the end of the 1900s. Ruled by a divine king\, or Oba\, the Benin kingdom relied on specialized guilds who created elaborate court regalia that adorned the palace of the Oba. Bronze plaques\, ivory statuettes\, and delicate coral-beaded items were used to establish status and validate the Oba’s power. In 1897 a British expeditionary force invaded Benin\, plundered the palace\, and burned it to the ground. Items linked to this expedition were then sent to museums around the world\, including both the Harvard Art Museums and Harvard’s Peabody Museum\, and are housed in their collections. In this program\, Sarah Clunis will look at objects currently in the care of Harvard and discuss the way that these objects represent an iconographic and contextual story of trade\, contact\, and crossroads between cultures. Diana Loren will moderate a discussion after the presentation. \nThe bronze\, ivory\, and wooden artworks broadly known as the “Benin Bronzes” were taken from Benin City as part of the British Punitive Expedition of 1897 and dispersed to private collections and museums around the world. The Peabody Museum of Archaeology & Ethnology and Harvard Art Museums acknowledge the violence and trauma of the Expedition and understand that the presence of this cultural material in Western museums is experienced as continued injustice by descendent communities. \nPresented by the Peabody Museum of Archaeology & Ethnology and the Harvard Museums of Science & Culture in collaboration with the Harvard Art Museums
URL:https://www.archaeological.org/event/benin-bronzes-in-context-free-virtual-lecture/
LOCATION:Peabody Museum of Archaeology and Ethnology\, 11 Divinity Avenue\, Cambridge\, MA\, 02138\, United States
CATEGORIES:Lecture
ATTACH;FMTTYPE=image/jpeg:https://www.archaeological.org/wp-content/uploads/2022/02/benin-600-x-400.jpg
ORGANIZER;CN="Harvard Museums of Science &amp%3Bamp%3B Culture":MAILTO:hmscpr@hmsc.harvard.edu
GEO:42.377512;-71.1141269
X-APPLE-STRUCTURED-LOCATION;VALUE=URI;X-ADDRESS=Peabody Museum of Archaeology and Ethnology 11 Divinity Avenue Cambridge MA 02138 United States;X-APPLE-RADIUS=500;X-TITLE=11 Divinity Avenue:geo:-71.1141269,42.377512
END:VEVENT
BEGIN:VEVENT
DTSTART;VALUE=DATE:20211201
DTEND;VALUE=DATE:20220516
DTSTAMP:20260421T120930
CREATED:20211201T233033Z
LAST-MODIFIED:20211201T233033Z
UID:10006219-1638316800-1652659199@www.archaeological.org
SUMMARY:Muchos Méxicos: Crossroads of the Americas Exhibition
DESCRIPTION:Muchos Méxicos explores Mexico’s rich history as a site of human innovation\, creativity and cultural diversity. Featuring Mexican objects from the Peabody Museum collections\, this bilingual exhibit tells the story of Mexico as a multicultural and geographic crossroads—one where the exchange of resources\, products\, and ideas among Indigenous peoples throughout the Americas before the Spanish invasion\, and then with cultures around the globe—have all created a vibrant nation. See https://bit.ly/HMSCExhibitions for hours and reservations. \nMuchos Méxicos explora la rica historia de México como un sitio de innovación humana\, creatividad y diversidad cultural. Con objetos mexicanos de las colecciones del Museo Peabody\, esta exposición bilingüe cuenta la historia de México como encrucijada multicultural y geográfica\, donde el intercambio de recursos\, productos e ideas entre los pueblos indígenas de toda América antes de la invasión española\, y luego con culturas alrededor del mundo\, han creado una nación vibrante. \nImage credit: Peabody Museum Expedition\, M. H. Saville and J. G. Owens\, Directors 1891-1892 © President and Fellows of Harvard College\, Peabody Museum of Archaeology and Ethnology\, 92-49-20/C276
URL:https://www.archaeological.org/event/muchos-mexicos-crossroads-of-the-americas-exhibition/
LOCATION:Peabody Museum of Archaeology and Ethnology\, 11 Divinity Avenue\, Cambridge\, MA\, 02138\, United States
CATEGORIES:Exhibition
ATTACH;FMTTYPE=image/jpeg:https://www.archaeological.org/wp-content/uploads/2021/12/muchos_plumbate_ware_jar_detail.jpg
ORGANIZER;CN="Harvard Museums of Science &amp%3Bamp%3B Culture":MAILTO:hmscpr@hmsc.harvard.edu
GEO:42.377512;-71.1141269
X-APPLE-STRUCTURED-LOCATION;VALUE=URI;X-ADDRESS=Peabody Museum of Archaeology and Ethnology 11 Divinity Avenue Cambridge MA 02138 United States;X-APPLE-RADIUS=500;X-TITLE=11 Divinity Avenue:geo:-71.1141269,42.377512
END:VEVENT
BEGIN:VEVENT
DTSTART;TZID=America/New_York:20211126T090000
DTEND;TZID=America/New_York:20211126T170000
DTSTAMP:20260421T120930
CREATED:20211117T133929Z
LAST-MODIFIED:20211117T133929Z
UID:10006212-1637917200-1637946000@www.archaeological.org
SUMMARY:Muchos Méxicos: Crossroads of the Americas exhibition opens to the public
DESCRIPTION:On Friday\, November 26\, the Harvard Museums of Science & Culture—the Harvard Museum of Natural History\, the Peabody Museum of Archaeology & Ethnology\, the Harvard Museum of the Ancient Near East\, and the Collection of Historical Scientific Instruments—reopen to the public. See https://bit.ly/HMSCExhibitions for hours and reservations. \nMuchos Méxicos explores Mexico’s rich history as a site of human innovation\, creativity and cultural diversity. Featuring Mexican objects from the Peabody Museum collections\, this bilingual exhibit tells the story of Mexico as a multicultural and geographic crossroads—one where the exchange of resources\, products\, and ideas among Indigenous peoples throughout the Americas before the Spanish invasion\, and then with cultures around the globe—have all created a vibrant nation. See https://bit.ly/HMSCExhibitions for hours and reservations. \nMuchos Méxicos explora la rica historia de México como un sitio de innovación humana\, creatividad y diversidad cultural. Con objetos mexicanos de las colecciones del Museo Peabody\, esta exposición bilingüe cuenta la historia de México como encrucijada multicultural y geográfica\, donde el intercambio de recursos\, productos e ideas entre los pueblos indígenas de toda América antes de la invasión española\, y luego con culturas alrededor del mundo\, han creado una nación vibrante. \nImage credit: Peabody Museum Expedition\, M. H. Saville and J. G. Owens\, Directors 1891-1892 © President and Fellows of Harvard College\, Peabody Museum of Archaeology and Ethnology\, 92-49-20/C276
URL:https://www.archaeological.org/event/muchos-mexicos-crossroads-of-the-americas-exhibition-opens-to-the-public/
LOCATION:Peabody Museum of Archaeology and Ethnology\, 11 Divinity Avenue\, Cambridge\, MA\, 02138\, United States
CATEGORIES:Exhibition
ATTACH;FMTTYPE=image/jpeg:https://www.archaeological.org/wp-content/uploads/2021/11/plumbate_tripod_jar_event.jpg
ORGANIZER;CN="Harvard Museums of Science &amp%3Bamp%3B Culture":MAILTO:hmscpr@hmsc.harvard.edu
GEO:42.377512;-71.1141269
X-APPLE-STRUCTURED-LOCATION;VALUE=URI;X-ADDRESS=Peabody Museum of Archaeology and Ethnology 11 Divinity Avenue Cambridge MA 02138 United States;X-APPLE-RADIUS=500;X-TITLE=11 Divinity Avenue:geo:-71.1141269,42.377512
END:VEVENT
END:VCALENDAR