BEGIN:VCALENDAR
VERSION:2.0
PRODID:-//Archaeological Institute of America - ECPv6.15.20//NONSGML v1.0//EN
CALSCALE:GREGORIAN
METHOD:PUBLISH
X-WR-CALNAME:Archaeological Institute of America
X-ORIGINAL-URL:https://www.archaeological.org
X-WR-CALDESC:Events for Archaeological Institute of America
REFRESH-INTERVAL;VALUE=DURATION:PT1H
X-Robots-Tag:noindex
X-PUBLISHED-TTL:PT1H
BEGIN:VTIMEZONE
TZID:America/New_York
BEGIN:DAYLIGHT
TZOFFSETFROM:-0500
TZOFFSETTO:-0400
TZNAME:EDT
DTSTART:20250309T070000
END:DAYLIGHT
BEGIN:STANDARD
TZOFFSETFROM:-0400
TZOFFSETTO:-0500
TZNAME:EST
DTSTART:20251102T060000
END:STANDARD
BEGIN:DAYLIGHT
TZOFFSETFROM:-0500
TZOFFSETTO:-0400
TZNAME:EDT
DTSTART:20260308T070000
END:DAYLIGHT
BEGIN:STANDARD
TZOFFSETFROM:-0400
TZOFFSETTO:-0500
TZNAME:EST
DTSTART:20261101T060000
END:STANDARD
BEGIN:DAYLIGHT
TZOFFSETFROM:-0500
TZOFFSETTO:-0400
TZNAME:EDT
DTSTART:20270314T070000
END:DAYLIGHT
BEGIN:STANDARD
TZOFFSETFROM:-0400
TZOFFSETTO:-0500
TZNAME:EST
DTSTART:20271107T060000
END:STANDARD
END:VTIMEZONE
BEGIN:VEVENT
DTSTART;TZID=America/New_York:20260411T130000
DTEND;TZID=America/New_York:20260411T153000
DTSTAMP:20260422T174143
CREATED:20260323T180316Z
LAST-MODIFIED:20260323T180316Z
UID:10009032-1775912400-1775921400@www.archaeological.org
SUMMARY:Teen Saturdays Workshops / ¡Sábados de Jóvenes
DESCRIPTION:Teen Saturdays Workshops / ¡Sábados de Jóvenes\nApril 11 and May 16. Advance registration required\n1:00–3:30 pm\nPeabody Museum of Archaeology & Ethnology\, 11 Divinity Avenue\, Cambridge\nLeer en español\nJoin Teen Saturdays Workshop at the Peabody Museum of Archaeology & Ethnology this spring! High school teens\, ages 13–18\, are invited to explore ancient cooking in two workshops.\nEach workshop combines hands-on activities\, historical insights\, and artifact exploration\, allowing you to learn more about ancient ingredients and food preparation. Make new friends\, challenge yourself\, and discover how the past continues to inspire us today! Sign up now—spaces are limited for these workshops! \nApril 11: Ancient Flavors of Peru. This workshop invites teens to explore the cuisine of the ancient Inca. Learn about traditional cooking technologies and tools featured in museum exhibits\, and experience new smells and flavors with guest educator Esther Gomez. Prepare a simple Peruvian dish to enjoy during the program. \nMay 16: Crispy Critters. Throughout history\, bugs have been part of cuisines around the world. Teens are invited to explore how insects add flavor\, protein\, and crunch to meals. With guest speaker and insect enthusiast Javier Marin\, participants will visit the Harvard Museum of Natural History galleries to learn about different species and their habitats. A snack will be available for those brave enough to try. \nTeen Saturdays Workshops are offered bilingually in Spanish and English. They are designed to build community and enrich the museum experience for multicultural teens. \nTeens receive a free admission pass (worth $15) for a return visit if they attend one of the two sessions. \nDetails: \n$10 per session includes free admission to the museums immediately following the workshop\nAdvance registration is required. Register for one or more sessions.\nFor teens in high school\nAll workshops meet at the Peabody Museum of Archaeology & Ethnology\, 11 Divinity Avenue\, Cambridge\, MA\nAccessible by public transportation
URL:https://www.archaeological.org/event/teen-saturdays-workshops-sabados-de-jovenes/
LOCATION:Peabody Museum of Archaeology & Ethnology\, 11 Divinity Avenue\, Cambridge\, Peabody Museum of Archaeology & Ethnology\, 11 Divinity Avenue\, Cambridge\, Cambridge\, MA\, 02138\, United States
ATTACH;FMTTYPE=image/jpeg:https://www.archaeological.org/wp-content/uploads/2026/03/AdobeStock_553233572-1.jpeg
GEO:42.3782386;-71.1146697
X-APPLE-STRUCTURED-LOCATION;VALUE=URI;X-ADDRESS=Peabody Museum of Archaeology & Ethnology 11 Divinity Avenue Cambridge Peabody Museum of Archaeology & Ethnology 11 Divinity Avenue Cambridge Cambridge MA 02138 United States;X-APPLE-RADIUS=500;X-TITLE=Peabody Museum of Archaeology & Ethnology\, 11 Divinity Avenue\, Cambridge:geo:-71.1146697,42.3782386
END:VEVENT
END:VCALENDAR