BEGIN:VCALENDAR
VERSION:2.0
PRODID:-//Archaeological Institute of America - ECPv6.15.20//NONSGML v1.0//EN
CALSCALE:GREGORIAN
METHOD:PUBLISH
X-ORIGINAL-URL:https://www.archaeological.org
X-WR-CALDESC:Events for Archaeological Institute of America
REFRESH-INTERVAL;VALUE=DURATION:PT1H
X-Robots-Tag:noindex
X-PUBLISHED-TTL:PT1H
BEGIN:VTIMEZONE
TZID:America/New_York
BEGIN:DAYLIGHT
TZOFFSETFROM:-0500
TZOFFSETTO:-0400
TZNAME:EDT
DTSTART:20200308T070000
END:DAYLIGHT
BEGIN:STANDARD
TZOFFSETFROM:-0400
TZOFFSETTO:-0500
TZNAME:EST
DTSTART:20201101T060000
END:STANDARD
BEGIN:DAYLIGHT
TZOFFSETFROM:-0500
TZOFFSETTO:-0400
TZNAME:EDT
DTSTART:20210314T070000
END:DAYLIGHT
BEGIN:STANDARD
TZOFFSETFROM:-0400
TZOFFSETTO:-0500
TZNAME:EST
DTSTART:20211107T060000
END:STANDARD
BEGIN:DAYLIGHT
TZOFFSETFROM:-0500
TZOFFSETTO:-0400
TZNAME:EDT
DTSTART:20220313T070000
END:DAYLIGHT
BEGIN:STANDARD
TZOFFSETFROM:-0400
TZOFFSETTO:-0500
TZNAME:EST
DTSTART:20221106T060000
END:STANDARD
BEGIN:DAYLIGHT
TZOFFSETFROM:-0500
TZOFFSETTO:-0400
TZNAME:EDT
DTSTART:20230312T070000
END:DAYLIGHT
BEGIN:STANDARD
TZOFFSETFROM:-0400
TZOFFSETTO:-0500
TZNAME:EST
DTSTART:20231105T060000
END:STANDARD
END:VTIMEZONE
BEGIN:VEVENT
DTSTART;TZID=America/New_York:20220326T090000
DTEND;TZID=America/New_York:20220326T173000
DTSTAMP:20260424T015517
CREATED:20220318T134539Z
LAST-MODIFIED:20220318T134539Z
UID:10005928-1648285200-1648315800@www.archaeological.org
SUMMARY:HERMOGENES AND HELLENISTIC-ROMAN TEMPLE BUILDING IN GREECE AND ASIA MINOR: MESSON – TEOS – MAGNESIA – SARDIS
DESCRIPTION:New excavations in Turkey have rekindled interest in Hermogenes\, the Hellenistic architect whom Vitruvius credits with a number of temple innovations (e.g. the eustylos and pseudodipteros temple types). The recent excavations of the temple of Dionysos at Teos (Prof. Musa Kadioğlu) have provided new evidence about Hermogenes’ eustylos at this location. This conference brings together specialists from Turkey\, Greece\, and the U.S. in order to contextualize this renewed attention on Hermogenes in view of current research on temple architecture in both Greece and Turkey as well as the reception of Hellenistic architecture in Rome. Papers will also present recent excavations and research on the pseudodipteros at Messon on Lesbos (Dr. Yannis Kourtzellis)\, on the Sanctuary of Artemis at Magnesia on the Meander (Prof. Orhan Bingöl)\, on the pseudodipteros at Sardis (Prof. Nick Cahill and Prof. Emeritus Fikret Yegül)\, on the pseudodipteral temples of Apollo (Prof. Görkem Kökdemir)\, on Hellenistic architectural trends in Samothrace (Prof. Bonna Wescoat and Prof. Sam Holzman)\, on the appropriation of Hermogenes and\, more broadly\, Hellenistic architecture in Rome (Prof. Mantha Zarmakoupi)\, and on the legacy of Hermogenes in the study of Hellenistic-Roman temple building (Prof. Emeritus Lothar Haselberger). \nThe event is hybrid. You can join the event at: https://upenn.zoom.us/j/95658132490?pwd=blpqa2RYNWFXSUxkT0t1Y29DZEs3UT09 (Meeting ID: 956 5813 2490; Passcode: 040845) \nOrganized by Brian Rose\, James B. Pritchard Professor of Archaeology\, Professor of Classical Studies; and Mantha Zarmakoupi\, Morris Russell and Josephine Chidsey Williams Assistant Professor in Roman Architecture. \nThis conference is sponsored by the Center for Ancient Studies\, the School of Arts and Sciences\, the Penn Museum’s Mediterranean Section\, and the Williams Fund\, Penn’s History of Art Department.
URL:https://www.archaeological.org/event/hermogenes-and-hellenistic-roman-temple-building-in-greece-and-asia-minor-messon-teos-magnesia-sardis-2/
LOCATION:Penn Museum\, 3260 South Street\, Philadelphia\, PA\, 19104\, United States
ATTACH;FMTTYPE=image/jpeg:https://www.archaeological.org/wp-content/uploads/2022/03/HermogenesPoster_2022.jpg
ORGANIZER;CN="Mantha Zarmakoupi":MAILTO:mantha@sas.upenn.edu
GEO:39.9583587;-75.1953934
X-APPLE-STRUCTURED-LOCATION;VALUE=URI;X-ADDRESS=Penn Museum 3260 South Street Philadelphia PA 19104 United States;X-APPLE-RADIUS=500;X-TITLE=3260 South Street:geo:-75.1953934,39.9583587
END:VEVENT
BEGIN:VEVENT
DTSTART;TZID=America/New_York:20211003T140000
DTEND;TZID=America/New_York:20211003T140000
DTSTAMP:20260424T015517
CREATED:20210818T164100Z
LAST-MODIFIED:20210823T193822Z
UID:10005737-1633269600-1633269600@www.archaeological.org
SUMMARY:Irresistible Logic: Rupestrian Art and Graphic Writing in the Kongo World
DESCRIPTION:Lobban Lecture
URL:https://www.archaeological.org/event/irresistible-logic-rupestrian-art-and-graphic-writing-in-the-kongo-world/
LOCATION:Penn Museum\, 3260 South Street\, Philadelphia\, PA\, 19104\, United States
CATEGORIES:AIA Lecture Program,International Archaeology Day,Lecture
ORGANIZER;CN="Robert F. Sutton":MAILTO:rfsutton@iupui.edu
GEO:39.9583587;-75.1953934
X-APPLE-STRUCTURED-LOCATION;VALUE=URI;X-ADDRESS=Penn Museum 3260 South Street Philadelphia PA 19104 United States;X-APPLE-RADIUS=500;X-TITLE=3260 South Street:geo:-75.1953934,39.9583587
END:VEVENT
END:VCALENDAR