BEGIN:VCALENDAR
VERSION:2.0
PRODID:-//Archaeological Institute of America - ECPv6.15.20//NONSGML v1.0//EN
CALSCALE:GREGORIAN
METHOD:PUBLISH
X-WR-CALNAME:Archaeological Institute of America
X-ORIGINAL-URL:https://www.archaeological.org
X-WR-CALDESC:Events for Archaeological Institute of America
REFRESH-INTERVAL;VALUE=DURATION:PT1H
X-Robots-Tag:noindex
X-PUBLISHED-TTL:PT1H
BEGIN:VTIMEZONE
TZID:America/New_York
BEGIN:DAYLIGHT
TZOFFSETFROM:-0500
TZOFFSETTO:-0400
TZNAME:EDT
DTSTART:20220313T070000
END:DAYLIGHT
BEGIN:STANDARD
TZOFFSETFROM:-0400
TZOFFSETTO:-0500
TZNAME:EST
DTSTART:20221106T060000
END:STANDARD
BEGIN:DAYLIGHT
TZOFFSETFROM:-0500
TZOFFSETTO:-0400
TZNAME:EDT
DTSTART:20230312T070000
END:DAYLIGHT
BEGIN:STANDARD
TZOFFSETFROM:-0400
TZOFFSETTO:-0500
TZNAME:EST
DTSTART:20231105T060000
END:STANDARD
BEGIN:DAYLIGHT
TZOFFSETFROM:-0500
TZOFFSETTO:-0400
TZNAME:EDT
DTSTART:20240310T070000
END:DAYLIGHT
BEGIN:STANDARD
TZOFFSETFROM:-0400
TZOFFSETTO:-0500
TZNAME:EST
DTSTART:20241103T060000
END:STANDARD
END:VTIMEZONE
BEGIN:VEVENT
DTSTART;TZID=America/New_York:20231014T120000
DTEND;TZID=America/New_York:20231014T160000
DTSTAMP:20260422T123256
CREATED:20230814T141313Z
LAST-MODIFIED:20230823T015549Z
UID:10006880-1697284800-1697299200@www.archaeological.org
SUMMARY:Discover Archaeology
DESCRIPTION:Archaeology Month Event at Phillips Recreation Center at Phillips Park. The grounds were once the site of Southern Amusement Park and also has evidence of Native American habitation. There will be archaeology exhibits\, demonstrations\, lectures\, and interactive displays. This event is free and open to the public. No tickets or pre-registration is required.
URL:https://www.archaeological.org/event/discover-archaeology-2/
LOCATION:Phillips Recreation Center at Phillips Park\, 201 Parkfield St\, Pittsburgh\, PA\, 15210\, United States
CATEGORIES:International Archaeology Day
ATTACH;FMTTYPE=image/jpeg:https://www.archaeological.org/wp-content/uploads/2023/08/Arch-day-advertising-images.jpg
ORGANIZER;CN="Christine Hrabos":MAILTO:cmhrabos@yahoo.com
GEO:40.3915845;-79.9910552
X-APPLE-STRUCTURED-LOCATION;VALUE=URI;X-ADDRESS=Phillips Recreation Center at Phillips Park 201 Parkfield St Pittsburgh PA 15210 United States;X-APPLE-RADIUS=500;X-TITLE=201 Parkfield St:geo:-79.9910552,40.3915845
END:VEVENT
END:VCALENDAR