BEGIN:VCALENDAR
VERSION:2.0
PRODID:-//Archaeological Institute of America - ECPv6.15.20//NONSGML v1.0//EN
CALSCALE:GREGORIAN
METHOD:PUBLISH
X-WR-CALNAME:Archaeological Institute of America
X-ORIGINAL-URL:https://www.archaeological.org
X-WR-CALDESC:Events for Archaeological Institute of America
REFRESH-INTERVAL;VALUE=DURATION:PT1H
X-Robots-Tag:noindex
X-PUBLISHED-TTL:PT1H
BEGIN:VTIMEZONE
TZID:America/New_York
BEGIN:DAYLIGHT
TZOFFSETFROM:-0500
TZOFFSETTO:-0400
TZNAME:EDT
DTSTART:20240310T070000
END:DAYLIGHT
BEGIN:STANDARD
TZOFFSETFROM:-0400
TZOFFSETTO:-0500
TZNAME:EST
DTSTART:20241103T060000
END:STANDARD
BEGIN:DAYLIGHT
TZOFFSETFROM:-0500
TZOFFSETTO:-0400
TZNAME:EDT
DTSTART:20250309T070000
END:DAYLIGHT
BEGIN:STANDARD
TZOFFSETFROM:-0400
TZOFFSETTO:-0500
TZNAME:EST
DTSTART:20251102T060000
END:STANDARD
BEGIN:DAYLIGHT
TZOFFSETFROM:-0500
TZOFFSETTO:-0400
TZNAME:EDT
DTSTART:20260308T070000
END:DAYLIGHT
BEGIN:STANDARD
TZOFFSETFROM:-0400
TZOFFSETTO:-0500
TZNAME:EST
DTSTART:20261101T060000
END:STANDARD
END:VTIMEZONE
BEGIN:VEVENT
DTSTART;TZID=America/New_York:20250414T163000
DTEND;TZID=America/New_York:20250414T173000
DTSTAMP:20260423T173344
CREATED:20250408T162110Z
LAST-MODIFIED:20250408T162110Z
UID:10007659-1744648200-1744651800@www.archaeological.org
SUMMARY:The world in between: Egypt and Nubia in Africa ∙Telling the story through museum artifacts
DESCRIPTION:Homer A. and Dorothy B. Thompson Lectureship
URL:https://www.archaeological.org/event/the-world-in-between-egypt-and-nubia-in-africa-%e2%88%99telling-the-story-through-museum-artifacts/
LOCATION:Princeton University\, East Pyne Building 010\, East Pyne Hall\, Princeton\, NJ\, 08544
CATEGORIES:AIA Lecture Program,Lecture
ORGANIZER;CN="Leigh Anne Lieberman":MAILTO:lalieberman@princeton.edu
GEO:40.3487361;-74.6585722
X-APPLE-STRUCTURED-LOCATION;VALUE=URI;X-ADDRESS=Princeton University East Pyne Building 010 East Pyne Hall Princeton NJ 08544;X-APPLE-RADIUS=500;X-TITLE=East Pyne Hall:geo:-74.6585722,40.3487361
END:VEVENT
BEGIN:VEVENT
DTSTART;TZID=America/New_York:20250407T163000
DTEND;TZID=America/New_York:20250407T173000
DTSTAMP:20260423T173344
CREATED:20250310T151809Z
LAST-MODIFIED:20250310T154956Z
UID:10007607-1744043400-1744047000@www.archaeological.org
SUMMARY:Archive Archaeology: The Invisible Hands of Colonial-Era Excavations in the Middle East
DESCRIPTION:The Elizabeth S. Ettinghausen Lecture
URL:https://www.archaeological.org/event/archive-archaeology-the-invisible-hands-of-colonial-era-excavations-in-the-middle-east/
LOCATION:Princeton University\, East Pyne Building 010\, East Pyne Hall\, Princeton\, NJ\, 08544
CATEGORIES:AIA Lecture Program,Lecture
ORGANIZER;CN="Leigh Anne Lieberman":MAILTO:lalieberman@princeton.edu
GEO:40.3487361;-74.6585722
X-APPLE-STRUCTURED-LOCATION;VALUE=URI;X-ADDRESS=Princeton University East Pyne Building 010 East Pyne Hall Princeton NJ 08544;X-APPLE-RADIUS=500;X-TITLE=East Pyne Hall:geo:-74.6585722,40.3487361
END:VEVENT
END:VCALENDAR