BEGIN:VCALENDAR
VERSION:2.0
PRODID:-//Archaeological Institute of America - ECPv6.15.20//NONSGML v1.0//EN
CALSCALE:GREGORIAN
METHOD:PUBLISH
X-WR-CALNAME:Archaeological Institute of America
X-ORIGINAL-URL:https://www.archaeological.org
X-WR-CALDESC:Events for Archaeological Institute of America
REFRESH-INTERVAL;VALUE=DURATION:PT1H
X-Robots-Tag:noindex
X-PUBLISHED-TTL:PT1H
BEGIN:VTIMEZONE
TZID:America/New_York
BEGIN:DAYLIGHT
TZOFFSETFROM:-0500
TZOFFSETTO:-0400
TZNAME:EDT
DTSTART:20210314T070000
END:DAYLIGHT
BEGIN:STANDARD
TZOFFSETFROM:-0400
TZOFFSETTO:-0500
TZNAME:EST
DTSTART:20211107T060000
END:STANDARD
BEGIN:DAYLIGHT
TZOFFSETFROM:-0500
TZOFFSETTO:-0400
TZNAME:EDT
DTSTART:20220313T070000
END:DAYLIGHT
BEGIN:STANDARD
TZOFFSETFROM:-0400
TZOFFSETTO:-0500
TZNAME:EST
DTSTART:20221106T060000
END:STANDARD
BEGIN:DAYLIGHT
TZOFFSETFROM:-0500
TZOFFSETTO:-0400
TZNAME:EDT
DTSTART:20230312T070000
END:DAYLIGHT
BEGIN:STANDARD
TZOFFSETFROM:-0400
TZOFFSETTO:-0500
TZNAME:EST
DTSTART:20231105T060000
END:STANDARD
BEGIN:DAYLIGHT
TZOFFSETFROM:-0500
TZOFFSETTO:-0400
TZNAME:EDT
DTSTART:20240310T070000
END:DAYLIGHT
BEGIN:STANDARD
TZOFFSETFROM:-0400
TZOFFSETTO:-0500
TZNAME:EST
DTSTART:20241103T060000
END:STANDARD
BEGIN:DAYLIGHT
TZOFFSETFROM:-0500
TZOFFSETTO:-0400
TZNAME:EDT
DTSTART:20250309T070000
END:DAYLIGHT
BEGIN:STANDARD
TZOFFSETFROM:-0400
TZOFFSETTO:-0500
TZNAME:EST
DTSTART:20251102T060000
END:STANDARD
BEGIN:DAYLIGHT
TZOFFSETFROM:-0500
TZOFFSETTO:-0400
TZNAME:EDT
DTSTART:20260308T070000
END:DAYLIGHT
BEGIN:STANDARD
TZOFFSETFROM:-0400
TZOFFSETTO:-0500
TZNAME:EST
DTSTART:20261101T060000
END:STANDARD
END:VTIMEZONE
BEGIN:VEVENT
DTSTART;TZID=America/New_York:20251018T110000
DTEND;TZID=America/New_York:20251018T150000
DTSTAMP:20260423T130725
CREATED:20250829T152259Z
LAST-MODIFIED:20250829T152259Z
UID:10008532-1760785200-1760799600@www.archaeological.org
SUMMARY:IAD: Community Archaeology Day in Providence\, RI
DESCRIPTION:To celebrate International Archaeology Day\, join the AIA Narragansett Society for a fun Saturday full of archaeological activities!\n– In Rhode Island Hall on the Main Green of Brown University\, come see ancient coins from Greece and Rome up close! Touch ancient animal bones! Examine and draw Persian and Roman ceramics\, prehistoric tools\, precious metals\, and other artifacts from thousands of years ago – coached by experts! And talk with Brown’s archaeologists about their fieldwork all over the world! Family friendly\, free and open to the public.\n– On the lawn in front of List Art Building (64 College Street)\, come be part of an active archaeological excavation! Students from ARCH 1900: The Archaeology of College Hill will be digging the site of a 19th century home and processing artifacts from that household. Stop by any time between 11:00 am and 3:00 pm to see what artifacts students are discovering or even try your hand at digging. Family friendly\, free and open to the public.
URL:https://www.archaeological.org/event/iad-community-archaeology-day-in-providence-ri-4/
LOCATION:Rhode Island Hall\, 60 George Street\, Providence\, RI\, 02912\, United States
CATEGORIES:Archaeology Fair,Education,International Archaeology Day
ORGANIZER;CN="Liza Davis":MAILTO:elizabeth_r_davis@brown.edu
GEO:41.826772;-71.402548
X-APPLE-STRUCTURED-LOCATION;VALUE=URI;X-ADDRESS=Rhode Island Hall 60 George Street Providence RI 02912 United States;X-APPLE-RADIUS=500;X-TITLE=60 George Street:geo:-71.402548,41.826772
END:VEVENT
BEGIN:VEVENT
DTSTART;TZID=America/New_York:20241026T110000
DTEND;TZID=America/New_York:20241026T150000
DTSTAMP:20260423T130725
CREATED:20240906T130152Z
LAST-MODIFIED:20240906T130152Z
UID:10007173-1729940400-1729954800@www.archaeological.org
SUMMARY:IAD: Community Archaeology Day in Providence\, RI
DESCRIPTION:To celebrate International Archaeology Day\, join the AIA Narragansett Society for a fun Saturday full of archaeological activities!\n– In Rhode Island Hall on the Main Green of Brown University\, come see ancient coins from Greece and Rome up close! Touch ancient animal bones! Examine and draw Persian and Roman ceramics\, prehistoric tools\, precious metals\, and other artifacts from thousands of years ago – coached by experts! And talk with Brown’s archaeologists about their fieldwork all over the world! Family friendly\, free and open to the public.\n– On the lawn in front of List Art Building (64 College Street)\, come be part of an active archaeological excavation! Students from ARCH 1900: The Archaeology of College Hill will be digging the site of a 19th century home and processing artifacts from that household. Stop by any time between 11:00 am and 3:00 pm to see what artifacts students are discovering or even try your hand at digging. Family friendly\, free and open to the public.
URL:https://www.archaeological.org/event/iad-community-archaeology-day-in-providence-ri-3/
LOCATION:Rhode Island Hall\, 60 George Street\, Providence\, RI\, 02912\, United States
CATEGORIES:Archaeology Fair,Education,International Archaeology Day
ATTACH;FMTTYPE=image/jpeg:https://www.archaeological.org/wp-content/uploads/2024/09/IAD2024.jpg
ORGANIZER;CN="Liza Davis":MAILTO:elizabeth_r_davis@brown.edu
GEO:41.826772;-71.402548
X-APPLE-STRUCTURED-LOCATION;VALUE=URI;X-ADDRESS=Rhode Island Hall 60 George Street Providence RI 02912 United States;X-APPLE-RADIUS=500;X-TITLE=60 George Street:geo:-71.402548,41.826772
END:VEVENT
BEGIN:VEVENT
DTSTART;TZID=America/New_York:20231014T110000
DTEND;TZID=America/New_York:20231014T150000
DTSTAMP:20260423T130725
CREATED:20230922T202645Z
LAST-MODIFIED:20230922T202645Z
UID:10007005-1697281200-1697295600@www.archaeological.org
SUMMARY:IAD: Community Archaeology Day in Providence\, RI
DESCRIPTION:To celebrate International Archaeology Day\, join the AIA Narragansett Society for a fun Saturday full of archaeological activities!\n– In Rhode Island Hall on the Main Green of Brown University\, come see ancient coins from Greece and Rome up close! Touch ancient animal bones! Examine and draw Persian and Roman ceramics\, prehistoric tools\, precious metals\, and other artifacts from thousands of years ago – coached by experts! And talk with Brown’s archaeologists about their fieldwork all over the world! Family friendly\, free and open to the public.\n– On the lawn in front of List Art Building (64 College Street)\, come be part of an active archaeological excavation! Students from ARCH 1900: The Archaeology of College Hill will be digging the site of a 19th century home and processing artifacts from that household. Stop by any time between 11:00 am and 3:00 pm to see what artifacts students are discovering or even try your hand at digging. Family friendly\, free and open to the public.
URL:https://www.archaeological.org/event/iad-community-archaeology-day-in-providence-ri-2/
LOCATION:Rhode Island Hall\, 60 George Street\, Providence\, RI\, 02912\, United States
CATEGORIES:International Archaeology Day
ATTACH;FMTTYPE=image/jpeg:https://www.archaeological.org/wp-content/uploads/2023/09/IAD2023.jpg
ORGANIZER;CN="Liza Davis":MAILTO:elizabeth_r_davis@brown.edu
GEO:41.826772;-71.402548
X-APPLE-STRUCTURED-LOCATION;VALUE=URI;X-ADDRESS=Rhode Island Hall 60 George Street Providence RI 02912 United States;X-APPLE-RADIUS=500;X-TITLE=60 George Street:geo:-71.402548,41.826772
END:VEVENT
BEGIN:VEVENT
DTSTART;TZID=America/New_York:20221022T110000
DTEND;TZID=America/New_York:20221022T150000
DTSTAMP:20260423T130725
CREATED:20220920T020136Z
LAST-MODIFIED:20220920T131048Z
UID:10006690-1666436400-1666450800@www.archaeological.org
SUMMARY:IAD: Community Archaeology Day in Providence\, RI
DESCRIPTION:To celebrate International Archaeology Day\, join the AIA Narragansett Society for a fun Saturday full of archaeological activities!\n– In Rhode Island Hall on the Main Green of Brown University\, come see ancient coins from Greece and Rome up close! Touch ancient animal bones! Examine and draw Persian and Roman ceramics\, prehistoric tools\, precious metals\, and other artifacts from thousands of years ago – coached by experts!  And talk with Brown’s archaeologists about their fieldwork all over the world! Family friendly\, free and open to the public.\n– On the grounds of Moses Brown School (at the corner of Hope St. and Lloyd Ave.)\, come be part of an active archaeological excavation! Students from ARCH 1900: The Archaeology of College Hill will be digging on the grounds of Moses Brown School (next to Brown’s athletic center)\, uncovering the foundations of a 19th century home and processing artifacts from that household. Stop by any time between 11:00 am and 3:00 pm to see what artifacts students are discovering or even try your hand at digging. Family friendly\, free and open to the public.
URL:https://www.archaeological.org/event/iad-community-archaeology-day-in-providence-ri/
LOCATION:Rhode Island Hall\, 60 George Street\, Providence\, RI\, 02912\, United States
CATEGORIES:International Archaeology Day
ORGANIZER;CN="Liza Davis":MAILTO:elizabeth_r_davis@brown.edu
GEO:41.826772;-71.402548
X-APPLE-STRUCTURED-LOCATION;VALUE=URI;X-ADDRESS=Rhode Island Hall 60 George Street Providence RI 02912 United States;X-APPLE-RADIUS=500;X-TITLE=60 George Street:geo:-71.402548,41.826772
END:VEVENT
END:VCALENDAR