BEGIN:VCALENDAR
VERSION:2.0
PRODID:-//Archaeological Institute of America - ECPv6.15.20//NONSGML v1.0//EN
CALSCALE:GREGORIAN
METHOD:PUBLISH
X-WR-CALNAME:Archaeological Institute of America
X-ORIGINAL-URL:https://www.archaeological.org
X-WR-CALDESC:Events for Archaeological Institute of America
REFRESH-INTERVAL;VALUE=DURATION:PT1H
X-Robots-Tag:noindex
X-PUBLISHED-TTL:PT1H
BEGIN:VTIMEZONE
TZID:America/Chicago
BEGIN:DAYLIGHT
TZOFFSETFROM:-0600
TZOFFSETTO:-0500
TZNAME:CDT
DTSTART:20200308T080000
END:DAYLIGHT
BEGIN:STANDARD
TZOFFSETFROM:-0500
TZOFFSETTO:-0600
TZNAME:CST
DTSTART:20201101T070000
END:STANDARD
BEGIN:DAYLIGHT
TZOFFSETFROM:-0600
TZOFFSETTO:-0500
TZNAME:CDT
DTSTART:20210314T080000
END:DAYLIGHT
BEGIN:STANDARD
TZOFFSETFROM:-0500
TZOFFSETTO:-0600
TZNAME:CST
DTSTART:20211107T070000
END:STANDARD
BEGIN:DAYLIGHT
TZOFFSETFROM:-0600
TZOFFSETTO:-0500
TZNAME:CDT
DTSTART:20220313T080000
END:DAYLIGHT
BEGIN:STANDARD
TZOFFSETFROM:-0500
TZOFFSETTO:-0600
TZNAME:CST
DTSTART:20221106T070000
END:STANDARD
END:VTIMEZONE
BEGIN:VEVENT
DTSTART;TZID=America/Chicago:20211010T140000
DTEND;TZID=America/Chicago:20211010T160000
DTSTAMP:20260424T120735
CREATED:20211004T194125Z
LAST-MODIFIED:20211004T194125Z
UID:10006132-1633874400-1633881600@www.archaeological.org
SUMMARY:Archaeology Movie Matinee
DESCRIPTION:Go deep into the jungle\, and into archaeology-themed fun\, at OKPAN’s “Jungle Cruise” Movie Matinee! OKPAN has rented an entire theater at Rodeo Cinema OKC (2221 Exchange Ave\, Oklahoma City\, OK 73108) so that members of the OKPAN community–that means you!–can enjoy this family-friendly film together before it’s available to the public on Disney Plus. Admission is $5 and includes snacks provided by OKPAN as well as take-home educational activities for children of all ages.
URL:https://www.archaeological.org/event/archaeology-movie-matinee/
LOCATION:Rodeo Cinema\, 2221 Exchange Ave\, Oklahoma City\, OK\, 73108\, United States
CATEGORIES:International Archaeology Day
ORGANIZER;CN="Kaylyn Moore":MAILTO:okarchaeology@gmail.com
GEO:35.4531615;-97.5539853
X-APPLE-STRUCTURED-LOCATION;VALUE=URI;X-ADDRESS=Rodeo Cinema 2221 Exchange Ave Oklahoma City OK 73108 United States;X-APPLE-RADIUS=500;X-TITLE=2221 Exchange Ave:geo:-97.5539853,35.4531615
END:VEVENT
END:VCALENDAR