BEGIN:VCALENDAR
VERSION:2.0
PRODID:-//Archaeological Institute of America - ECPv6.15.20//NONSGML v1.0//EN
CALSCALE:GREGORIAN
METHOD:PUBLISH
X-WR-CALNAME:Archaeological Institute of America
X-ORIGINAL-URL:https://www.archaeological.org
X-WR-CALDESC:Events for Archaeological Institute of America
REFRESH-INTERVAL;VALUE=DURATION:PT1H
X-Robots-Tag:noindex
X-PUBLISHED-TTL:PT1H
BEGIN:VTIMEZONE
TZID:America/New_York
BEGIN:DAYLIGHT
TZOFFSETFROM:-0500
TZOFFSETTO:-0400
TZNAME:EDT
DTSTART:20230312T070000
END:DAYLIGHT
BEGIN:STANDARD
TZOFFSETFROM:-0400
TZOFFSETTO:-0500
TZNAME:EST
DTSTART:20231105T060000
END:STANDARD
BEGIN:DAYLIGHT
TZOFFSETFROM:-0500
TZOFFSETTO:-0400
TZNAME:EDT
DTSTART:20240310T070000
END:DAYLIGHT
BEGIN:STANDARD
TZOFFSETFROM:-0400
TZOFFSETTO:-0500
TZNAME:EST
DTSTART:20241103T060000
END:STANDARD
BEGIN:DAYLIGHT
TZOFFSETFROM:-0500
TZOFFSETTO:-0400
TZNAME:EDT
DTSTART:20250309T070000
END:DAYLIGHT
BEGIN:STANDARD
TZOFFSETFROM:-0400
TZOFFSETTO:-0500
TZNAME:EST
DTSTART:20251102T060000
END:STANDARD
END:VTIMEZONE
BEGIN:VEVENT
DTSTART;TZID=America/New_York:20240319T193000
DTEND;TZID=America/New_York:20240319T193000
DTSTAMP:20260422T234109
CREATED:20230911T191959Z
LAST-MODIFIED:20240222T191025Z
UID:10006976-1710876600-1710876600@www.archaeological.org
SUMMARY:Why Underwater? The Importance of Submerged Landscape Research for Understanding Pleistocene Peoples in the New World
DESCRIPTION:Matson lecture
URL:https://www.archaeological.org/event/why-underwater-the-importance-of-submerged-landscape-research-for-understanding-pleistocene-peoples-in-the-new-world/
LOCATION:Room 117 (Semans Auditorium)\, Belk Visual Arts Center\, 315 N. Main St.\, Davidson\, NC\, 28036\, United States
CATEGORIES:AIA Lecture Program,Lecture
GEO:35.50168;-80.848106
X-APPLE-STRUCTURED-LOCATION;VALUE=URI;X-ADDRESS=Room 117 (Semans Auditorium) Belk Visual Arts Center 315 N. Main St. Davidson NC 28036 United States;X-APPLE-RADIUS=500;X-TITLE=315 N. Main St.:geo:-80.848106,35.50168
END:VEVENT
END:VCALENDAR