BEGIN:VCALENDAR
VERSION:2.0
PRODID:-//Archaeological Institute of America - ECPv6.15.20//NONSGML v1.0//EN
CALSCALE:GREGORIAN
METHOD:PUBLISH
X-ORIGINAL-URL:https://www.archaeological.org
X-WR-CALDESC:Events for Archaeological Institute of America
REFRESH-INTERVAL;VALUE=DURATION:PT1H
X-Robots-Tag:noindex
X-PUBLISHED-TTL:PT1H
BEGIN:VTIMEZONE
TZID:America/New_York
BEGIN:DAYLIGHT
TZOFFSETFROM:-0500
TZOFFSETTO:-0400
TZNAME:EDT
DTSTART:20220313T070000
END:DAYLIGHT
BEGIN:STANDARD
TZOFFSETFROM:-0400
TZOFFSETTO:-0500
TZNAME:EST
DTSTART:20221106T060000
END:STANDARD
BEGIN:DAYLIGHT
TZOFFSETFROM:-0500
TZOFFSETTO:-0400
TZNAME:EDT
DTSTART:20230312T070000
END:DAYLIGHT
BEGIN:STANDARD
TZOFFSETFROM:-0400
TZOFFSETTO:-0500
TZNAME:EST
DTSTART:20231105T060000
END:STANDARD
BEGIN:DAYLIGHT
TZOFFSETFROM:-0500
TZOFFSETTO:-0400
TZNAME:EDT
DTSTART:20240310T070000
END:DAYLIGHT
BEGIN:STANDARD
TZOFFSETFROM:-0400
TZOFFSETTO:-0500
TZNAME:EST
DTSTART:20241103T060000
END:STANDARD
BEGIN:DAYLIGHT
TZOFFSETFROM:-0500
TZOFFSETTO:-0400
TZNAME:EDT
DTSTART:20250309T070000
END:DAYLIGHT
BEGIN:STANDARD
TZOFFSETFROM:-0400
TZOFFSETTO:-0500
TZNAME:EST
DTSTART:20251102T060000
END:STANDARD
END:VTIMEZONE
BEGIN:VEVENT
DTSTART;TZID=America/New_York:20241123T103000
DTEND;TZID=America/New_York:20241123T120000
DTSTAMP:20260421T115053
CREATED:20241111T165405Z
LAST-MODIFIED:20241111T165405Z
UID:10007404-1732357800-1732363200@www.archaeological.org
SUMMARY:Serpent Mound - An Icon of Ancient Ohio
DESCRIPTION:The second presentation in the Archaeological Institute of America Dayton Society’s 2024-2025 Lecture Series presented by Dr. Brad Lepper\, Senior Archaeologist World Heritage Program\, Ohio History Connection \nSerpent Mound in Adams County\, Ohio is one of the largest and most spectacular earthen sculptures in the world. The age of the serpent is a subject of much current debate with some archaeologists arguing that it was built by the Adena culture at around 300 B.C.E. and others favoring the Fort Ancient culture at around 1100 C.E. Although much about Serpent Mound still is shrouded in mystery\, ancient cave paintings in Missouri may provide a key to unlocking some of its secrets. \nThis lecture is scheduled to take place in person in the Science Center Auditorium (SC 114) at The University of Dayton.\nFor a campus map with building and parking information visit https://udayton.edu/map/ \nThanks to the Archaeological Institute of America’s Lecture Program and its Dayton Society members this lecture is free and open to the public.
URL:https://www.archaeological.org/event/serpent-mound-an-icon-of-ancient-ohio/
LOCATION:Science Center Auditorium (SC 114) at The University of Dayton.\, 450 East Stewart St\, Dayton\, OH\, 45409\, United States
CATEGORIES:AIA Lecture Program,Lecture
ATTACH;FMTTYPE=image/jpeg:https://www.archaeological.org/wp-content/uploads/2024/11/lepper.jpg
GEO:39.7411935;-84.1762138
X-APPLE-STRUCTURED-LOCATION;VALUE=URI;X-ADDRESS=Science Center Auditorium (SC 114) at The University of Dayton. 450 East Stewart St Dayton OH 45409 United States;X-APPLE-RADIUS=500;X-TITLE=450 East Stewart St:geo:-84.1762138,39.7411935
END:VEVENT
BEGIN:VEVENT
DTSTART;TZID=America/New_York:20241012T103000
DTEND;TZID=America/New_York:20241012T120000
DTSTAMP:20260421T115053
CREATED:20240927T202308Z
LAST-MODIFIED:20240927T202308Z
UID:10007241-1728729000-1728734400@www.archaeological.org
SUMMARY:The World in Between: Egypt and Nubia in Africa. Telling the Story Through Museum Artifacts
DESCRIPTION:The first presentation in the Archaeological Institute of America Dayton Society’s 2024-2025 Lecture Series presented by Dr. Anastasia Dakouri-Hild\, Associate Professor of Aegean and Near Eastern Art and Archaeology at the University of Virginia. \nThis presentation discusses the complex interrelationship between ancient Egypt and Nubia based on a new planned exhibition slated to open at the University of Virginia. Beyond merely acknowledging the geographical position of ancient Egypt on the African continent\, the lecture examines the extent to which Egypt was of Africa culturally\, first by scrutinizing the categories of ‘Egypt’ and ‘Nubia’ and the connections between material and visual culture and identity. Subsequently it utilizes key artifacts in US collections as case studies to tell the story of this interaction anew\, fleshing out the rich and complex rapport between Egypt and Nubia over the course of several millennia\, from prehistory (ca. 3800 BCE) through pharaonic Meroe (350 CE). In the process\, the lecture also highlights the importance as well as the limitations of using visual culture to articulate/construct and understand/read ancient identities. \nThis lecture is scheduled to take place in person in the Science Center Auditorium (SC 114) at The University of Dayton. \nFor a campus map with building and parking information visit https://udayton.edu/map/ \nThanks to the Archaeological Institute of America’s Lecture Program and its Dayton Society members this lecture is free and open to the public.
URL:https://www.archaeological.org/event/the-world-in-between-egypt-and-nubia-in-africa-telling-the-story-through-museum-artifacts/
LOCATION:Science Center Auditorium (SC 114) at The University of Dayton.\, 450 East Stewart St\, Dayton\, OH\, 45409\, United States
CATEGORIES:AIA Lecture Program
ATTACH;FMTTYPE=image/jpeg:https://www.archaeological.org/wp-content/uploads/2024/09/M_ElRizeiquat.jpg
GEO:39.7411935;-84.1762138
X-APPLE-STRUCTURED-LOCATION;VALUE=URI;X-ADDRESS=Science Center Auditorium (SC 114) at The University of Dayton. 450 East Stewart St Dayton OH 45409 United States;X-APPLE-RADIUS=500;X-TITLE=450 East Stewart St:geo:-84.1762138,39.7411935
END:VEVENT
BEGIN:VEVENT
DTSTART;TZID=America/New_York:20231118T103000
DTEND;TZID=America/New_York:20231118T120000
DTSTAMP:20260421T115053
CREATED:20231106T141411Z
LAST-MODIFIED:20231106T141411Z
UID:10006595-1700303400-1700308800@www.archaeological.org
SUMMARY:The Ever Changing Face of Indigenous People
DESCRIPTION:The second presentation in the Archaeological Institute of America’s Dayton Society 2023-2024 Lecture Series presented by Guy Jones\, President of the Miami Valley Council for Native Americans.. \nThe Ever Changing Face of Indigenous People \nThe identity of Indigenous people has and will probably change again and again as new discoveries come to light. As the relationship of Native and Non-Native develops various perceptions become a part of the cultural\, historic and spiritual identity. The advancement of science has also impacted the narrative and validated traditional stories. As time moves on the various perceptions influence the narrative especially the experience of academics\, traditional values\, stories and the experience of all Natives. \nThis lecture is currently scheduled to take place in person in the Science Center Auditorium (SC 114) at The University of Dayton. \nFor those planning to attend in person please see UD’s COVID-19 Protocols page: https://udayton.edu/studev/ud-families/covid-19_protocols.php?fbclid=IwAR3v0CWid_X_ht37mjKItwIviUdVEL48hIeF_9cEfrb1BeS2uP9I7cjLiRY \nFor a campus map with building and parking information visit https://udayton.edu/map/ \nThanks to the Archaeological Institute of America’s Lecture Program and its Dayton Society members this lecture is free and open to the public.
URL:https://www.archaeological.org/event/the-ever-changing-face-of-indigenous-people/
LOCATION:Science Center Auditorium (SC 114) at The University of Dayton.\, 450 East Stewart St\, Dayton\, OH\, 45409\, United States
CATEGORIES:Lecture
ATTACH;FMTTYPE=image/jpeg:https://www.archaeological.org/wp-content/uploads/2023/11/FB_IMG_1668200610193-2.jpg
GEO:39.7411935;-84.1762138
X-APPLE-STRUCTURED-LOCATION;VALUE=URI;X-ADDRESS=Science Center Auditorium (SC 114) at The University of Dayton. 450 East Stewart St Dayton OH 45409 United States;X-APPLE-RADIUS=500;X-TITLE=450 East Stewart St:geo:-84.1762138,39.7411935
END:VEVENT
BEGIN:VEVENT
DTSTART;TZID=America/New_York:20230415T103000
DTEND;TZID=America/New_York:20230415T120000
DTSTAMP:20260421T115053
CREATED:20230324T161808Z
LAST-MODIFIED:20250814T221425Z
UID:10006835-1681554600-1681560000@www.archaeological.org
SUMMARY:Finding Lost\, Stolen\, and Kidnapped Children in Indian Boarding School Cemeteries Using Multi-Instrument Geophysical Survey: Chemawa Indian Boarding School
DESCRIPTION:The final presentation in the Archaeological Institute of America’s Dayton Society 2022-2023 Lecture Series presented by Northern Cheyenne Tribe citizen Marsha Small\, M.A. from Montana State University and Dr. Jarrod Burks from Ohio Valley Archaeology\, Inc. \nSince 2016 Marsha Small and Jarrod Burks have been conducting geophysical investigations to identify the locations of over 200 unmarked burials at the Chemawa Boarding School in Salem\, OR. The school originally opened in 1880 and today is one of four remaining off-reservation boarding schools funded and operated by the federal Bureau of Indian Education (BIE). From the 1880s to about 1940 students who died at the school were buried in the school cemetery. Disturbances in the cemetery had by 1960 removed any grave markers that were there and since then new markers were placed to create a memorial garden\, though those markers did not mark actual grave locations. \nThis lecture is currently scheduled to take place in person in the Science Center Auditorium (SC 114) at The University of Dayton. \nFor those planning to attend in person please see info on UD’s guidance on face coverings here: https://udayton.edu/coronavirus/frequently_asked_questions.php#face_coverings \nFor a campus map with building and parking information visit https://udayton.edu/map/ \nThanks to the Archaeological Institute of America’s Lecture Program and its Dayton Society members this lecture is free and open to the public.
URL:https://www.archaeological.org/event/finding-lost-stolen-and-kidnapped-children-in-indian-boarding-school-cemeteries-using-multi-instrument-geophysical-survey-chemawa-indian-boarding-school/
LOCATION:Science Center Auditorium (SC 114) at The University of Dayton.\, 450 East Stewart St\, Dayton\, OH\, 45409\, United States
CATEGORIES:Lecture
ATTACH;FMTTYPE=image/jpeg:https://www.archaeological.org/wp-content/uploads/2023/03/Chemawa.jpg
ORGANIZER;CN="Dorian Borbonus":MAILTO:aiadaytonsociety@gmail.com
GEO:39.7411935;-84.1762138
X-APPLE-STRUCTURED-LOCATION;VALUE=URI;X-ADDRESS=Science Center Auditorium (SC 114) at The University of Dayton. 450 East Stewart St Dayton OH 45409 United States;X-APPLE-RADIUS=500;X-TITLE=450 East Stewart St:geo:-84.1762138,39.7411935
END:VEVENT
END:VCALENDAR