BEGIN:VCALENDAR
VERSION:2.0
PRODID:-//Archaeological Institute of America - ECPv6.15.20//NONSGML v1.0//EN
CALSCALE:GREGORIAN
METHOD:PUBLISH
X-ORIGINAL-URL:https://www.archaeological.org
X-WR-CALDESC:Events for Archaeological Institute of America
REFRESH-INTERVAL;VALUE=DURATION:PT1H
X-Robots-Tag:noindex
X-PUBLISHED-TTL:PT1H
BEGIN:VTIMEZONE
TZID:America/Chicago
BEGIN:DAYLIGHT
TZOFFSETFROM:-0600
TZOFFSETTO:-0500
TZNAME:CDT
DTSTART:20230312T080000
END:DAYLIGHT
BEGIN:STANDARD
TZOFFSETFROM:-0500
TZOFFSETTO:-0600
TZNAME:CST
DTSTART:20231105T070000
END:STANDARD
BEGIN:DAYLIGHT
TZOFFSETFROM:-0600
TZOFFSETTO:-0500
TZNAME:CDT
DTSTART:20240310T080000
END:DAYLIGHT
BEGIN:STANDARD
TZOFFSETFROM:-0500
TZOFFSETTO:-0600
TZNAME:CST
DTSTART:20241103T070000
END:STANDARD
BEGIN:DAYLIGHT
TZOFFSETFROM:-0600
TZOFFSETTO:-0500
TZNAME:CDT
DTSTART:20250309T080000
END:DAYLIGHT
BEGIN:STANDARD
TZOFFSETFROM:-0500
TZOFFSETTO:-0600
TZNAME:CST
DTSTART:20251102T070000
END:STANDARD
END:VTIMEZONE
BEGIN:VEVENT
DTSTART;TZID=America/Chicago:20241028T173000
DTEND;TZID=America/Chicago:20241028T190000
DTSTAMP:20260421T072808
CREATED:20240911T191115Z
LAST-MODIFIED:20240911T191115Z
UID:10007199-1730136600-1730142000@www.archaeological.org
SUMMARY:AIA Talk by Dr. Kathleen Sheppard: How Winning a Woman of Study Can Be in Early American Egyptology
DESCRIPTION:As Amelia Edwards and Kate Bradbury finished their lecture tour of the United States in 1891\, the Brooklyn Daily Eagle wrote: “Miss Edwards’ visit will do a great deal of good in teaching the men of America how learned and how winning a woman of study can be and in teaching the women of America what an authority in art\, archaeology and history one of their sex can become” (March 19\, 1891). Over the next few decades\, two American women in particular seemed to take this to heart: Emma Andrews and Caroline Ransom Williams. Arguably influenced by the work of Edwards and Bradbury\, both Andrews and Ransom Williams built and managed collections of artifacts that tens of millions of museum-goers have visited over the last 125 years. This talk will detail their lives and demonstrate the impact of women’s work in American Egyptology.
URL:https://www.archaeological.org/event/aia-talk-by-dr-kathleen-sheppard-how-winning-a-woman-of-study-can-be-in-early-american-egyptology/
LOCATION:Swallow Hall 101\, University of Missouri\, 101 Swallow Hall\, University of Missouri\, Columbia\, MO\, 65211\, United States
CATEGORIES:Lecture
ATTACH;FMTTYPE=image/png:https://www.archaeological.org/wp-content/uploads/2024/09/2539198b-f0bb-4aa6-9f18-472e61b3b163_522x369.png
ORGANIZER;CN="Emma Buckingham":MAILTO:ebuckin@gmail.com
GEO:38.9464439;-92.3292216
X-APPLE-STRUCTURED-LOCATION;VALUE=URI;X-ADDRESS=Swallow Hall 101 University of Missouri 101 Swallow Hall University of Missouri Columbia MO 65211 United States;X-APPLE-RADIUS=500;X-TITLE=101 Swallow Hall\, University of Missouri:geo:-92.3292216,38.9464439
END:VEVENT
BEGIN:VEVENT
DTSTART;TZID=America/Chicago:20240321T173000
DTEND;TZID=America/Chicago:20240321T173000
DTSTAMP:20260421T072808
CREATED:20230818T204203Z
LAST-MODIFIED:20240307T195603Z
UID:10006934-1711042200-1711042200@www.archaeological.org
SUMMARY:Corpse Wine: The Fermentation of the Dead in Roman Sarcophagi
DESCRIPTION:
URL:https://www.archaeological.org/event/central-missouri-national-lecture-program-lecture/
LOCATION:Swallow Hall 101\, University of Missouri\, 101 Swallow Hall\, University of Missouri\, Columbia\, MO\, 65211\, United States
CATEGORIES:AIA Lecture Program,Lecture
ORGANIZER;CN="AIA":MAILTO:lectures@archaeological.org
GEO:38.9464439;-92.3292216
X-APPLE-STRUCTURED-LOCATION;VALUE=URI;X-ADDRESS=Swallow Hall 101 University of Missouri 101 Swallow Hall University of Missouri Columbia MO 65211 United States;X-APPLE-RADIUS=500;X-TITLE=101 Swallow Hall\, University of Missouri:geo:-92.3292216,38.9464439
END:VEVENT
END:VCALENDAR