BEGIN:VCALENDAR
VERSION:2.0
PRODID:-//Archaeological Institute of America - ECPv6.15.20//NONSGML v1.0//EN
CALSCALE:GREGORIAN
METHOD:PUBLISH
X-WR-CALNAME:Archaeological Institute of America
X-ORIGINAL-URL:https://www.archaeological.org
X-WR-CALDESC:Events for Archaeological Institute of America
REFRESH-INTERVAL;VALUE=DURATION:PT1H
X-Robots-Tag:noindex
X-PUBLISHED-TTL:PT1H
BEGIN:VTIMEZONE
TZID:America/New_York
BEGIN:DAYLIGHT
TZOFFSETFROM:-0500
TZOFFSETTO:-0400
TZNAME:EDT
DTSTART:20230312T070000
END:DAYLIGHT
BEGIN:STANDARD
TZOFFSETFROM:-0400
TZOFFSETTO:-0500
TZNAME:EST
DTSTART:20231105T060000
END:STANDARD
BEGIN:DAYLIGHT
TZOFFSETFROM:-0500
TZOFFSETTO:-0400
TZNAME:EDT
DTSTART:20240310T070000
END:DAYLIGHT
BEGIN:STANDARD
TZOFFSETFROM:-0400
TZOFFSETTO:-0500
TZNAME:EST
DTSTART:20241103T060000
END:STANDARD
BEGIN:DAYLIGHT
TZOFFSETFROM:-0500
TZOFFSETTO:-0400
TZNAME:EDT
DTSTART:20250309T070000
END:DAYLIGHT
BEGIN:STANDARD
TZOFFSETFROM:-0400
TZOFFSETTO:-0500
TZNAME:EST
DTSTART:20251102T060000
END:STANDARD
END:VTIMEZONE
BEGIN:VEVENT
DTSTART;TZID=America/New_York:20240327T170000
DTEND;TZID=America/New_York:20240327T170000
DTSTAMP:20260423T030111
CREATED:20230818T202733Z
LAST-MODIFIED:20240205T191949Z
UID:10006928-1711558800-1711558800@www.archaeological.org
SUMMARY:New Light On King Herod’s Harbor (Caesarea Maritima)
DESCRIPTION:McCann/Taggart lecture
URL:https://www.archaeological.org/event/western-new-york-society-national-lecture-program-lecture/
LOCATION:Goetz Library\, Academic Center 320\, University at Buffalo\, North Campus\, University at Buffalo\, North Campus\, Buffalo\, NY\, 14260\, United States
CATEGORIES:AIA Lecture Program,Lecture
ORGANIZER;CN="AIA":MAILTO:lectures@archaeological.org
GEO:42.8864468;-78.8783689
X-APPLE-STRUCTURED-LOCATION;VALUE=URI;X-ADDRESS=Goetz Library Academic Center 320 University at Buffalo North Campus University at Buffalo North Campus Buffalo NY 14260 United States;X-APPLE-RADIUS=500;X-TITLE=University at Buffalo\, North Campus:geo:-78.8783689,42.8864468
END:VEVENT
END:VCALENDAR