BEGIN:VCALENDAR
VERSION:2.0
PRODID:-//Archaeological Institute of America - ECPv6.15.20//NONSGML v1.0//EN
CALSCALE:GREGORIAN
METHOD:PUBLISH
X-ORIGINAL-URL:https://www.archaeological.org
X-WR-CALDESC:Events for Archaeological Institute of America
REFRESH-INTERVAL;VALUE=DURATION:PT1H
X-Robots-Tag:noindex
X-PUBLISHED-TTL:PT1H
BEGIN:VTIMEZONE
TZID:America/New_York
BEGIN:DAYLIGHT
TZOFFSETFROM:-0500
TZOFFSETTO:-0400
TZNAME:EDT
DTSTART:20220313T070000
END:DAYLIGHT
BEGIN:STANDARD
TZOFFSETFROM:-0400
TZOFFSETTO:-0500
TZNAME:EST
DTSTART:20221106T060000
END:STANDARD
BEGIN:DAYLIGHT
TZOFFSETFROM:-0500
TZOFFSETTO:-0400
TZNAME:EDT
DTSTART:20230312T070000
END:DAYLIGHT
BEGIN:STANDARD
TZOFFSETFROM:-0400
TZOFFSETTO:-0500
TZNAME:EST
DTSTART:20231105T060000
END:STANDARD
BEGIN:DAYLIGHT
TZOFFSETFROM:-0500
TZOFFSETTO:-0400
TZNAME:EDT
DTSTART:20240310T070000
END:DAYLIGHT
BEGIN:STANDARD
TZOFFSETFROM:-0400
TZOFFSETTO:-0500
TZNAME:EST
DTSTART:20241103T060000
END:STANDARD
END:VTIMEZONE
BEGIN:VEVENT
DTSTART;TZID=America/New_York:20231025T180000
DTEND;TZID=America/New_York:20231025T180000
DTSTAMP:20260423T015412
CREATED:20230818T173000Z
LAST-MODIFIED:20231004T180815Z
UID:10006312-1698256800-1698256800@www.archaeological.org
SUMMARY:Big Data\, Small Coins: The First Two Centuries Monetizing the Roman Frontier
DESCRIPTION:Metcalf lecture
URL:https://www.archaeological.org/event/big-data-small-coins-the-first-two-centuries-monetizing-the-roman-frontier/
LOCATION:Rittenberg Lounge\, Mather Hall\, Trinity College\, 300 Summit Street\, Hartford\, CT\, 06106\, United States
CATEGORIES:AIA Lecture Program,International Archaeology Day,Lecture
ORGANIZER;CN="AIA":MAILTO:lectures@archaeological.org
GEO:41.7658043;-72.6733723
X-APPLE-STRUCTURED-LOCATION;VALUE=URI;X-ADDRESS=Rittenberg Lounge Mather Hall Trinity College 300 Summit Street Hartford CT 06106 United States;X-APPLE-RADIUS=500;X-TITLE=300 Summit Street:geo:-72.6733723,41.7658043
END:VEVENT
END:VCALENDAR