BEGIN:VCALENDAR
VERSION:2.0
PRODID:-//Archaeological Institute of America - ECPv6.15.20//NONSGML v1.0//EN
CALSCALE:GREGORIAN
METHOD:PUBLISH
X-ORIGINAL-URL:https://www.archaeological.org
X-WR-CALDESC:Events for Archaeological Institute of America
REFRESH-INTERVAL;VALUE=DURATION:PT1H
X-Robots-Tag:noindex
X-PUBLISHED-TTL:PT1H
BEGIN:VTIMEZONE
TZID:America/New_York
BEGIN:DAYLIGHT
TZOFFSETFROM:-0500
TZOFFSETTO:-0400
TZNAME:EDT
DTSTART:20220313T070000
END:DAYLIGHT
BEGIN:STANDARD
TZOFFSETFROM:-0400
TZOFFSETTO:-0500
TZNAME:EST
DTSTART:20221106T060000
END:STANDARD
BEGIN:DAYLIGHT
TZOFFSETFROM:-0500
TZOFFSETTO:-0400
TZNAME:EDT
DTSTART:20230312T070000
END:DAYLIGHT
BEGIN:STANDARD
TZOFFSETFROM:-0400
TZOFFSETTO:-0500
TZNAME:EST
DTSTART:20231105T060000
END:STANDARD
BEGIN:DAYLIGHT
TZOFFSETFROM:-0500
TZOFFSETTO:-0400
TZNAME:EDT
DTSTART:20240310T070000
END:DAYLIGHT
BEGIN:STANDARD
TZOFFSETFROM:-0400
TZOFFSETTO:-0500
TZNAME:EST
DTSTART:20241103T060000
END:STANDARD
END:VTIMEZONE
BEGIN:VEVENT
DTSTART;TZID=America/New_York:20230328T170000
DTEND;TZID=America/New_York:20230328T170000
DTSTAMP:20260421T104448
CREATED:20220818T211411Z
LAST-MODIFIED:20230311T172708Z
UID:10005994-1680022800-1680022800@www.archaeological.org
SUMMARY:Digging Phoenicians: The Evidence from Tel Dor
DESCRIPTION:Kershaw Lecture
URL:https://www.archaeological.org/event/digging-phoenicians-the-evidence-from-tel-dor/
LOCATION:Carrefour des Arts et des Sciences\, C-2059\, Pavillon Lionel-Groulx\, 3150 rue Jean-Brillant\, Montreal\, Canada\, H3T 1N8
CATEGORIES:AIA Lecture Program,Lecture
ORGANIZER;CN="AIA":MAILTO:lectures@archaeological.org
GEO:45.4991188;-73.6180281
X-APPLE-STRUCTURED-LOCATION;VALUE=URI;X-ADDRESS=Carrefour des Arts et des Sciences C-2059 Pavillon Lionel-Groulx 3150 rue Jean-Brillant Montreal Canada H3T 1N8;X-APPLE-RADIUS=500;X-TITLE=3150 rue Jean-Brillant:geo:-73.6180281,45.4991188
END:VEVENT
END:VCALENDAR