BEGIN:VCALENDAR
VERSION:2.0
PRODID:-//Archaeological Institute of America - ECPv6.15.20//NONSGML v1.0//EN
CALSCALE:GREGORIAN
METHOD:PUBLISH
X-ORIGINAL-URL:https://www.archaeological.org
X-WR-CALDESC:Events for Archaeological Institute of America
REFRESH-INTERVAL;VALUE=DURATION:PT1H
X-Robots-Tag:noindex
X-PUBLISHED-TTL:PT1H
BEGIN:VTIMEZONE
TZID:America/Chicago
BEGIN:DAYLIGHT
TZOFFSETFROM:-0600
TZOFFSETTO:-0500
TZNAME:CDT
DTSTART:20220313T080000
END:DAYLIGHT
BEGIN:STANDARD
TZOFFSETFROM:-0500
TZOFFSETTO:-0600
TZNAME:CST
DTSTART:20221106T070000
END:STANDARD
BEGIN:DAYLIGHT
TZOFFSETFROM:-0600
TZOFFSETTO:-0500
TZNAME:CDT
DTSTART:20230312T080000
END:DAYLIGHT
BEGIN:STANDARD
TZOFFSETFROM:-0500
TZOFFSETTO:-0600
TZNAME:CST
DTSTART:20231105T070000
END:STANDARD
BEGIN:DAYLIGHT
TZOFFSETFROM:-0600
TZOFFSETTO:-0500
TZNAME:CDT
DTSTART:20240310T080000
END:DAYLIGHT
BEGIN:STANDARD
TZOFFSETFROM:-0500
TZOFFSETTO:-0600
TZNAME:CST
DTSTART:20241103T070000
END:STANDARD
END:VTIMEZONE
BEGIN:VEVENT
DTSTART;TZID=America/Chicago:20230114T130000
DTEND;TZID=America/Chicago:20230114T130000
DTSTAMP:20260421T091826
CREATED:20220922T143239Z
LAST-MODIFIED:20220922T143257Z
UID:10006084-1673701200-1673701200@www.archaeological.org
SUMMARY:Chemical Analysis and Dating of Ancient Rock Art
DESCRIPTION:Face-to-Face lecture: “Chemical Analysis and Dating of Ancient Rock Art” by Dr. Karen Steelman\, director of Shumla’s new C-14 plasma oxidation laboratory and a key member of the Shumla Research Leadership Team. [Location to be scheduled\, soon]\nMore events are listed here on the St. Louis Society webpage.
URL:https://www.archaeological.org/event/chemical-analysis-and-dating-of-ancient-rock-art/
LOCATION:TBA (St. Louis)\, St. Louis\, MO
CATEGORIES:Lecture
ATTACH;FMTTYPE=image/png:https://www.archaeological.org/wp-content/uploads/2022/09/St.-Louis-Jan-Event.png
ORGANIZER;CN="Michael Fuller":MAILTO:MFuller@stlcc.edu
GEO:38.6270025;-90.1994042
END:VEVENT
END:VCALENDAR