BEGIN:VCALENDAR
VERSION:2.0
PRODID:-//Archaeological Institute of America - ECPv6.15.20//NONSGML v1.0//EN
CALSCALE:GREGORIAN
METHOD:PUBLISH
X-WR-CALNAME:Archaeological Institute of America
X-ORIGINAL-URL:https://www.archaeological.org
X-WR-CALDESC:Events for Archaeological Institute of America
REFRESH-INTERVAL;VALUE=DURATION:PT1H
X-Robots-Tag:noindex
X-PUBLISHED-TTL:PT1H
BEGIN:VTIMEZONE
TZID:America/New_York
BEGIN:DAYLIGHT
TZOFFSETFROM:-0500
TZOFFSETTO:-0400
TZNAME:EDT
DTSTART:20210314T070000
END:DAYLIGHT
BEGIN:STANDARD
TZOFFSETFROM:-0400
TZOFFSETTO:-0500
TZNAME:EST
DTSTART:20211107T060000
END:STANDARD
BEGIN:DAYLIGHT
TZOFFSETFROM:-0500
TZOFFSETTO:-0400
TZNAME:EDT
DTSTART:20220313T070000
END:DAYLIGHT
BEGIN:STANDARD
TZOFFSETFROM:-0400
TZOFFSETTO:-0500
TZNAME:EST
DTSTART:20221106T060000
END:STANDARD
BEGIN:DAYLIGHT
TZOFFSETFROM:-0500
TZOFFSETTO:-0400
TZNAME:EDT
DTSTART:20230312T070000
END:DAYLIGHT
BEGIN:STANDARD
TZOFFSETFROM:-0400
TZOFFSETTO:-0500
TZNAME:EST
DTSTART:20231105T060000
END:STANDARD
BEGIN:DAYLIGHT
TZOFFSETFROM:-0500
TZOFFSETTO:-0400
TZNAME:EDT
DTSTART:20240310T070000
END:DAYLIGHT
BEGIN:STANDARD
TZOFFSETFROM:-0400
TZOFFSETTO:-0500
TZNAME:EST
DTSTART:20241103T060000
END:STANDARD
BEGIN:DAYLIGHT
TZOFFSETFROM:-0500
TZOFFSETTO:-0400
TZNAME:EDT
DTSTART:20250309T070000
END:DAYLIGHT
BEGIN:STANDARD
TZOFFSETFROM:-0400
TZOFFSETTO:-0500
TZNAME:EST
DTSTART:20251102T060000
END:STANDARD
END:VTIMEZONE
BEGIN:VEVENT
DTSTART;TZID=America/New_York:20240912T170000
DTEND;TZID=America/New_York:20240912T180000
DTSTAMP:20260423T032450
CREATED:20240903T205827Z
LAST-MODIFIED:20240904T133854Z
UID:10007168-1726160400-1726164000@www.archaeological.org
SUMMARY:Egyptian Conceptions and Manifestations of Borders and Cultural Hegemony in the Late Bronze Age Southern Levant
DESCRIPTION:Kershaw Lecture
URL:https://www.archaeological.org/event/egyptian-conceptions-and-manifestations-of-borders-and-cultural-hegemony-in-the-late-bronze-age-southern-levant/
LOCATION:Boswell Hall 220\, The College of William and Mary\, 100 Ukrop Way\, Williamsburg\, VA\, 23185\, United States
CATEGORIES:AIA Lecture Program
ORGANIZER;CN="Jessica Paga":MAILTO:jpaga@wm.edu
GEO:37.2707022;-76.7074571
X-APPLE-STRUCTURED-LOCATION;VALUE=URI;X-ADDRESS=Boswell Hall 220 The College of William and Mary 100 Ukrop Way Williamsburg VA 23185 United States;X-APPLE-RADIUS=500;X-TITLE=100 Ukrop Way:geo:-76.7074571,37.2707022
END:VEVENT
BEGIN:VEVENT
DTSTART;TZID=America/New_York:20231005T170000
DTEND;TZID=America/New_York:20231005T170000
DTSTAMP:20260423T032450
CREATED:20230818T164342Z
LAST-MODIFIED:20230919T191034Z
UID:10006896-1696525200-1696525200@www.archaeological.org
SUMMARY:Human-Animal-Divine Relationships in Cyprus: a Social Zooarchaeology of Sacrifice
DESCRIPTION:Kershaw lecture
URL:https://www.archaeological.org/event/human-animal-divine-relationships-in-cyprus-a-social-zooarchaeology-of-sacrifice/
LOCATION:Boswell Hall 220\, The College of William and Mary\, 100 Ukrop Way\, Williamsburg\, VA\, 23185\, United States
CATEGORIES:AIA Lecture Program,International Archaeology Day,Lecture
ORGANIZER;CN="AIA":MAILTO:lectures@archaeological.org
GEO:37.2707022;-76.7074571
X-APPLE-STRUCTURED-LOCATION;VALUE=URI;X-ADDRESS=Boswell Hall 220 The College of William and Mary 100 Ukrop Way Williamsburg VA 23185 United States;X-APPLE-RADIUS=500;X-TITLE=100 Ukrop Way:geo:-76.7074571,37.2707022
END:VEVENT
BEGIN:VEVENT
DTSTART;TZID=America/New_York:20221026T170000
DTEND;TZID=America/New_York:20221026T170000
DTSTAMP:20260423T032450
CREATED:20220818T211440Z
LAST-MODIFIED:20220818T212913Z
UID:10006005-1666803600-1666803600@www.archaeological.org
SUMMARY:Climate Change in the Arctic: It’s Happening Fast\, and It’s Happened Before
DESCRIPTION:Joukowsky Lecture
URL:https://www.archaeological.org/event/climate-change-in-the-arctic-its-happening-fast-and-its-happened-before-2/
LOCATION:Boswell Hall 220\, The College of William and Mary\, 100 Ukrop Way\, Williamsburg\, VA\, 23185\, United States
ORGANIZER;CN="AIA":MAILTO:lectures@archaeological.org
GEO:37.2707022;-76.7074571
X-APPLE-STRUCTURED-LOCATION;VALUE=URI;X-ADDRESS=Boswell Hall 220 The College of William and Mary 100 Ukrop Way Williamsburg VA 23185 United States;X-APPLE-RADIUS=500;X-TITLE=100 Ukrop Way:geo:-76.7074571,37.2707022
END:VEVENT
END:VCALENDAR