BEGIN:VCALENDAR
VERSION:2.0
PRODID:-//Archaeological Institute of America - ECPv6.15.20//NONSGML v1.0//EN
CALSCALE:GREGORIAN
METHOD:PUBLISH
X-ORIGINAL-URL:https://www.archaeological.org
X-WR-CALDESC:Events for Archaeological Institute of America
REFRESH-INTERVAL;VALUE=DURATION:PT1H
X-Robots-Tag:noindex
X-PUBLISHED-TTL:PT1H
BEGIN:VTIMEZONE
TZID:America/New_York
BEGIN:DAYLIGHT
TZOFFSETFROM:-0500
TZOFFSETTO:-0400
TZNAME:EDT
DTSTART:20230312T070000
END:DAYLIGHT
BEGIN:STANDARD
TZOFFSETFROM:-0400
TZOFFSETTO:-0500
TZNAME:EST
DTSTART:20231105T060000
END:STANDARD
BEGIN:DAYLIGHT
TZOFFSETFROM:-0500
TZOFFSETTO:-0400
TZNAME:EDT
DTSTART:20240310T070000
END:DAYLIGHT
BEGIN:STANDARD
TZOFFSETFROM:-0400
TZOFFSETTO:-0500
TZNAME:EST
DTSTART:20241103T060000
END:STANDARD
BEGIN:DAYLIGHT
TZOFFSETFROM:-0500
TZOFFSETTO:-0400
TZNAME:EDT
DTSTART:20250309T070000
END:DAYLIGHT
BEGIN:STANDARD
TZOFFSETFROM:-0400
TZOFFSETTO:-0500
TZNAME:EST
DTSTART:20251102T060000
END:STANDARD
END:VTIMEZONE
BEGIN:VEVENT
DTSTART;TZID=America/New_York:20240418T173000
DTEND;TZID=America/New_York:20240418T183000
DTSTAMP:20260423T131521
CREATED:20240320T172904Z
LAST-MODIFIED:20240320T172904Z
UID:10006632-1713461400-1713465000@www.archaeological.org
SUMMARY:“We Are Shaped by Space”: Some Archaeological Perspectives of the Materiality of Black Life
DESCRIPTION:Ellen and Charles S. La Follette Lecture \nFor Zoom attendance\, please register here: https://tinyurl.com/2xcu7ntk \nDr. Whitney Battle-Baptiste (UMass Amherst) will present a hybrid lecture on the topic “’We Are Shaped by Space’: Some Archaeological Perspectives of the Materiality of Black Life.”
URL:https://www.archaeological.org/event/we-are-shaped-by-space-some-archaeological-perspectives-of-the-materiality-of-black-life/
LOCATION:UMass Amherst\, Herter Hall 227\, 161 Presidents Drive\, Amherst\, MA\, 01003\, United States
CATEGORIES:Lecture
ATTACH;FMTTYPE=image/jpeg:https://www.archaeological.org/wp-content/uploads/2024/03/LaFollette2024_BattleBaptiste.jpg
ORGANIZER;CN="Rebecca Seifried":MAILTO:rseifried@umass.edu
GEO:42.3874648;-72.5271765
X-APPLE-STRUCTURED-LOCATION;VALUE=URI;X-ADDRESS=UMass Amherst Herter Hall 227 161 Presidents Drive Amherst MA 01003 United States;X-APPLE-RADIUS=500;X-TITLE=161 Presidents Drive:geo:-72.5271765,42.3874648
END:VEVENT
END:VCALENDAR