BEGIN:VCALENDAR
VERSION:2.0
PRODID:-//Archaeological Institute of America - ECPv6.15.20//NONSGML v1.0//EN
CALSCALE:GREGORIAN
METHOD:PUBLISH
X-ORIGINAL-URL:https://www.archaeological.org
X-WR-CALDESC:Events for Archaeological Institute of America
REFRESH-INTERVAL;VALUE=DURATION:PT1H
X-Robots-Tag:noindex
X-PUBLISHED-TTL:PT1H
BEGIN:VTIMEZONE
TZID:America/New_York
BEGIN:DAYLIGHT
TZOFFSETFROM:-0500
TZOFFSETTO:-0400
TZNAME:EDT
DTSTART:20210314T070000
END:DAYLIGHT
BEGIN:STANDARD
TZOFFSETFROM:-0400
TZOFFSETTO:-0500
TZNAME:EST
DTSTART:20211107T060000
END:STANDARD
BEGIN:DAYLIGHT
TZOFFSETFROM:-0500
TZOFFSETTO:-0400
TZNAME:EDT
DTSTART:20220313T070000
END:DAYLIGHT
BEGIN:STANDARD
TZOFFSETFROM:-0400
TZOFFSETTO:-0500
TZNAME:EST
DTSTART:20221106T060000
END:STANDARD
BEGIN:DAYLIGHT
TZOFFSETFROM:-0500
TZOFFSETTO:-0400
TZNAME:EDT
DTSTART:20230312T070000
END:DAYLIGHT
BEGIN:STANDARD
TZOFFSETFROM:-0400
TZOFFSETTO:-0500
TZNAME:EST
DTSTART:20231105T060000
END:STANDARD
BEGIN:DAYLIGHT
TZOFFSETFROM:-0500
TZOFFSETTO:-0400
TZNAME:EDT
DTSTART:20240310T070000
END:DAYLIGHT
BEGIN:STANDARD
TZOFFSETFROM:-0400
TZOFFSETTO:-0500
TZNAME:EST
DTSTART:20241103T060000
END:STANDARD
BEGIN:DAYLIGHT
TZOFFSETFROM:-0500
TZOFFSETTO:-0400
TZNAME:EDT
DTSTART:20250309T070000
END:DAYLIGHT
BEGIN:STANDARD
TZOFFSETFROM:-0400
TZOFFSETTO:-0500
TZNAME:EST
DTSTART:20251102T060000
END:STANDARD
BEGIN:DAYLIGHT
TZOFFSETFROM:-0500
TZOFFSETTO:-0400
TZNAME:EDT
DTSTART:20260308T070000
END:DAYLIGHT
BEGIN:STANDARD
TZOFFSETFROM:-0400
TZOFFSETTO:-0500
TZNAME:EST
DTSTART:20261101T060000
END:STANDARD
END:VTIMEZONE
BEGIN:VEVENT
DTSTART;TZID=America/New_York:20250220T173000
DTEND;TZID=America/New_York:20250220T190000
DTSTAMP:20260421T131319
CREATED:20250129T141652Z
LAST-MODIFIED:20250129T141652Z
UID:10007509-1740072600-1740078000@www.archaeological.org
SUMMARY:Culture of the Tunica Biloxi
DESCRIPTION:Cultural Representative of the Tunica/Biloxi Tribe in Marksville\, Louisiana\, Ryan Lopez\, will speak on the Cultural of the Tunica/Biloxi Tribe.
URL:https://www.archaeological.org/event/culture-of-the-tunica-biloxi/
LOCATION:Union Museum of History and Art\, 211 N. Main Street\, Farmerville\, LA\, 71241\, United States
ATTACH;FMTTYPE=image/jpeg:https://www.archaeological.org/wp-content/uploads/2025/01/feb-20-2025-tunica-biloxi-.jpeg
ORGANIZER;CN="Tom Fields":MAILTO:nlaarcheology@yahoo.com
GEO:32.7751599;-92.4056076
X-APPLE-STRUCTURED-LOCATION;VALUE=URI;X-ADDRESS=Union Museum of History and Art 211 N. Main Street Farmerville LA 71241 United States;X-APPLE-RADIUS=500;X-TITLE=211 N. Main Street:geo:-92.4056076,32.7751599
END:VEVENT
BEGIN:VEVENT
DTSTART;TZID=America/New_York:20221018T150000
DTEND;TZID=America/New_York:20221018T183000
DTSTAMP:20260421T131319
CREATED:20220930T153559Z
LAST-MODIFIED:20220930T153559Z
UID:10006710-1666105200-1666117800@www.archaeological.org
SUMMARY:Presentation & Artifact Identification at Union Museum of History and Art
DESCRIPTION:Tuesday\, October 18\, 3-6:30pm\n$ = Free \nWayne Abercrombie\, retired contract archaeologist\, will be available from 3-5pm to look at artifacts that people bring in for identification. At 5pm Wayne will present a lecture on his archeological work in Crete. Hosted by the Archaeology Research Center at the Union Museum of History and Art. \nFor more information\, visit:\nhttps://www.northlouisianaarchaeology.org
URL:https://www.archaeological.org/event/presentation-artifact-identification-at-union-museum-of-history-and-art/
LOCATION:Union Museum of History and Art\, 211 N. Main Street\, Farmerville\, LA\, 71241\, United States
CATEGORIES:International Archaeology Day
ORGANIZER;CN="Maegan Smith":MAILTO:archaeology@crt.la.gov
GEO:32.7751599;-92.4056076
X-APPLE-STRUCTURED-LOCATION;VALUE=URI;X-ADDRESS=Union Museum of History and Art 211 N. Main Street Farmerville LA 71241 United States;X-APPLE-RADIUS=500;X-TITLE=211 N. Main Street:geo:-92.4056076,32.7751599
END:VEVENT
END:VCALENDAR