BEGIN:VCALENDAR
VERSION:2.0
PRODID:-//Archaeological Institute of America - ECPv6.15.20//NONSGML v1.0//EN
CALSCALE:GREGORIAN
METHOD:PUBLISH
X-ORIGINAL-URL:https://www.archaeological.org
X-WR-CALDESC:Events for Archaeological Institute of America
REFRESH-INTERVAL;VALUE=DURATION:PT1H
X-Robots-Tag:noindex
X-PUBLISHED-TTL:PT1H
BEGIN:VTIMEZONE
TZID:America/New_York
BEGIN:DAYLIGHT
TZOFFSETFROM:-0500
TZOFFSETTO:-0400
TZNAME:EDT
DTSTART:20210314T070000
END:DAYLIGHT
BEGIN:STANDARD
TZOFFSETFROM:-0400
TZOFFSETTO:-0500
TZNAME:EST
DTSTART:20211107T060000
END:STANDARD
BEGIN:DAYLIGHT
TZOFFSETFROM:-0500
TZOFFSETTO:-0400
TZNAME:EDT
DTSTART:20220313T070000
END:DAYLIGHT
BEGIN:STANDARD
TZOFFSETFROM:-0400
TZOFFSETTO:-0500
TZNAME:EST
DTSTART:20221106T060000
END:STANDARD
BEGIN:DAYLIGHT
TZOFFSETFROM:-0500
TZOFFSETTO:-0400
TZNAME:EDT
DTSTART:20230312T070000
END:DAYLIGHT
BEGIN:STANDARD
TZOFFSETFROM:-0400
TZOFFSETTO:-0500
TZNAME:EST
DTSTART:20231105T060000
END:STANDARD
END:VTIMEZONE
BEGIN:VEVENT
DTSTART;TZID=America/New_York:20221006T183000
DTEND;TZID=America/New_York:20221006T183000
DTSTAMP:20260421T112145
CREATED:20220818T211332Z
LAST-MODIFIED:20220921T191215Z
UID:10006413-1665081000-1665081000@www.archaeological.org
SUMMARY:Plumbing the Depths: Exploring Violence and Warfare in Humanity’s Past
DESCRIPTION:Joukowsky Lecture \nTo register to attend via Zoom\, email edumser@uakron.edu for the Zoom link.
URL:https://www.archaeological.org/event/plumbing-the-depths-exploring-violence-and-warfare-in-humanitys-past-3/
LOCATION:University of Akron\, Leigh Hall 207\, 150 East Exchange Street\, Akron\, OH\, 44325\, United States
CATEGORIES:AIA Lecture Program,Lecture
ORGANIZER;CN="AIA":MAILTO:lectures@archaeological.org
GEO:41.0746997;-81.5173981
X-APPLE-STRUCTURED-LOCATION;VALUE=URI;X-ADDRESS=University of Akron Leigh Hall 207 150 East Exchange Street Akron OH 44325 United States;X-APPLE-RADIUS=500;X-TITLE=150 East Exchange Street:geo:-81.5173981,41.0746997
END:VEVENT
END:VCALENDAR